Workbook

Sheet Forecast
A1: 13-Week Cash Flow Forecast
A2: Inputs are on the Inputs sheet. Weeks run Monday to Sunday; each payment lands in the week of its date. Payroll taxes are paid in the pay-run week (simplification).
A4: Week | B4: 1 | C4: 2 | D4: 3 | E4: 4 | F4: 5 | G4: 6 | H4: 7 | I4: 8 | J4: 9 | K4: 10 | L4: 11 | M4: 12 | N4: 13 | O4: 13 weeks
A5: Week starts | B5: =Inputs!$B$5+7*(B4-1) | C5: =Inputs!$B$5+7*(C4-1) | D5: =Inputs!$B$5+7*(D4-1) | E5: =Inputs!$B$5+7*(E4-1) | F5: =Inputs!$B$5+7*(F4-1) | G5: =Inputs!$B$5+7*(G4-1) | H5: =Inputs!$B$5+7*(H4-1) | I5: =Inputs!$B$5+7*(I4-1) | ... N5: =Inputs!$B$5+7*(N4-1)
A6: Week ends | B6: =B5+6 | C6: =C5+6 | D6: =D5+6 | E6: =E5+6 | F6: =F5+6 | G6: =G5+6 | H6: =H5+6 | I6: =I5+6 | ... N6: =N5+6
A7: Opening cash | B7: =Inputs!$B$6 | C7: =B23 | D7: =C23 | E7: =D23 | F7: =E23 | G7: =F23 | H7: =G23 | I7: =H23 | J7: =I23 | ... N7: =M23 | O7: =Inputs!$B$6
A8: Receipts
A9: Subscriptions paid by card | B9: =SUMIFS(Schedule!$F$5:$F$17,Schedule!$E$5:$E$17,">="&B$5,Schedule!$E$5:$E$17,"<="&B$6) | C9: =SUMIFS(Schedule!$F$5:$F$17,Schedule!$E$5:$E$17,">="&C$5,Schedule!$E$5:$E$17,"<="&C$6) | D9: =SUMIFS(Schedule!$F$5:$F$17,Schedule!$E$5:$E$17,">="&D$5,Schedule!$E$5:$E$17,"<="&D$6) | E9: =SUMIFS(Schedule!$F$5:$F$17,Schedule!$E$5:$E$17,">="&E$5,Schedule!$E$5:$E$17,"<="&E$6) | F9: =SUMIFS(Schedule!$F$5:$F$17,Schedule!$E$5:$E$17,">="&F$5,Schedule!$E$5:$E$17,"<="&F$6) | G9: =SUMIFS(Schedule!$F$5:$F$17,Schedule!$E$5:$E$17,">="&G$5,Schedule!$E$5:$E$17,"<="&G$6) | H9: =SUMIFS(Schedule!$F$5:$F$17,Schedule!$E$5:$E$17,">="&H$5,Schedule!$E$5:$E$17,"<="&H$6) | I9: =SUMIFS(Schedule!$F$5:$F$17,Schedule!$E$5:$E$17,">="&I$5,Schedule!$E$5:$E$17,"<="&I$6) | ... N9: =SUMIFS(Schedule!$F$5:$F$17,Schedule!$E$5:$E$17,">="&N$5,Schedule!$E$5:$E$17,"<="&N$6) | O9: =SUM(B9:N9)
A10: Subscriptions paid on invoice | B10: =SUMIFS(Schedule!$H$5:$H$17,Schedule!$G$5:$G$17,">="&B$5,Schedule!$G$5:$G$17,"<="&B$6) | C10: =SUMIFS(Schedule!$H$5:$H$17,Schedule!$G$5:$G$17,">="&C$5,Schedule!$G$5:$G$17,"<="&C$6) | D10: =SUMIFS(Schedule!$H$5:$H$17,Schedule!$G$5:$G$17,">="&D$5,Schedule!$G$5:$G$17,"<="&D$6) | E10: =SUMIFS(Schedule!$H$5:$H$17,Schedule!$G$5:$G$17,">="&E$5,Schedule!$G$5:$G$17,"<="&E$6) | F10: =SUMIFS(Schedule!$H$5:$H$17,Schedule!$G$5:$G$17,">="&F$5,Schedule!$G$5:$G$17,"<="&F$6) | G10: =SUMIFS(Schedule!$H$5:$H$17,Schedule!$G$5:$G$17,">="&G$5,Schedule!$G$5:$G$17,"<="&G$6) | H10: =SUMIFS(Schedule!$H$5:$H$17,Schedule!$G$5:$G$17,">="&H$5,Schedule!$G$5:$G$17,"<="&H$6) | I10: =SUMIFS(Schedule!$H$5:$H$17,Schedule!$G$5:$G$17,">="&I$5,Schedule!$G$5:$G$17,"<="&I$6) | ... N10: =SUMIFS(Schedule!$H$5:$H$17,Schedule!$G$5:$G$17,">="&N$5,Schedule!$G$5:$G$17,"<="&N$6) | O10: =SUM(B10:N10)
A11: Annual invoices | B11: =SUMIFS(Inputs!$B$24:$B$31,Inputs!$E$24:$E$31,">="&B$5,Inputs!$E$24:$E$31,"<="&B$6) | C11: =SUMIFS(Inputs!$B$24:$B$31,Inputs!$E$24:$E$31,">="&C$5,Inputs!$E$24:$E$31,"<="&C$6) | D11: =SUMIFS(Inputs!$B$24:$B$31,Inputs!$E$24:$E$31,">="&D$5,Inputs!$E$24:$E$31,"<="&D$6) | E11: =SUMIFS(Inputs!$B$24:$B$31,Inputs!$E$24:$E$31,">="&E$5,Inputs!$E$24:$E$31,"<="&E$6) | F11: =SUMIFS(Inputs!$B$24:$B$31,Inputs!$E$24:$E$31,">="&F$5,Inputs!$E$24:$E$31,"<="&F$6) | G11: =SUMIFS(Inputs!$B$24:$B$31,Inputs!$E$24:$E$31,">="&G$5,Inputs!$E$24:$E$31,"<="&G$6) | H11: =SUMIFS(Inputs!$B$24:$B$31,Inputs!$E$24:$E$31,">="&H$5,Inputs!$E$24:$E$31,"<="&H$6) | I11: =SUMIFS(Inputs!$B$24:$B$31,Inputs!$E$24:$E$31,">="&I$5,Inputs!$E$24:$E$31,"<="&I$6) | ... N11: =SUMIFS(Inputs!$B$24:$B$31,Inputs!$E$24:$E$31,">="&N$5,Inputs!$E$24:$E$31,"<="&N$6) | O11: =SUM(B11:N11)
A12: Other receipts | B12: =SUMIF(Inputs!$C$35:$C$40,B$4,Inputs!$B$35:$B$40) | C12: =SUMIF(Inputs!$C$35:$C$40,C$4,Inputs!$B$35:$B$40) | D12: =SUMIF(Inputs!$C$35:$C$40,D$4,Inputs!$B$35:$B$40) | E12: =SUMIF(Inputs!$C$35:$C$40,E$4,Inputs!$B$35:$B$40) | F12: =SUMIF(Inputs!$C$35:$C$40,F$4,Inputs!$B$35:$B$40) | G12: =SUMIF(Inputs!$C$35:$C$40,G$4,Inputs!$B$35:$B$40) | H12: =SUMIF(Inputs!$C$35:$C$40,H$4,Inputs!$B$35:$B$40) | I12: =SUMIF(Inputs!$C$35:$C$40,I$4,Inputs!$B$35:$B$40) | ... N12: =SUMIF(Inputs!$C$35:$C$40,N$4,Inputs!$B$35:$B$40) | O12: =SUM(B12:N12)
A13: Total receipts | B13: =SUM(B9:B12) | C13: =SUM(C9:C12) | D13: =SUM(D9:D12) | E13: =SUM(E9:E12) | F13: =SUM(F9:F12) | G13: =SUM(G9:G12) | H13: =SUM(H9:H12) | I13: =SUM(I9:I12) | ... N13: =SUM(N9:N12) | O13: =SUM(B13:N13)
A14: Disbursements
A15: Payroll and payroll taxes | B15: =SUMIFS(Schedule!$K$5:$K$17,Schedule!$J$5:$J$17,">="&B$5,Schedule!$J$5:$J$17,"<="&B$6)+SUMIFS(Schedule!$M$5:$M$17,Schedule!$L$5:$L$17,">="&B$5,Schedule!$L$5:$L$17,"<="&B$6)+SUMIFS(Schedule!$S$5:$S$17,Schedule!$R$5:$R$17,">="&B$5,Schedule!$R$5:$R$17,"<="&B$6) | C15: =SUMIFS(Schedule!$K$5:$K$17,Schedule!$J$5:$J$17,">="&C$5,Schedule!$J$5:$J$17,"<="&C$6)+SUMIFS(Schedule!$M$5:$M$17,Schedule!$L$5:$L$17,">="&C$5,Schedule!$L$5:$L$17,"<="&C$6)+SUMIFS(Schedule!$S$5:$S$17,Schedule!$R$5:$R$17,">="&C$5,Schedule!$R$5:$R$17,"<="&C$6) | D15: =SUMIFS(Schedule!$K$5:$K$17,Schedule!$J$5:$J$17,">="&D$5,Schedule!$J$5:$J$17,"<="&D$6)+SUMIFS(Schedule!$M$5:$M$17,Schedule!$L$5:$L$17,">="&D$5,Schedule!$L$5:$L$17,"<="&D$6)+SUMIFS(Schedule!$S$5:$S$17,Schedule!$R$5:$R$17,">="&D$5,Schedule!$R$5:$R$17,"<="&D$6) | E15: =SUMIFS(Schedule!$K$5:$K$17,Schedule!$J$5:$J$17,">="&E$5,Schedule!$J$5:$J$17,"<="&E$6)+SUMIFS(Schedule!$M$5:$M$17,Schedule!$L$5:$L$17,">="&E$5,Schedule!$L$5:$L$17,"<="&E$6)+SUMIFS(Schedule!$S$5:$S$17,Schedule!$R$5:$R$17,">="&E$5,Schedule!$R$5:$R$17,"<="&E$6) | F15: =SUMIFS(Schedule!$K$5:$K$17,Schedule!$J$5:$J$17,">="&F$5,Schedule!$J$5:$J$17,"<="&F$6)+SUMIFS(Schedule!$M$5:$M$17,Schedule!$L$5:$L$17,">="&F$5,Schedule!$L$5:$L$17,"<="&F$6)+SUMIFS(Schedule!$S$5:$S$17,Schedule!$R$5:$R$17,">="&F$5,Schedule!$R$5:$R$17,"<="&F$6) | G15: =SUMIFS(Schedule!$K$5:$K$17,Schedule!$J$5:$J$17,">="&G$5,Schedule!$J$5:$J$17,"<="&G$6)+SUMIFS(Schedule!$M$5:$M$17,Schedule!$L$5:$L$17,">="&G$5,Schedule!$L$5:$L$17,"<="&G$6)+SUMIFS(Schedule!$S$5:$S$17,Schedule!$R$5:$R$17,">="&G$5,Schedule!$R$5:$R$17,"<="&G$6) | H15: =SUMIFS(Schedule!$K$5:$K$17,Schedule!$J$5:$J$17,">="&H$5,Schedule!$J$5:$J$17,"<="&H$6)+SUMIFS(Schedule!$M$5:$M$17,Schedule!$L$5:$L$17,">="&H$5,Schedule!$L$5:$L$17,"<="&H$6)+SUMIFS(Schedule!$S$5:$S$17,Schedule!$R$5:$R$17,">="&H$5,Schedule!$R$5:$R$17,"<="&H$6) | I15: =SUMIFS(Schedule!$K$5:$K$17,Schedule!$J$5:$J$17,">="&I$5,Schedule!$J$5:$J$17,"<="&I$6)+SUMIFS(Schedule!$M$5:$M$17,Schedule!$L$5:$L$17,">="&I$5,Schedule!$L$5:$L$17,"<="&I$6)+SUMIFS(Schedule!$S$5:$S$17,Schedule!$R$5:$R$17,">="&I$5,Schedule!$R$5:$R$17,"<="&I$6) | ... N15: =SUMIFS(Schedule!$K$5:$K$17,Schedule!$J$5:$J$17,">="&N$5,Schedule!$J$5:$J$17,"<="&N$6)+SUMIFS(Schedule!$M$5:$M$17,Schedule!$L$5:$L$17,">="&N$5,Schedule!$L$5:$L$17,"<="&N$6)+SUMIFS(Schedule!$S$5:$S$17,Schedule!$R$5:$R$17,">="&N$5,Schedule!$R$5:$R$17,"<="&N$6) | O15: =SUM(B15:N15)
A16: Rent | B16: =SUMIFS(Schedule!$O$5:$O$17,Schedule!$N$5:$N$17,">="&B$5,Schedule!$N$5:$N$17,"<="&B$6) | C16: =SUMIFS(Schedule!$O$5:$O$17,Schedule!$N$5:$N$17,">="&C$5,Schedule!$N$5:$N$17,"<="&C$6) | D16: =SUMIFS(Schedule!$O$5:$O$17,Schedule!$N$5:$N$17,">="&D$5,Schedule!$N$5:$N$17,"<="&D$6) | E16: =SUMIFS(Schedule!$O$5:$O$17,Schedule!$N$5:$N$17,">="&E$5,Schedule!$N$5:$N$17,"<="&E$6) | F16: =SUMIFS(Schedule!$O$5:$O$17,Schedule!$N$5:$N$17,">="&F$5,Schedule!$N$5:$N$17,"<="&F$6) | G16: =SUMIFS(Schedule!$O$5:$O$17,Schedule!$N$5:$N$17,">="&G$5,Schedule!$N$5:$N$17,"<="&G$6) | H16: =SUMIFS(Schedule!$O$5:$O$17,Schedule!$N$5:$N$17,">="&H$5,Schedule!$N$5:$N$17,"<="&H$6) | I16: =SUMIFS(Schedule!$O$5:$O$17,Schedule!$N$5:$N$17,">="&I$5,Schedule!$N$5:$N$17,"<="&I$6) | ... N16: =SUMIFS(Schedule!$O$5:$O$17,Schedule!$N$5:$N$17,">="&N$5,Schedule!$N$5:$N$17,"<="&N$6) | O16: =SUM(B16:N16)
A17: Software | B17: =SUMIFS(Schedule!$V$5:$V$17,Schedule!$U$5:$U$17,">="&B$5,Schedule!$U$5:$U$17,"<="&B$6) | C17: =SUMIFS(Schedule!$V$5:$V$17,Schedule!$U$5:$U$17,">="&C$5,Schedule!$U$5:$U$17,"<="&C$6) | D17: =SUMIFS(Schedule!$V$5:$V$17,Schedule!$U$5:$U$17,">="&D$5,Schedule!$U$5:$U$17,"<="&D$6) | E17: =SUMIFS(Schedule!$V$5:$V$17,Schedule!$U$5:$U$17,">="&E$5,Schedule!$U$5:$U$17,"<="&E$6) | F17: =SUMIFS(Schedule!$V$5:$V$17,Schedule!$U$5:$U$17,">="&F$5,Schedule!$U$5:$U$17,"<="&F$6) | G17: =SUMIFS(Schedule!$V$5:$V$17,Schedule!$U$5:$U$17,">="&G$5,Schedule!$U$5:$U$17,"<="&G$6) | H17: =SUMIFS(Schedule!$V$5:$V$17,Schedule!$U$5:$U$17,">="&H$5,Schedule!$U$5:$U$17,"<="&H$6) | I17: =SUMIFS(Schedule!$V$5:$V$17,Schedule!$U$5:$U$17,">="&I$5,Schedule!$U$5:$U$17,"<="&I$6) | ... N17: =SUMIFS(Schedule!$V$5:$V$17,Schedule!$U$5:$U$17,">="&N$5,Schedule!$U$5:$U$17,"<="&N$6) | O17: =SUM(B17:N17)
A18: Vendor payables | B18: =SUMIF(Inputs!$C$44:$C$55,B$4,Inputs!$B$44:$B$55) | C18: =SUMIF(Inputs!$C$44:$C$55,C$4,Inputs!$B$44:$B$55) | D18: =SUMIF(Inputs!$C$44:$C$55,D$4,Inputs!$B$44:$B$55) | E18: =SUMIF(Inputs!$C$44:$C$55,E$4,Inputs!$B$44:$B$55) | F18: =SUMIF(Inputs!$C$44:$C$55,F$4,Inputs!$B$44:$B$55) | G18: =SUMIF(Inputs!$C$44:$C$55,G$4,Inputs!$B$44:$B$55) | H18: =SUMIF(Inputs!$C$44:$C$55,H$4,Inputs!$B$44:$B$55) | I18: =SUMIF(Inputs!$C$44:$C$55,I$4,Inputs!$B$44:$B$55) | ... N18: =SUMIF(Inputs!$C$44:$C$55,N$4,Inputs!$B$44:$B$55) | O18: =SUM(B18:N18)
A19: One-off payments | B19: =SUMIF(Inputs!$C$59:$C$66,B$4,Inputs!$B$59:$B$66) | C19: =SUMIF(Inputs!$C$59:$C$66,C$4,Inputs!$B$59:$B$66) | D19: =SUMIF(Inputs!$C$59:$C$66,D$4,Inputs!$B$59:$B$66) | E19: =SUMIF(Inputs!$C$59:$C$66,E$4,Inputs!$B$59:$B$66) | F19: =SUMIF(Inputs!$C$59:$C$66,F$4,Inputs!$B$59:$B$66) | G19: =SUMIF(Inputs!$C$59:$C$66,G$4,Inputs!$B$59:$B$66) | H19: =SUMIF(Inputs!$C$59:$C$66,H$4,Inputs!$B$59:$B$66) | I19: =SUMIF(Inputs!$C$59:$C$66,I$4,Inputs!$B$59:$B$66) | ... N19: =SUMIF(Inputs!$C$59:$C$66,N$4,Inputs!$B$59:$B$66) | O19: =SUM(B19:N19)
A20: Payment processing and variable costs | B20: =Inputs!$B$21*(B9+B10+B11) | C20: =Inputs!$B$21*(C9+C10+C11) | D20: =Inputs!$B$21*(D9+D10+D11) | E20: =Inputs!$B$21*(E9+E10+E11) | F20: =Inputs!$B$21*(F9+F10+F11) | G20: =Inputs!$B$21*(G9+G10+G11) | H20: =Inputs!$B$21*(H9+H10+H11) | I20: =Inputs!$B$21*(I9+I10+I11) | ... N20: =Inputs!$B$21*(N9+N10+N11) | O20: =SUM(B20:N20)
A21: Total disbursements | B21: =SUM(B15:B20) | C21: =SUM(C15:C20) | D21: =SUM(D15:D20) | E21: =SUM(E15:E20) | F21: =SUM(F15:F20) | G21: =SUM(G15:G20) | H21: =SUM(H15:H20) | I21: =SUM(I15:I20) | ... N21: =SUM(N15:N20) | O21: =SUM(B21:N21)
A22: Net cash flow | B22: =B13-B21 | C22: =C13-C21 | D22: =D13-D21 | E22: =E13-E21 | F22: =F13-F21 | G22: =G13-G21 | H22: =H13-H21 | I22: =I13-I21 | ... N22: =N13-N21 | O22: =SUM(B22:N22)
A23: Closing cash | B23: =B7+B22 | C23: =C7+C22 | D23: =D7+D22 | E23: =E7+E22 | F23: =F7+F22 | G23: =G7+G22 | H23: =H7+H22 | I23: =I7+I22 | ... N23: =N7+N22 | O23: =N23
A24: Below minimum (1 = yes) | B24: =IF(B23<Inputs!$B$7,1,0) | C24: =IF(C23<Inputs!$B$7,1,0) | D24: =IF(D23<Inputs!$B$7,1,0) | E24: =IF(E23<Inputs!$B$7,1,0) | F24: =IF(F23<Inputs!$B$7,1,0) | G24: =IF(G23<Inputs!$B$7,1,0) | H24: =IF(H23<Inputs!$B$7,1,0) | I24: =IF(I23<Inputs!$B$7,1,0) | ... N24: =IF(N23<Inputs!$B$7,1,0) | O24: =SUM(B24:N24)
A25: Status | B25: =IF(B23<0,"Below zero",IF(B23<Inputs!$B$7,"Below minimum","OK")) | C25: =IF(C23<0,"Below zero",IF(C23<Inputs!$B$7,"Below minimum","OK")) | D25: =IF(D23<0,"Below zero",IF(D23<Inputs!$B$7,"Below minimum","OK")) | E25: =IF(E23<0,"Below zero",IF(E23<Inputs!$B$7,"Below minimum","OK")) | F25: =IF(F23<0,"Below zero",IF(F23<Inputs!$B$7,"Below minimum","OK")) | G25: =IF(G23<0,"Below zero",IF(G23<Inputs!$B$7,"Below minimum","OK")) | H25: =IF(H23<0,"Below zero",IF(H23<Inputs!$B$7,"Below minimum","OK")) | I25: =IF(I23<0,"Below zero",IF(I23<Inputs!$B$7,"Below minimum","OK")) | ... N25: =IF(N23<0,"Below zero",IF(N23<Inputs!$B$7,"Below minimum","OK"))
A27: Summary
A28: Lowest closing cash | B28: =MIN(B23:N23)
A29: Lowest week | B29: =MATCH(MIN(B23:N23),B23:N23,0)
A30: Cash at end of week 13 | B30: =N23
A31: Net change over 13 weeks | B31: =O22
A32: Weeks below minimum | B32: =O24
A33: First week below minimum | B33: =IFERROR(MATCH(1,B24:N24,0),"None")
A34: Weeks below zero | B34: =COUNTIF(B23:N23,"<0")
A35: Annual invoices paid after week 13 | B35: =SUMIFS(Inputs!$B$24:$B$31,Inputs!$E$24:$E$31,">"&N6)

Sheet Rolling
A1: Actuals, variance and the rolling 13 weeks
A2: Set weeks closed, then type actual total receipts and disbursements for each closed week (blank = on forecast). Forecast lines come from the Inputs sheet.
A3: Weeks closed (0 to 13) | D3: 0
A5: Outlook
A6: Cash now (after the last closed week) | D6: =IF($D$3=0,Inputs!$B$6,INDEX(P16:P41,$D$3))
A7: First forecast for the same week | D7: =IF($D$3=0,Inputs!$B$6,INDEX(Forecast!B23:N23,$D$3))
A8: Cash vs forecast | D8: =D6-D7
A9: Week 13 cash: first forecast | D9: =Forecast!N23
A10: Week 13 cash: re-forecast | D10: =P28
A11: Lowest cash in the next 13 weeks | D11: =MIN(T16:T41)
A12: Lowest week | D12: =MATCH(D11,T16:T41,0)
A13: Weeks below minimum ahead | D13: =COUNTIF(R16:R41,"Below minimum")+COUNTIF(R16:R41,"Below zero")
A15: Week | B15: Starts | C15: Ends | D15: Forecast receipts | E15: Forecast disbursements | F15: Closed | G15: Actual receipts | H15: Actual disbursements | I15: Receipts used | J15: Disbursements used | K15: Receipts var | L15: Reading | M15: Disb. var | N15: Reading | O15: Net cash flow | P15: Closing cash | Q15: Basis | R15: Status | T15: Window closing
A16: 1 | B16: =Inputs!$B$5+7*(A16-1) | C16: =B16+6 | D16: =SUMIFS(Schedule!$F$5:$F$17,Schedule!$E$5:$E$17,">="&$B16,Schedule!$E$5:$E$17,"<="&$C16)+SUMIFS(Schedule!$H$5:$H$17,Schedule!$G$5:$G$17,">="&$B16,Schedule!$G$5:$G$17,"<="&$C16)+SUMIFS(Inputs!$B$24:$B$31,Inputs!$E$24:$E$31,">="&$B16,Inputs!$E$24:$E$31,"<="&$C16)+SUMIF(Inputs!$C$35:$C$40,$A16,Inputs!$B$35:$B$40) | E16: =SUMIFS(Schedule!$K$5:$K$17,Schedule!$J$5:$J$17,">="&$B16,Schedule!$J$5:$J$17,"<="&$C16)+SUMIFS(Schedule!$M$5:$M$17,Schedule!$L$5:$L$17,">="&$B16,Schedule!$L$5:$L$17,"<="&$C16)+SUMIFS(Schedule!$S$5:$S$17,Schedule!$R$5:$R$17,">="&$B16,Schedule!$R$5:$R$17,"<="&$C16)+SUMIFS(Schedule!$O$5:$O$17,Schedule!$N$5:$N$17,">="&$B16,Schedule!$N$5:$N$17,"<="&$C16)+SUMIFS(Schedule!$V$5:$V$17,Schedule!$U$5:$U$17,">="&$B16,Schedule!$U$5:$U$17,"<="&$C16)+SUMIF(Inputs!$C$44:$C$55,$A16,Inputs!$B$44:$B$55)+SUMIF(Inputs!$C$59:$C$66,$A16,Inputs!$B$59:$B$66)+Inputs!$B$21*(SUMIFS(Schedule!$F$5:$F$17,Schedule!$E$5:$E$17,">="&$B16,Schedule!$E$5:$E$17,"<="&$C16)+SUMIFS(Schedule!$H$5:$H$17,Schedule!$G$5:$G$17,">="&$B16,Schedule!$G$5:$G$17,"<="&$C16)+SUMIFS(Inputs!$B$24:$B$31,Inputs!$E$24:$E$31,">="&$B16,Inputs!$E$24:$E$31,"<="&$C16)) | F16: =IF(A16<=$D$3,1,0) | I16: =IF(AND(F16=1,G16<>""),G16,D16) | J16: =IF(AND(F16=1,H16<>""),H16,E16) | K16: =IF(F16=1,I16-D16,"") | L16: =IF(F16=1,IF(ROUND(K16,2)>0,"Favorable",IF(ROUND(K16,2)<0,"Unfavorable","On forecast")),"") | M16: =IF(F16=1,J16-E16,"") | N16: =IF(F16=1,IF(ROUND(M16,2)<0,"Favorable",IF(ROUND(M16,2)>0,"Unfavorable","On forecast")),"") | O16: =I16-J16 | P16: =Inputs!$B$6+O16 | Q16: =IF(F16=1,"Actual",IF(AND(A16>$D$3,A16<=$D$3+13),"Forecast","")) | R16: =IF(AND(A16>$D$3,A16<=$D$3+13),IF(P16<0,"Below zero",IF(P16<Inputs!$B$7,"Below minimum","OK")),"") | T16: =IF(AND(A16>$D$3,A16<=$D$3+13),P16,"")
A17: 2 | B17: =Inputs!$B$5+7*(A17-1) | C17: =B17+6 | D17: =SUMIFS(Schedule!$F$5:$F$17,Schedule!$E$5:$E$17,">="&$B17,Schedule!$E$5:$E$17,"<="&$C17)+SUMIFS(Schedule!$H$5:$H$17,Schedule!$G$5:$G$17,">="&$B17,Schedule!$G$5:$G$17,"<="&$C17)+SUMIFS(Inputs!$B$24:$B$31,Inputs!$E$24:$E$31,">="&$B17,Inputs!$E$24:$E$31,"<="&$C17)+SUMIF(Inputs!$C$35:$C$40,$A17,Inputs!$B$35:$B$40) | E17: =SUMIFS(Schedule!$K$5:$K$17,Schedule!$J$5:$J$17,">="&$B17,Schedule!$J$5:$J$17,"<="&$C17)+SUMIFS(Schedule!$M$5:$M$17,Schedule!$L$5:$L$17,">="&$B17,Schedule!$L$5:$L$17,"<="&$C17)+SUMIFS(Schedule!$S$5:$S$17,Schedule!$R$5:$R$17,">="&$B17,Schedule!$R$5:$R$17,"<="&$C17)+SUMIFS(Schedule!$O$5:$O$17,Schedule!$N$5:$N$17,">="&$B17,Schedule!$N$5:$N$17,"<="&$C17)+SUMIFS(Schedule!$V$5:$V$17,Schedule!$U$5:$U$17,">="&$B17,Schedule!$U$5:$U$17,"<="&$C17)+SUMIF(Inputs!$C$44:$C$55,$A17,Inputs!$B$44:$B$55)+SUMIF(Inputs!$C$59:$C$66,$A17,Inputs!$B$59:$B$66)+Inputs!$B$21*(SUMIFS(Schedule!$F$5:$F$17,Schedule!$E$5:$E$17,">="&$B17,Schedule!$E$5:$E$17,"<="&$C17)+SUMIFS(Schedule!$H$5:$H$17,Schedule!$G$5:$G$17,">="&$B17,Schedule!$G$5:$G$17,"<="&$C17)+SUMIFS(Inputs!$B$24:$B$31,Inputs!$E$24:$E$31,">="&$B17,Inputs!$E$24:$E$31,"<="&$C17)) | F17: =IF(A17<=$D$3,1,0) | I17: =IF(AND(F17=1,G17<>""),G17,D17) | J17: =IF(AND(F17=1,H17<>""),H17,E17) | K17: =IF(F17=1,I17-D17,"") | L17: =IF(F17=1,IF(ROUND(K17,2)>0,"Favorable",IF(ROUND(K17,2)<0,"Unfavorable","On forecast")),"") | M17: =IF(F17=1,J17-E17,"") | N17: =IF(F17=1,IF(ROUND(M17,2)<0,"Favorable",IF(ROUND(M17,2)>0,"Unfavorable","On forecast")),"") | O17: =I17-J17 | P17: =P16+O17 | Q17: =IF(F17=1,"Actual",IF(AND(A17>$D$3,A17<=$D$3+13),"Forecast","")) | R17: =IF(AND(A17>$D$3,A17<=$D$3+13),IF(P17<0,"Below zero",IF(P17<Inputs!$B$7,"Below minimum","OK")),"") | T17: =IF(AND(A17>$D$3,A17<=$D$3+13),P17,"")
A18: 3 | B18: =Inputs!$B$5+7*(A18-1) | C18: =B18+6 | D18: =SUMIFS(Schedule!$F$5:$F$17,Schedule!$E$5:$E$17,">="&$B18,Schedule!$E$5:$E$17,"<="&$C18)+SUMIFS(Schedule!$H$5:$H$17,Schedule!$G$5:$G$17,">="&$B18,Schedule!$G$5:$G$17,"<="&$C18)+SUMIFS(Inputs!$B$24:$B$31,Inputs!$E$24:$E$31,">="&$B18,Inputs!$E$24:$E$31,"<="&$C18)+SUMIF(Inputs!$C$35:$C$40,$A18,Inputs!$B$35:$B$40) | E18: =SUMIFS(Schedule!$K$5:$K$17,Schedule!$J$5:$J$17,">="&$B18,Schedule!$J$5:$J$17,"<="&$C18)+SUMIFS(Schedule!$M$5:$M$17,Schedule!$L$5:$L$17,">="&$B18,Schedule!$L$5:$L$17,"<="&$C18)+SUMIFS(Schedule!$S$5:$S$17,Schedule!$R$5:$R$17,">="&$B18,Schedule!$R$5:$R$17,"<="&$C18)+SUMIFS(Schedule!$O$5:$O$17,Schedule!$N$5:$N$17,">="&$B18,Schedule!$N$5:$N$17,"<="&$C18)+SUMIFS(Schedule!$V$5:$V$17,Schedule!$U$5:$U$17,">="&$B18,Schedule!$U$5:$U$17,"<="&$C18)+SUMIF(Inputs!$C$44:$C$55,$A18,Inputs!$B$44:$B$55)+SUMIF(Inputs!$C$59:$C$66,$A18,Inputs!$B$59:$B$66)+Inputs!$B$21*(SUMIFS(Schedule!$F$5:$F$17,Schedule!$E$5:$E$17,">="&$B18,Schedule!$E$5:$E$17,"<="&$C18)+SUMIFS(Schedule!$H$5:$H$17,Schedule!$G$5:$G$17,">="&$B18,Schedule!$G$5:$G$17,"<="&$C18)+SUMIFS(Inputs!$B$24:$B$31,Inputs!$E$24:$E$31,">="&$B18,Inputs!$E$24:$E$31,"<="&$C18)) | F18: =IF(A18<=$D$3,1,0) | I18: =IF(AND(F18=1,G18<>""),G18,D18) | J18: =IF(AND(F18=1,H18<>""),H18,E18) | K18: =IF(F18=1,I18-D18,"") | L18: =IF(F18=1,IF(ROUND(K18,2)>0,"Favorable",IF(ROUND(K18,2)<0,"Unfavorable","On forecast")),"") | M18: =IF(F18=1,J18-E18,"") | N18: =IF(F18=1,IF(ROUND(M18,2)<0,"Favorable",IF(ROUND(M18,2)>0,"Unfavorable","On forecast")),"") | O18: =I18-J18 | P18: =P17+O18 | Q18: =IF(F18=1,"Actual",IF(AND(A18>$D$3,A18<=$D$3+13),"Forecast","")) | R18: =IF(AND(A18>$D$3,A18<=$D$3+13),IF(P18<0,"Below zero",IF(P18<Inputs!$B$7,"Below minimum","OK")),"") | T18: =IF(AND(A18>$D$3,A18<=$D$3+13),P18,"")
A19: 4 | B19: =Inputs!$B$5+7*(A19-1) | C19: =B19+6 | D19: =SUMIFS(Schedule!$F$5:$F$17,Schedule!$E$5:$E$17,">="&$B19,Schedule!$E$5:$E$17,"<="&$C19)+SUMIFS(Schedule!$H$5:$H$17,Schedule!$G$5:$G$17,">="&$B19,Schedule!$G$5:$G$17,"<="&$C19)+SUMIFS(Inputs!$B$24:$B$31,Inputs!$E$24:$E$31,">="&$B19,Inputs!$E$24:$E$31,"<="&$C19)+SUMIF(Inputs!$C$35:$C$40,$A19,Inputs!$B$35:$B$40) | E19: =SUMIFS(Schedule!$K$5:$K$17,Schedule!$J$5:$J$17,">="&$B19,Schedule!$J$5:$J$17,"<="&$C19)+SUMIFS(Schedule!$M$5:$M$17,Schedule!$L$5:$L$17,">="&$B19,Schedule!$L$5:$L$17,"<="&$C19)+SUMIFS(Schedule!$S$5:$S$17,Schedule!$R$5:$R$17,">="&$B19,Schedule!$R$5:$R$17,"<="&$C19)+SUMIFS(Schedule!$O$5:$O$17,Schedule!$N$5:$N$17,">="&$B19,Schedule!$N$5:$N$17,"<="&$C19)+SUMIFS(Schedule!$V$5:$V$17,Schedule!$U$5:$U$17,">="&$B19,Schedule!$U$5:$U$17,"<="&$C19)+SUMIF(Inputs!$C$44:$C$55,$A19,Inputs!$B$44:$B$55)+SUMIF(Inputs!$C$59:$C$66,$A19,Inputs!$B$59:$B$66)+Inputs!$B$21*(SUMIFS(Schedule!$F$5:$F$17,Schedule!$E$5:$E$17,">="&$B19,Schedule!$E$5:$E$17,"<="&$C19)+SUMIFS(Schedule!$H$5:$H$17,Schedule!$G$5:$G$17,">="&$B19,Schedule!$G$5:$G$17,"<="&$C19)+SUMIFS(Inputs!$B$24:$B$31,Inputs!$E$24:$E$31,">="&$B19,Inputs!$E$24:$E$31,"<="&$C19)) | F19: =IF(A19<=$D$3,1,0) | I19: =IF(AND(F19=1,G19<>""),G19,D19) | J19: =IF(AND(F19=1,H19<>""),H19,E19) | K19: =IF(F19=1,I19-D19,"") | L19: =IF(F19=1,IF(ROUND(K19,2)>0,"Favorable",IF(ROUND(K19,2)<0,"Unfavorable","On forecast")),"") | M19: =IF(F19=1,J19-E19,"") | N19: =IF(F19=1,IF(ROUND(M19,2)<0,"Favorable",IF(ROUND(M19,2)>0,"Unfavorable","On forecast")),"") | O19: =I19-J19 | P19: =P18+O19 | Q19: =IF(F19=1,"Actual",IF(AND(A19>$D$3,A19<=$D$3+13),"Forecast","")) | R19: =IF(AND(A19>$D$3,A19<=$D$3+13),IF(P19<0,"Below zero",IF(P19<Inputs!$B$7,"Below minimum","OK")),"") | T19: =IF(AND(A19>$D$3,A19<=$D$3+13),P19,"")
A20: 5 | B20: =Inputs!$B$5+7*(A20-1) | C20: =B20+6 | D20: =SUMIFS(Schedule!$F$5:$F$17,Schedule!$E$5:$E$17,">="&$B20,Schedule!$E$5:$E$17,"<="&$C20)+SUMIFS(Schedule!$H$5:$H$17,Schedule!$G$5:$G$17,">="&$B20,Schedule!$G$5:$G$17,"<="&$C20)+SUMIFS(Inputs!$B$24:$B$31,Inputs!$E$24:$E$31,">="&$B20,Inputs!$E$24:$E$31,"<="&$C20)+SUMIF(Inputs!$C$35:$C$40,$A20,Inputs!$B$35:$B$40) | E20: =SUMIFS(Schedule!$K$5:$K$17,Schedule!$J$5:$J$17,">="&$B20,Schedule!$J$5:$J$17,"<="&$C20)+SUMIFS(Schedule!$M$5:$M$17,Schedule!$L$5:$L$17,">="&$B20,Schedule!$L$5:$L$17,"<="&$C20)+SUMIFS(Schedule!$S$5:$S$17,Schedule!$R$5:$R$17,">="&$B20,Schedule!$R$5:$R$17,"<="&$C20)+SUMIFS(Schedule!$O$5:$O$17,Schedule!$N$5:$N$17,">="&$B20,Schedule!$N$5:$N$17,"<="&$C20)+SUMIFS(Schedule!$V$5:$V$17,Schedule!$U$5:$U$17,">="&$B20,Schedule!$U$5:$U$17,"<="&$C20)+SUMIF(Inputs!$C$44:$C$55,$A20,Inputs!$B$44:$B$55)+SUMIF(Inputs!$C$59:$C$66,$A20,Inputs!$B$59:$B$66)+Inputs!$B$21*(SUMIFS(Schedule!$F$5:$F$17,Schedule!$E$5:$E$17,">="&$B20,Schedule!$E$5:$E$17,"<="&$C20)+SUMIFS(Schedule!$H$5:$H$17,Schedule!$G$5:$G$17,">="&$B20,Schedule!$G$5:$G$17,"<="&$C20)+SUMIFS(Inputs!$B$24:$B$31,Inputs!$E$24:$E$31,">="&$B20,Inputs!$E$24:$E$31,"<="&$C20)) | F20: =IF(A20<=$D$3,1,0) | I20: =IF(AND(F20=1,G20<>""),G20,D20) | J20: =IF(AND(F20=1,H20<>""),H20,E20) | K20: =IF(F20=1,I20-D20,"") | L20: =IF(F20=1,IF(ROUND(K20,2)>0,"Favorable",IF(ROUND(K20,2)<0,"Unfavorable","On forecast")),"") | M20: =IF(F20=1,J20-E20,"") | N20: =IF(F20=1,IF(ROUND(M20,2)<0,"Favorable",IF(ROUND(M20,2)>0,"Unfavorable","On forecast")),"") | O20: =I20-J20 | P20: =P19+O20 | Q20: =IF(F20=1,"Actual",IF(AND(A20>$D$3,A20<=$D$3+13),"Forecast","")) | R20: =IF(AND(A20>$D$3,A20<=$D$3+13),IF(P20<0,"Below zero",IF(P20<Inputs!$B$7,"Below minimum","OK")),"") | T20: =IF(AND(A20>$D$3,A20<=$D$3+13),P20,"")
A21: 6 | B21: =Inputs!$B$5+7*(A21-1) | C21: =B21+6 | D21: =SUMIFS(Schedule!$F$5:$F$17,Schedule!$E$5:$E$17,">="&$B21,Schedule!$E$5:$E$17,"<="&$C21)+SUMIFS(Schedule!$H$5:$H$17,Schedule!$G$5:$G$17,">="&$B21,Schedule!$G$5:$G$17,"<="&$C21)+SUMIFS(Inputs!$B$24:$B$31,Inputs!$E$24:$E$31,">="&$B21,Inputs!$E$24:$E$31,"<="&$C21)+SUMIF(Inputs!$C$35:$C$40,$A21,Inputs!$B$35:$B$40) | E21: =SUMIFS(Schedule!$K$5:$K$17,Schedule!$J$5:$J$17,">="&$B21,Schedule!$J$5:$J$17,"<="&$C21)+SUMIFS(Schedule!$M$5:$M$17,Schedule!$L$5:$L$17,">="&$B21,Schedule!$L$5:$L$17,"<="&$C21)+SUMIFS(Schedule!$S$5:$S$17,Schedule!$R$5:$R$17,">="&$B21,Schedule!$R$5:$R$17,"<="&$C21)+SUMIFS(Schedule!$O$5:$O$17,Schedule!$N$5:$N$17,">="&$B21,Schedule!$N$5:$N$17,"<="&$C21)+SUMIFS(Schedule!$V$5:$V$17,Schedule!$U$5:$U$17,">="&$B21,Schedule!$U$5:$U$17,"<="&$C21)+SUMIF(Inputs!$C$44:$C$55,$A21,Inputs!$B$44:$B$55)+SUMIF(Inputs!$C$59:$C$66,$A21,Inputs!$B$59:$B$66)+Inputs!$B$21*(SUMIFS(Schedule!$F$5:$F$17,Schedule!$E$5:$E$17,">="&$B21,Schedule!$E$5:$E$17,"<="&$C21)+SUMIFS(Schedule!$H$5:$H$17,Schedule!$G$5:$G$17,">="&$B21,Schedule!$G$5:$G$17,"<="&$C21)+SUMIFS(Inputs!$B$24:$B$31,Inputs!$E$24:$E$31,">="&$B21,Inputs!$E$24:$E$31,"<="&$C21)) | F21: =IF(A21<=$D$3,1,0) | I21: =IF(AND(F21=1,G21<>""),G21,D21) | J21: =IF(AND(F21=1,H21<>""),H21,E21) | K21: =IF(F21=1,I21-D21,"") | L21: =IF(F21=1,IF(ROUND(K21,2)>0,"Favorable",IF(ROUND(K21,2)<0,"Unfavorable","On forecast")),"") | M21: =IF(F21=1,J21-E21,"") | N21: =IF(F21=1,IF(ROUND(M21,2)<0,"Favorable",IF(ROUND(M21,2)>0,"Unfavorable","On forecast")),"") | O21: =I21-J21 | P21: =P20+O21 | Q21: =IF(F21=1,"Actual",IF(AND(A21>$D$3,A21<=$D$3+13),"Forecast","")) | R21: =IF(AND(A21>$D$3,A21<=$D$3+13),IF(P21<0,"Below zero",IF(P21<Inputs!$B$7,"Below minimum","OK")),"") | T21: =IF(AND(A21>$D$3,A21<=$D$3+13),P21,"")
A22: 7 | B22: =Inputs!$B$5+7*(A22-1) | C22: =B22+6 | D22: =SUMIFS(Schedule!$F$5:$F$17,Schedule!$E$5:$E$17,">="&$B22,Schedule!$E$5:$E$17,"<="&$C22)+SUMIFS(Schedule!$H$5:$H$17,Schedule!$G$5:$G$17,">="&$B22,Schedule!$G$5:$G$17,"<="&$C22)+SUMIFS(Inputs!$B$24:$B$31,Inputs!$E$24:$E$31,">="&$B22,Inputs!$E$24:$E$31,"<="&$C22)+SUMIF(Inputs!$C$35:$C$40,$A22,Inputs!$B$35:$B$40) | E22: =SUMIFS(Schedule!$K$5:$K$17,Schedule!$J$5:$J$17,">="&$B22,Schedule!$J$5:$J$17,"<="&$C22)+SUMIFS(Schedule!$M$5:$M$17,Schedule!$L$5:$L$17,">="&$B22,Schedule!$L$5:$L$17,"<="&$C22)+SUMIFS(Schedule!$S$5:$S$17,Schedule!$R$5:$R$17,">="&$B22,Schedule!$R$5:$R$17,"<="&$C22)+SUMIFS(Schedule!$O$5:$O$17,Schedule!$N$5:$N$17,">="&$B22,Schedule!$N$5:$N$17,"<="&$C22)+SUMIFS(Schedule!$V$5:$V$17,Schedule!$U$5:$U$17,">="&$B22,Schedule!$U$5:$U$17,"<="&$C22)+SUMIF(Inputs!$C$44:$C$55,$A22,Inputs!$B$44:$B$55)+SUMIF(Inputs!$C$59:$C$66,$A22,Inputs!$B$59:$B$66)+Inputs!$B$21*(SUMIFS(Schedule!$F$5:$F$17,Schedule!$E$5:$E$17,">="&$B22,Schedule!$E$5:$E$17,"<="&$C22)+SUMIFS(Schedule!$H$5:$H$17,Schedule!$G$5:$G$17,">="&$B22,Schedule!$G$5:$G$17,"<="&$C22)+SUMIFS(Inputs!$B$24:$B$31,Inputs!$E$24:$E$31,">="&$B22,Inputs!$E$24:$E$31,"<="&$C22)) | F22: =IF(A22<=$D$3,1,0) | I22: =IF(AND(F22=1,G22<>""),G22,D22) | J22: =IF(AND(F22=1,H22<>""),H22,E22) | K22: =IF(F22=1,I22-D22,"") | L22: =IF(F22=1,IF(ROUND(K22,2)>0,"Favorable",IF(ROUND(K22,2)<0,"Unfavorable","On forecast")),"") | M22: =IF(F22=1,J22-E22,"") | N22: =IF(F22=1,IF(ROUND(M22,2)<0,"Favorable",IF(ROUND(M22,2)>0,"Unfavorable","On forecast")),"") | O22: =I22-J22 | P22: =P21+O22 | Q22: =IF(F22=1,"Actual",IF(AND(A22>$D$3,A22<=$D$3+13),"Forecast","")) | R22: =IF(AND(A22>$D$3,A22<=$D$3+13),IF(P22<0,"Below zero",IF(P22<Inputs!$B$7,"Below minimum","OK")),"") | T22: =IF(AND(A22>$D$3,A22<=$D$3+13),P22,"")
A23: 8 | B23: =Inputs!$B$5+7*(A23-1) | C23: =B23+6 | D23: =SUMIFS(Schedule!$F$5:$F$17,Schedule!$E$5:$E$17,">="&$B23,Schedule!$E$5:$E$17,"<="&$C23)+SUMIFS(Schedule!$H$5:$H$17,Schedule!$G$5:$G$17,">="&$B23,Schedule!$G$5:$G$17,"<="&$C23)+SUMIFS(Inputs!$B$24:$B$31,Inputs!$E$24:$E$31,">="&$B23,Inputs!$E$24:$E$31,"<="&$C23)+SUMIF(Inputs!$C$35:$C$40,$A23,Inputs!$B$35:$B$40) | E23: =SUMIFS(Schedule!$K$5:$K$17,Schedule!$J$5:$J$17,">="&$B23,Schedule!$J$5:$J$17,"<="&$C23)+SUMIFS(Schedule!$M$5:$M$17,Schedule!$L$5:$L$17,">="&$B23,Schedule!$L$5:$L$17,"<="&$C23)+SUMIFS(Schedule!$S$5:$S$17,Schedule!$R$5:$R$17,">="&$B23,Schedule!$R$5:$R$17,"<="&$C23)+SUMIFS(Schedule!$O$5:$O$17,Schedule!$N$5:$N$17,">="&$B23,Schedule!$N$5:$N$17,"<="&$C23)+SUMIFS(Schedule!$V$5:$V$17,Schedule!$U$5:$U$17,">="&$B23,Schedule!$U$5:$U$17,"<="&$C23)+SUMIF(Inputs!$C$44:$C$55,$A23,Inputs!$B$44:$B$55)+SUMIF(Inputs!$C$59:$C$66,$A23,Inputs!$B$59:$B$66)+Inputs!$B$21*(SUMIFS(Schedule!$F$5:$F$17,Schedule!$E$5:$E$17,">="&$B23,Schedule!$E$5:$E$17,"<="&$C23)+SUMIFS(Schedule!$H$5:$H$17,Schedule!$G$5:$G$17,">="&$B23,Schedule!$G$5:$G$17,"<="&$C23)+SUMIFS(Inputs!$B$24:$B$31,Inputs!$E$24:$E$31,">="&$B23,Inputs!$E$24:$E$31,"<="&$C23)) | F23: =IF(A23<=$D$3,1,0) | I23: =IF(AND(F23=1,G23<>""),G23,D23) | J23: =IF(AND(F23=1,H23<>""),H23,E23) | K23: =IF(F23=1,I23-D23,"") | L23: =IF(F23=1,IF(ROUND(K23,2)>0,"Favorable",IF(ROUND(K23,2)<0,"Unfavorable","On forecast")),"") | M23: =IF(F23=1,J23-E23,"") | N23: =IF(F23=1,IF(ROUND(M23,2)<0,"Favorable",IF(ROUND(M23,2)>0,"Unfavorable","On forecast")),"") | O23: =I23-J23 | P23: =P22+O23 | Q23: =IF(F23=1,"Actual",IF(AND(A23>$D$3,A23<=$D$3+13),"Forecast","")) | R23: =IF(AND(A23>$D$3,A23<=$D$3+13),IF(P23<0,"Below zero",IF(P23<Inputs!$B$7,"Below minimum","OK")),"") | T23: =IF(AND(A23>$D$3,A23<=$D$3+13),P23,"")
A24: 9 | B24: =Inputs!$B$5+7*(A24-1) | C24: =B24+6 | D24: =SUMIFS(Schedule!$F$5:$F$17,Schedule!$E$5:$E$17,">="&$B24,Schedule!$E$5:$E$17,"<="&$C24)+SUMIFS(Schedule!$H$5:$H$17,Schedule!$G$5:$G$17,">="&$B24,Schedule!$G$5:$G$17,"<="&$C24)+SUMIFS(Inputs!$B$24:$B$31,Inputs!$E$24:$E$31,">="&$B24,Inputs!$E$24:$E$31,"<="&$C24)+SUMIF(Inputs!$C$35:$C$40,$A24,Inputs!$B$35:$B$40) | E24: =SUMIFS(Schedule!$K$5:$K$17,Schedule!$J$5:$J$17,">="&$B24,Schedule!$J$5:$J$17,"<="&$C24)+SUMIFS(Schedule!$M$5:$M$17,Schedule!$L$5:$L$17,">="&$B24,Schedule!$L$5:$L$17,"<="&$C24)+SUMIFS(Schedule!$S$5:$S$17,Schedule!$R$5:$R$17,">="&$B24,Schedule!$R$5:$R$17,"<="&$C24)+SUMIFS(Schedule!$O$5:$O$17,Schedule!$N$5:$N$17,">="&$B24,Schedule!$N$5:$N$17,"<="&$C24)+SUMIFS(Schedule!$V$5:$V$17,Schedule!$U$5:$U$17,">="&$B24,Schedule!$U$5:$U$17,"<="&$C24)+SUMIF(Inputs!$C$44:$C$55,$A24,Inputs!$B$44:$B$55)+SUMIF(Inputs!$C$59:$C$66,$A24,Inputs!$B$59:$B$66)+Inputs!$B$21*(SUMIFS(Schedule!$F$5:$F$17,Schedule!$E$5:$E$17,">="&$B24,Schedule!$E$5:$E$17,"<="&$C24)+SUMIFS(Schedule!$H$5:$H$17,Schedule!$G$5:$G$17,">="&$B24,Schedule!$G$5:$G$17,"<="&$C24)+SUMIFS(Inputs!$B$24:$B$31,Inputs!$E$24:$E$31,">="&$B24,Inputs!$E$24:$E$31,"<="&$C24)) | F24: =IF(A24<=$D$3,1,0) | I24: =IF(AND(F24=1,G24<>""),G24,D24) | J24: =IF(AND(F24=1,H24<>""),H24,E24) | K24: =IF(F24=1,I24-D24,"") | L24: =IF(F24=1,IF(ROUND(K24,2)>0,"Favorable",IF(ROUND(K24,2)<0,"Unfavorable","On forecast")),"") | M24: =IF(F24=1,J24-E24,"") | N24: =IF(F24=1,IF(ROUND(M24,2)<0,"Favorable",IF(ROUND(M24,2)>0,"Unfavorable","On forecast")),"") | O24: =I24-J24 | P24: =P23+O24 | Q24: =IF(F24=1,"Actual",IF(AND(A24>$D$3,A24<=$D$3+13),"Forecast","")) | R24: =IF(AND(A24>$D$3,A24<=$D$3+13),IF(P24<0,"Below zero",IF(P24<Inputs!$B$7,"Below minimum","OK")),"") | T24: =IF(AND(A24>$D$3,A24<=$D$3+13),P24,"")
A25: 10 | B25: =Inputs!$B$5+7*(A25-1) | C25: =B25+6 | D25: =SUMIFS(Schedule!$F$5:$F$17,Schedule!$E$5:$E$17,">="&$B25,Schedule!$E$5:$E$17,"<="&$C25)+SUMIFS(Schedule!$H$5:$H$17,Schedule!$G$5:$G$17,">="&$B25,Schedule!$G$5:$G$17,"<="&$C25)+SUMIFS(Inputs!$B$24:$B$31,Inputs!$E$24:$E$31,">="&$B25,Inputs!$E$24:$E$31,"<="&$C25)+SUMIF(Inputs!$C$35:$C$40,$A25,Inputs!$B$35:$B$40) | E25: =SUMIFS(Schedule!$K$5:$K$17,Schedule!$J$5:$J$17,">="&$B25,Schedule!$J$5:$J$17,"<="&$C25)+SUMIFS(Schedule!$M$5:$M$17,Schedule!$L$5:$L$17,">="&$B25,Schedule!$L$5:$L$17,"<="&$C25)+SUMIFS(Schedule!$S$5:$S$17,Schedule!$R$5:$R$17,">="&$B25,Schedule!$R$5:$R$17,"<="&$C25)+SUMIFS(Schedule!$O$5:$O$17,Schedule!$N$5:$N$17,">="&$B25,Schedule!$N$5:$N$17,"<="&$C25)+SUMIFS(Schedule!$V$5:$V$17,Schedule!$U$5:$U$17,">="&$B25,Schedule!$U$5:$U$17,"<="&$C25)+SUMIF(Inputs!$C$44:$C$55,$A25,Inputs!$B$44:$B$55)+SUMIF(Inputs!$C$59:$C$66,$A25,Inputs!$B$59:$B$66)+Inputs!$B$21*(SUMIFS(Schedule!$F$5:$F$17,Schedule!$E$5:$E$17,">="&$B25,Schedule!$E$5:$E$17,"<="&$C25)+SUMIFS(Schedule!$H$5:$H$17,Schedule!$G$5:$G$17,">="&$B25,Schedule!$G$5:$G$17,"<="&$C25)+SUMIFS(Inputs!$B$24:$B$31,Inputs!$E$24:$E$31,">="&$B25,Inputs!$E$24:$E$31,"<="&$C25)) | F25: =IF(A25<=$D$3,1,0) | I25: =IF(AND(F25=1,G25<>""),G25,D25) | J25: =IF(AND(F25=1,H25<>""),H25,E25) | K25: =IF(F25=1,I25-D25,"") | L25: =IF(F25=1,IF(ROUND(K25,2)>0,"Favorable",IF(ROUND(K25,2)<0,"Unfavorable","On forecast")),"") | M25: =IF(F25=1,J25-E25,"") | N25: =IF(F25=1,IF(ROUND(M25,2)<0,"Favorable",IF(ROUND(M25,2)>0,"Unfavorable","On forecast")),"") | O25: =I25-J25 | P25: =P24+O25 | Q25: =IF(F25=1,"Actual",IF(AND(A25>$D$3,A25<=$D$3+13),"Forecast","")) | R25: =IF(AND(A25>$D$3,A25<=$D$3+13),IF(P25<0,"Below zero",IF(P25<Inputs!$B$7,"Below minimum","OK")),"") | T25: =IF(AND(A25>$D$3,A25<=$D$3+13),P25,"")
A26: 11 | B26: =Inputs!$B$5+7*(A26-1) | C26: =B26+6 | D26: =SUMIFS(Schedule!$F$5:$F$17,Schedule!$E$5:$E$17,">="&$B26,Schedule!$E$5:$E$17,"<="&$C26)+SUMIFS(Schedule!$H$5:$H$17,Schedule!$G$5:$G$17,">="&$B26,Schedule!$G$5:$G$17,"<="&$C26)+SUMIFS(Inputs!$B$24:$B$31,Inputs!$E$24:$E$31,">="&$B26,Inputs!$E$24:$E$31,"<="&$C26)+SUMIF(Inputs!$C$35:$C$40,$A26,Inputs!$B$35:$B$40) | E26: =SUMIFS(Schedule!$K$5:$K$17,Schedule!$J$5:$J$17,">="&$B26,Schedule!$J$5:$J$17,"<="&$C26)+SUMIFS(Schedule!$M$5:$M$17,Schedule!$L$5:$L$17,">="&$B26,Schedule!$L$5:$L$17,"<="&$C26)+SUMIFS(Schedule!$S$5:$S$17,Schedule!$R$5:$R$17,">="&$B26,Schedule!$R$5:$R$17,"<="&$C26)+SUMIFS(Schedule!$O$5:$O$17,Schedule!$N$5:$N$17,">="&$B26,Schedule!$N$5:$N$17,"<="&$C26)+SUMIFS(Schedule!$V$5:$V$17,Schedule!$U$5:$U$17,">="&$B26,Schedule!$U$5:$U$17,"<="&$C26)+SUMIF(Inputs!$C$44:$C$55,$A26,Inputs!$B$44:$B$55)+SUMIF(Inputs!$C$59:$C$66,$A26,Inputs!$B$59:$B$66)+Inputs!$B$21*(SUMIFS(Schedule!$F$5:$F$17,Schedule!$E$5:$E$17,">="&$B26,Schedule!$E$5:$E$17,"<="&$C26)+SUMIFS(Schedule!$H$5:$H$17,Schedule!$G$5:$G$17,">="&$B26,Schedule!$G$5:$G$17,"<="&$C26)+SUMIFS(Inputs!$B$24:$B$31,Inputs!$E$24:$E$31,">="&$B26,Inputs!$E$24:$E$31,"<="&$C26)) | F26: =IF(A26<=$D$3,1,0) | I26: =IF(AND(F26=1,G26<>""),G26,D26) | J26: =IF(AND(F26=1,H26<>""),H26,E26) | K26: =IF(F26=1,I26-D26,"") | L26: =IF(F26=1,IF(ROUND(K26,2)>0,"Favorable",IF(ROUND(K26,2)<0,"Unfavorable","On forecast")),"") | M26: =IF(F26=1,J26-E26,"") | N26: =IF(F26=1,IF(ROUND(M26,2)<0,"Favorable",IF(ROUND(M26,2)>0,"Unfavorable","On forecast")),"") | O26: =I26-J26 | P26: =P25+O26 | Q26: =IF(F26=1,"Actual",IF(AND(A26>$D$3,A26<=$D$3+13),"Forecast","")) | R26: =IF(AND(A26>$D$3,A26<=$D$3+13),IF(P26<0,"Below zero",IF(P26<Inputs!$B$7,"Below minimum","OK")),"") | T26: =IF(AND(A26>$D$3,A26<=$D$3+13),P26,"")
A27: 12 | B27: =Inputs!$B$5+7*(A27-1) | C27: =B27+6 | D27: =SUMIFS(Schedule!$F$5:$F$17,Schedule!$E$5:$E$17,">="&$B27,Schedule!$E$5:$E$17,"<="&$C27)+SUMIFS(Schedule!$H$5:$H$17,Schedule!$G$5:$G$17,">="&$B27,Schedule!$G$5:$G$17,"<="&$C27)+SUMIFS(Inputs!$B$24:$B$31,Inputs!$E$24:$E$31,">="&$B27,Inputs!$E$24:$E$31,"<="&$C27)+SUMIF(Inputs!$C$35:$C$40,$A27,Inputs!$B$35:$B$40) | E27: =SUMIFS(Schedule!$K$5:$K$17,Schedule!$J$5:$J$17,">="&$B27,Schedule!$J$5:$J$17,"<="&$C27)+SUMIFS(Schedule!$M$5:$M$17,Schedule!$L$5:$L$17,">="&$B27,Schedule!$L$5:$L$17,"<="&$C27)+SUMIFS(Schedule!$S$5:$S$17,Schedule!$R$5:$R$17,">="&$B27,Schedule!$R$5:$R$17,"<="&$C27)+SUMIFS(Schedule!$O$5:$O$17,Schedule!$N$5:$N$17,">="&$B27,Schedule!$N$5:$N$17,"<="&$C27)+SUMIFS(Schedule!$V$5:$V$17,Schedule!$U$5:$U$17,">="&$B27,Schedule!$U$5:$U$17,"<="&$C27)+SUMIF(Inputs!$C$44:$C$55,$A27,Inputs!$B$44:$B$55)+SUMIF(Inputs!$C$59:$C$66,$A27,Inputs!$B$59:$B$66)+Inputs!$B$21*(SUMIFS(Schedule!$F$5:$F$17,Schedule!$E$5:$E$17,">="&$B27,Schedule!$E$5:$E$17,"<="&$C27)+SUMIFS(Schedule!$H$5:$H$17,Schedule!$G$5:$G$17,">="&$B27,Schedule!$G$5:$G$17,"<="&$C27)+SUMIFS(Inputs!$B$24:$B$31,Inputs!$E$24:$E$31,">="&$B27,Inputs!$E$24:$E$31,"<="&$C27)) | F27: =IF(A27<=$D$3,1,0) | I27: =IF(AND(F27=1,G27<>""),G27,D27) | J27: =IF(AND(F27=1,H27<>""),H27,E27) | K27: =IF(F27=1,I27-D27,"") | L27: =IF(F27=1,IF(ROUND(K27,2)>0,"Favorable",IF(ROUND(K27,2)<0,"Unfavorable","On forecast")),"") | M27: =IF(F27=1,J27-E27,"") | N27: =IF(F27=1,IF(ROUND(M27,2)<0,"Favorable",IF(ROUND(M27,2)>0,"Unfavorable","On forecast")),"") | O27: =I27-J27 | P27: =P26+O27 | Q27: =IF(F27=1,"Actual",IF(AND(A27>$D$3,A27<=$D$3+13),"Forecast","")) | R27: =IF(AND(A27>$D$3,A27<=$D$3+13),IF(P27<0,"Below zero",IF(P27<Inputs!$B$7,"Below minimum","OK")),"") | T27: =IF(AND(A27>$D$3,A27<=$D$3+13),P27,"")
A28: 13 | B28: =Inputs!$B$5+7*(A28-1) | C28: =B28+6 | D28: =SUMIFS(Schedule!$F$5:$F$17,Schedule!$E$5:$E$17,">="&$B28,Schedule!$E$5:$E$17,"<="&$C28)+SUMIFS(Schedule!$H$5:$H$17,Schedule!$G$5:$G$17,">="&$B28,Schedule!$G$5:$G$17,"<="&$C28)+SUMIFS(Inputs!$B$24:$B$31,Inputs!$E$24:$E$31,">="&$B28,Inputs!$E$24:$E$31,"<="&$C28)+SUMIF(Inputs!$C$35:$C$40,$A28,Inputs!$B$35:$B$40) | E28: =SUMIFS(Schedule!$K$5:$K$17,Schedule!$J$5:$J$17,">="&$B28,Schedule!$J$5:$J$17,"<="&$C28)+SUMIFS(Schedule!$M$5:$M$17,Schedule!$L$5:$L$17,">="&$B28,Schedule!$L$5:$L$17,"<="&$C28)+SUMIFS(Schedule!$S$5:$S$17,Schedule!$R$5:$R$17,">="&$B28,Schedule!$R$5:$R$17,"<="&$C28)+SUMIFS(Schedule!$O$5:$O$17,Schedule!$N$5:$N$17,">="&$B28,Schedule!$N$5:$N$17,"<="&$C28)+SUMIFS(Schedule!$V$5:$V$17,Schedule!$U$5:$U$17,">="&$B28,Schedule!$U$5:$U$17,"<="&$C28)+SUMIF(Inputs!$C$44:$C$55,$A28,Inputs!$B$44:$B$55)+SUMIF(Inputs!$C$59:$C$66,$A28,Inputs!$B$59:$B$66)+Inputs!$B$21*(SUMIFS(Schedule!$F$5:$F$17,Schedule!$E$5:$E$17,">="&$B28,Schedule!$E$5:$E$17,"<="&$C28)+SUMIFS(Schedule!$H$5:$H$17,Schedule!$G$5:$G$17,">="&$B28,Schedule!$G$5:$G$17,"<="&$C28)+SUMIFS(Inputs!$B$24:$B$31,Inputs!$E$24:$E$31,">="&$B28,Inputs!$E$24:$E$31,"<="&$C28)) | F28: =IF(A28<=$D$3,1,0) | I28: =IF(AND(F28=1,G28<>""),G28,D28) | J28: =IF(AND(F28=1,H28<>""),H28,E28) | K28: =IF(F28=1,I28-D28,"") | L28: =IF(F28=1,IF(ROUND(K28,2)>0,"Favorable",IF(ROUND(K28,2)<0,"Unfavorable","On forecast")),"") | M28: =IF(F28=1,J28-E28,"") | N28: =IF(F28=1,IF(ROUND(M28,2)<0,"Favorable",IF(ROUND(M28,2)>0,"Unfavorable","On forecast")),"") | O28: =I28-J28 | P28: =P27+O28 | Q28: =IF(F28=1,"Actual",IF(AND(A28>$D$3,A28<=$D$3+13),"Forecast","")) | R28: =IF(AND(A28>$D$3,A28<=$D$3+13),IF(P28<0,"Below zero",IF(P28<Inputs!$B$7,"Below minimum","OK")),"") | T28: =IF(AND(A28>$D$3,A28<=$D$3+13),P28,"")
... A41: 26 | B41: =Inputs!$B$5+7*(A41-1) | C41: =B41+6 | D41: =SUMIFS(Schedule!$F$5:$F$17,Schedule!$E$5:$E$17,">="&$B41,Schedule!$E$5:$E$17,"<="&$C41)+SUMIFS(Schedule!$H$5:$H$17,Schedule!$G$5:$G$17,">="&$B41,Schedule!$G$5:$G$17,"<="&$C41)+SUMIFS(Inputs!$B$24:$B$31,Inputs!$E$24:$E$31,">="&$B41,Inputs!$E$24:$E$31,"<="&$C41)+SUMIF(Inputs!$C$35:$C$40,$A41,Inputs!$B$35:$B$40) | E41: =SUMIFS(Schedule!$K$5:$K$17,Schedule!$J$5:$J$17,">="&$B41,Schedule!$J$5:$J$17,"<="&$C41)+SUMIFS(Schedule!$M$5:$M$17,Schedule!$L$5:$L$17,">="&$B41,Schedule!$L$5:$L$17,"<="&$C41)+SUMIFS(Schedule!$S$5:$S$17,Schedule!$R$5:$R$17,">="&$B41,Schedule!$R$5:$R$17,"<="&$C41)+SUMIFS(Schedule!$O$5:$O$17,Schedule!$N$5:$N$17,">="&$B41,Schedule!$N$5:$N$17,"<="&$C41)+SUMIFS(Schedule!$V$5:$V$17,Schedule!$U$5:$U$17,">="&$B41,Schedule!$U$5:$U$17,"<="&$C41)+SUMIF(Inputs!$C$44:$C$55,$A41,Inputs!$B$44:$B$55)+SUMIF(Inputs!$C$59:$C$66,$A41,Inputs!$B$59:$B$66)+Inputs!$B$21*(SUMIFS(Schedule!$F$5:$F$17,Schedule!$E$5:$E$17,">="&$B41,Schedule!$E$5:$E$17,"<="&$C41)+SUMIFS(Schedule!$H$5:$H$17,Schedule!$G$5:$G$17,">="&$B41,Schedule!$G$5:$G$17,"<="&$C41)+SUMIFS(Inputs!$B$24:$B$31,Inputs!$E$24:$E$31,">="&$B41,Inputs!$E$24:$E$31,"<="&$C41)) | F41: =IF(A41<=$D$3,1,0) | I41: =IF(AND(F41=1,G41<>""),G41,D41) | J41: =IF(AND(F41=1,H41<>""),H41,E41) | K41: =IF(F41=1,I41-D41,"") | L41: =IF(F41=1,IF(ROUND(K41,2)>0,"Favorable",IF(ROUND(K41,2)<0,"Unfavorable","On forecast")),"") | M41: =IF(F41=1,J41-E41,"") | N41: =IF(F41=1,IF(ROUND(M41,2)<0,"Favorable",IF(ROUND(M41,2)>0,"Unfavorable","On forecast")),"") | O41: =I41-J41 | P41: =P40+O41 | Q41: =IF(F41=1,"Actual",IF(AND(A41>$D$3,A41<=$D$3+13),"Forecast","")) | R41: =IF(AND(A41>$D$3,A41<=$D$3+13),IF(P41<0,"Below zero",IF(P41<Inputs!$B$7,"Below minimum","OK")),"") | T41: =IF(AND(A41>$D$3,A41<=$D$3+13),P41,"")

Sheet Inputs
A1: 13-Week Cash Flow Forecast for SaaS: inputs
A2: Change the blue cells on light yellow. Every other number is a live formula. Live version: https://adlega.com/blog/tools/13-week-cash-flow/
A4: Starting point and timing
A5: Week 1 starts on (a Monday) | B5: 46321 | C5: =IF(WEEKDAY(B5,2)<>1,"Not a Monday: weeks will run from this day","")
A6: Opening cash | B6: 600000
A7: Minimum cash | B7: 400000
A8: Subscriptions billed per month | B8: 60000
A9: Billings growth per month | B9: 0.02
A10: Billing day of month (1 to 31) | B10: 1
A11: Share paid by card | B11: 0.6
A12: Card payout delay (days) | B12: 2
A13: Invoice terms (days) | B13: 30
A14: Payroll per month, incl. employer taxes and benefits | B14: 110000
A15: Pay frequency | B15: Semi-monthly | C15: Biweekly = every other Friday; Semi-monthly = 15th and last day; Monthly = last day
A16: First biweekly payday: Friday of week (1 or 2) | B16: 1
A17: Rent per month | B17: 6000
A18: Rent paid on day | B18: 1
A19: Software per month | B19: 9000
A20: Software paid on day | B20: 5
A21: Payment processing and variable costs, % of customer collections | B21: 0.025
A22: Annual invoices (cash arrives on the Monday of the invoice week + terms)
A23: Customer | B23: Amount | C23: Invoice week | D23: Terms (days) | E23: Paid on | F23: Paid in week
A24: Annual renewal, customer A | B24: 36000 | C24: 3 | D24: 30 | E24: =IF(B24="","",Inputs!$B$5+7*(C24-1)+D24) | F24: =IF(B24="","",IF(INT((E24-Inputs!$B$5)/7)+1>13,"After week 13",INT((E24-Inputs!$B$5)/7)+1))
A25: Annual renewal, customer B | B25: 24000 | C25: 8 | D25: 45 | E25: =IF(B25="","",Inputs!$B$5+7*(C25-1)+D25) | F25: =IF(B25="","",IF(INT((E25-Inputs!$B$5)/7)+1>13,"After week 13",INT((E25-Inputs!$B$5)/7)+1))
E26: =IF(B26="","",Inputs!$B$5+7*(C26-1)+D26) | F26: =IF(B26="","",IF(INT((E26-Inputs!$B$5)/7)+1>13,"After week 13",INT((E26-Inputs!$B$5)/7)+1))
E27: =IF(B27="","",Inputs!$B$5+7*(C27-1)+D27) | F27: =IF(B27="","",IF(INT((E27-Inputs!$B$5)/7)+1>13,"After week 13",INT((E27-Inputs!$B$5)/7)+1))
E28: =IF(B28="","",Inputs!$B$5+7*(C28-1)+D28) | F28: =IF(B28="","",IF(INT((E28-Inputs!$B$5)/7)+1>13,"After week 13",INT((E28-Inputs!$B$5)/7)+1))
E29: =IF(B29="","",Inputs!$B$5+7*(C29-1)+D29) | F29: =IF(B29="","",IF(INT((E29-Inputs!$B$5)/7)+1>13,"After week 13",INT((E29-Inputs!$B$5)/7)+1))
E30: =IF(B30="","",Inputs!$B$5+7*(C30-1)+D30) | F30: =IF(B30="","",IF(INT((E30-Inputs!$B$5)/7)+1>13,"After week 13",INT((E30-Inputs!$B$5)/7)+1))
E31: =IF(B31="","",Inputs!$B$5+7*(C31-1)+D31) | F31: =IF(B31="","",IF(INT((E31-Inputs!$B$5)/7)+1>13,"After week 13",INT((E31-Inputs!$B$5)/7)+1))
A33: Other receipts (overdue invoices, refunds, interest, loan drawdowns)
A34: Item | B34: Amount | C34: Week (1 to 26)
A35: Interest on deposits | B35: 1500 | C35: 6
A42: Vendor payables (in the week you plan to pay)
A43: Item | B43: Amount | C43: Week (1 to 26)
A44: Cloud hosting | B44: 12000 | C44: 2
A45: Cloud hosting | B45: 12000 | C45: 6
A46: Cloud hosting | B46: 12000 | C46: 10
A47: Contractors | B47: 8000 | C47: 4
A57: One-off payments (tax, insurance, bonuses, loan repayments)
...

Sheet Schedule
A1: Schedule: every billing, payroll, rent and software date the forecast uses
A2: All formulas. Billing amount grows from the first bill on or after week 1; earlier bills are at the current monthly amount.
A4: Month offset | B4: Bill date | C4: Bill no. | D4: Billed | E4: Card cash date | F4: Card cash | G4: Invoice cash date | H4: Invoice cash | J4: 15th payday | K4: Amount | L4: Month-end payday | M4: Amount | N4: Rent date | O4: Rent | Q4: Run | R4: Biweekly payday | S4: Amount | U4: Software date | V4: Software
A5: -4 | B5: =DATE(YEAR(Inputs!$B$5),MONTH(Inputs!$B$5)+A5,MIN(MAX(1,ROUND(Inputs!$B$10,0)),DAY(EOMONTH(DATE(YEAR(Inputs!$B$5),MONTH(Inputs!$B$5)+A5,1),0)))) | C5: =IF(B5>=Inputs!$B$5,0,-1) | D5: =Inputs!$B$8*IF(C5>=0,(1+Inputs!$B$9)^C5,1) | E5: =B5+Inputs!$B$12 | F5: =D5*MIN(1,MAX(0,Inputs!$B$11)) | G5: =B5+Inputs!$B$13 | H5: =D5-F5 | J5: =DATE(YEAR(Inputs!$B$5),MONTH(Inputs!$B$5)+A5,15) | K5: =IF(Inputs!$B$15="Semi-monthly",Inputs!$B$14/2,0) | L5: =EOMONTH(DATE(YEAR(Inputs!$B$5),MONTH(Inputs!$B$5)+A5,1),0) | M5: =IF(Inputs!$B$15="Semi-monthly",Inputs!$B$14/2,IF(Inputs!$B$15="Monthly",Inputs!$B$14,0)) | N5: =DATE(YEAR(Inputs!$B$5),MONTH(Inputs!$B$5)+A5,MIN(MAX(1,ROUND(Inputs!$B$18,0)),DAY(EOMONTH(DATE(YEAR(Inputs!$B$5),MONTH(Inputs!$B$5)+A5,1),0)))) | O5: =Inputs!$B$17 | Q5: 0 | R5: =Inputs!$B$5+7*(MAX(1,ROUND(Inputs!$B$16,0))-1)+4+14*Q5 | S5: =IF(Inputs!$B$15="Biweekly",Inputs!$B$14*12/26,0) | U5: =DATE(YEAR(Inputs!$B$5),MONTH(Inputs!$B$5)+A5,MIN(MAX(1,ROUND(Inputs!$B$20,0)),DAY(EOMONTH(DATE(YEAR(Inputs!$B$5),MONTH(Inputs!$B$5)+A5,1),0)))) | V5: =Inputs!$B$19
A6: -3 | B6: =DATE(YEAR(Inputs!$B$5),MONTH(Inputs!$B$5)+A6,MIN(MAX(1,ROUND(Inputs!$B$10,0)),DAY(EOMONTH(DATE(YEAR(Inputs!$B$5),MONTH(Inputs!$B$5)+A6,1),0)))) | C6: =IF(B6>=Inputs!$B$5,COUNTIF(B$5:B5,">="&Inputs!$B$5),-1) | D6: =Inputs!$B$8*IF(C6>=0,(1+Inputs!$B$9)^C6,1) | E6: =B6+Inputs!$B$12 | F6: =D6*MIN(1,MAX(0,Inputs!$B$11)) | G6: =B6+Inputs!$B$13 | H6: =D6-F6 | J6: =DATE(YEAR(Inputs!$B$5),MONTH(Inputs!$B$5)+A6,15) | K6: =IF(Inputs!$B$15="Semi-monthly",Inputs!$B$14/2,0) | L6: =EOMONTH(DATE(YEAR(Inputs!$B$5),MONTH(Inputs!$B$5)+A6,1),0) | M6: =IF(Inputs!$B$15="Semi-monthly",Inputs!$B$14/2,IF(Inputs!$B$15="Monthly",Inputs!$B$14,0)) | N6: =DATE(YEAR(Inputs!$B$5),MONTH(Inputs!$B$5)+A6,MIN(MAX(1,ROUND(Inputs!$B$18,0)),DAY(EOMONTH(DATE(YEAR(Inputs!$B$5),MONTH(Inputs!$B$5)+A6,1),0)))) | O6: =Inputs!$B$17 | Q6: 1 | R6: =Inputs!$B$5+7*(MAX(1,ROUND(Inputs!$B$16,0))-1)+4+14*Q6 | S6: =IF(Inputs!$B$15="Biweekly",Inputs!$B$14*12/26,0) | U6: =DATE(YEAR(Inputs!$B$5),MONTH(Inputs!$B$5)+A6,MIN(MAX(1,ROUND(Inputs!$B$20,0)),DAY(EOMONTH(DATE(YEAR(Inputs!$B$5),MONTH(Inputs!$B$5)+A6,1),0)))) | V6: =Inputs!$B$19
A7: -2 | B7: =DATE(YEAR(Inputs!$B$5),MONTH(Inputs!$B$5)+A7,MIN(MAX(1,ROUND(Inputs!$B$10,0)),DAY(EOMONTH(DATE(YEAR(Inputs!$B$5),MONTH(Inputs!$B$5)+A7,1),0)))) | C7: =IF(B7>=Inputs!$B$5,COUNTIF(B$5:B6,">="&Inputs!$B$5),-1) | D7: =Inputs!$B$8*IF(C7>=0,(1+Inputs!$B$9)^C7,1) | E7: =B7+Inputs!$B$12 | F7: =D7*MIN(1,MAX(0,Inputs!$B$11)) | G7: =B7+Inputs!$B$13 | H7: =D7-F7 | J7: =DATE(YEAR(Inputs!$B$5),MONTH(Inputs!$B$5)+A7,15) | K7: =IF(Inputs!$B$15="Semi-monthly",Inputs!$B$14/2,0) | L7: =EOMONTH(DATE(YEAR(Inputs!$B$5),MONTH(Inputs!$B$5)+A7,1),0) | M7: =IF(Inputs!$B$15="Semi-monthly",Inputs!$B$14/2,IF(Inputs!$B$15="Monthly",Inputs!$B$14,0)) | N7: =DATE(YEAR(Inputs!$B$5),MONTH(Inputs!$B$5)+A7,MIN(MAX(1,ROUND(Inputs!$B$18,0)),DAY(EOMONTH(DATE(YEAR(Inputs!$B$5),MONTH(Inputs!$B$5)+A7,1),0)))) | O7: =Inputs!$B$17 | Q7: 2 | R7: =Inputs!$B$5+7*(MAX(1,ROUND(Inputs!$B$16,0))-1)+4+14*Q7 | S7: =IF(Inputs!$B$15="Biweekly",Inputs!$B$14*12/26,0) | U7: =DATE(YEAR(Inputs!$B$5),MONTH(Inputs!$B$5)+A7,MIN(MAX(1,ROUND(Inputs!$B$20,0)),DAY(EOMONTH(DATE(YEAR(Inputs!$B$5),MONTH(Inputs!$B$5)+A7,1),0)))) | V7: =Inputs!$B$19
A8: -1 | B8: =DATE(YEAR(Inputs!$B$5),MONTH(Inputs!$B$5)+A8,MIN(MAX(1,ROUND(Inputs!$B$10,0)),DAY(EOMONTH(DATE(YEAR(Inputs!$B$5),MONTH(Inputs!$B$5)+A8,1),0)))) | C8: =IF(B8>=Inputs!$B$5,COUNTIF(B$5:B7,">="&Inputs!$B$5),-1) | D8: =Inputs!$B$8*IF(C8>=0,(1+Inputs!$B$9)^C8,1) | E8: =B8+Inputs!$B$12 | F8: =D8*MIN(1,MAX(0,Inputs!$B$11)) | G8: =B8+Inputs!$B$13 | H8: =D8-F8 | J8: =DATE(YEAR(Inputs!$B$5),MONTH(Inputs!$B$5)+A8,15) | K8: =IF(Inputs!$B$15="Semi-monthly",Inputs!$B$14/2,0) | L8: =EOMONTH(DATE(YEAR(Inputs!$B$5),MONTH(Inputs!$B$5)+A8,1),0) | M8: =IF(Inputs!$B$15="Semi-monthly",Inputs!$B$14/2,IF(Inputs!$B$15="Monthly",Inputs!$B$14,0)) | N8: =DATE(YEAR(Inputs!$B$5),MONTH(Inputs!$B$5)+A8,MIN(MAX(1,ROUND(Inputs!$B$18,0)),DAY(EOMONTH(DATE(YEAR(Inputs!$B$5),MONTH(Inputs!$B$5)+A8,1),0)))) | O8: =Inputs!$B$17 | Q8: 3 | R8: =Inputs!$B$5+7*(MAX(1,ROUND(Inputs!$B$16,0))-1)+4+14*Q8 | S8: =IF(Inputs!$B$15="Biweekly",Inputs!$B$14*12/26,0) | U8: =DATE(YEAR(Inputs!$B$5),MONTH(Inputs!$B$5)+A8,MIN(MAX(1,ROUND(Inputs!$B$20,0)),DAY(EOMONTH(DATE(YEAR(Inputs!$B$5),MONTH(Inputs!$B$5)+A8,1),0)))) | V8: =Inputs!$B$19
A9: 0 | B9: =DATE(YEAR(Inputs!$B$5),MONTH(Inputs!$B$5)+A9,MIN(MAX(1,ROUND(Inputs!$B$10,0)),DAY(EOMONTH(DATE(YEAR(Inputs!$B$5),MONTH(Inputs!$B$5)+A9,1),0)))) | C9: =IF(B9>=Inputs!$B$5,COUNTIF(B$5:B8,">="&Inputs!$B$5),-1) | D9: =Inputs!$B$8*IF(C9>=0,(1+Inputs!$B$9)^C9,1) | E9: =B9+Inputs!$B$12 | F9: =D9*MIN(1,MAX(0,Inputs!$B$11)) | G9: =B9+Inputs!$B$13 | H9: =D9-F9 | J9: =DATE(YEAR(Inputs!$B$5),MONTH(Inputs!$B$5)+A9,15) | K9: =IF(Inputs!$B$15="Semi-monthly",Inputs!$B$14/2,0) | L9: =EOMONTH(DATE(YEAR(Inputs!$B$5),MONTH(Inputs!$B$5)+A9,1),0) | M9: =IF(Inputs!$B$15="Semi-monthly",Inputs!$B$14/2,IF(Inputs!$B$15="Monthly",Inputs!$B$14,0)) | N9: =DATE(YEAR(Inputs!$B$5),MONTH(Inputs!$B$5)+A9,MIN(MAX(1,ROUND(Inputs!$B$18,0)),DAY(EOMONTH(DATE(YEAR(Inputs!$B$5),MONTH(Inputs!$B$5)+A9,1),0)))) | O9: =Inputs!$B$17 | Q9: 4 | R9: =Inputs!$B$5+7*(MAX(1,ROUND(Inputs!$B$16,0))-1)+4+14*Q9 | S9: =IF(Inputs!$B$15="Biweekly",Inputs!$B$14*12/26,0) | U9: =DATE(YEAR(Inputs!$B$5),MONTH(Inputs!$B$5)+A9,MIN(MAX(1,ROUND(Inputs!$B$20,0)),DAY(EOMONTH(DATE(YEAR(Inputs!$B$5),MONTH(Inputs!$B$5)+A9,1),0)))) | V9: =Inputs!$B$19
A10: 1 | B10: =DATE(YEAR(Inputs!$B$5),MONTH(Inputs!$B$5)+A10,MIN(MAX(1,ROUND(Inputs!$B$10,0)),DAY(EOMONTH(DATE(YEAR(Inputs!$B$5),MONTH(Inputs!$B$5)+A10,1),0)))) | C10: =IF(B10>=Inputs!$B$5,COUNTIF(B$5:B9,">="&Inputs!$B$5),-1) | D10: =Inputs!$B$8*IF(C10>=0,(1+Inputs!$B$9)^C10,1) | E10: =B10+Inputs!$B$12 | F10: =D10*MIN(1,MAX(0,Inputs!$B$11)) | G10: =B10+Inputs!$B$13 | H10: =D10-F10 | J10: =DATE(YEAR(Inputs!$B$5),MONTH(Inputs!$B$5)+A10,15) | K10: =IF(Inputs!$B$15="Semi-monthly",Inputs!$B$14/2,0) | L10: =EOMONTH(DATE(YEAR(Inputs!$B$5),MONTH(Inputs!$B$5)+A10,1),0) | M10: =IF(Inputs!$B$15="Semi-monthly",Inputs!$B$14/2,IF(Inputs!$B$15="Monthly",Inputs!$B$14,0)) | N10: =DATE(YEAR(Inputs!$B$5),MONTH(Inputs!$B$5)+A10,MIN(MAX(1,ROUND(Inputs!$B$18,0)),DAY(EOMONTH(DATE(YEAR(Inputs!$B$5),MONTH(Inputs!$B$5)+A10,1),0)))) | O10: =Inputs!$B$17 | Q10: 5 | R10: =Inputs!$B$5+7*(MAX(1,ROUND(Inputs!$B$16,0))-1)+4+14*Q10 | S10: =IF(Inputs!$B$15="Biweekly",Inputs!$B$14*12/26,0) | U10: =DATE(YEAR(Inputs!$B$5),MONTH(Inputs!$B$5)+A10,MIN(MAX(1,ROUND(Inputs!$B$20,0)),DAY(EOMONTH(DATE(YEAR(Inputs!$B$5),MONTH(Inputs!$B$5)+A10,1),0)))) | V10: =Inputs!$B$19
A11: 2 | B11: =DATE(YEAR(Inputs!$B$5),MONTH(Inputs!$B$5)+A11,MIN(MAX(1,ROUND(Inputs!$B$10,0)),DAY(EOMONTH(DATE(YEAR(Inputs!$B$5),MONTH(Inputs!$B$5)+A11,1),0)))) | C11: =IF(B11>=Inputs!$B$5,COUNTIF(B$5:B10,">="&Inputs!$B$5),-1) | D11: =Inputs!$B$8*IF(C11>=0,(1+Inputs!$B$9)^C11,1) | E11: =B11+Inputs!$B$12 | F11: =D11*MIN(1,MAX(0,Inputs!$B$11)) | G11: =B11+Inputs!$B$13 | H11: =D11-F11 | J11: =DATE(YEAR(Inputs!$B$5),MONTH(Inputs!$B$5)+A11,15) | K11: =IF(Inputs!$B$15="Semi-monthly",Inputs!$B$14/2,0) | L11: =EOMONTH(DATE(YEAR(Inputs!$B$5),MONTH(Inputs!$B$5)+A11,1),0) | M11: =IF(Inputs!$B$15="Semi-monthly",Inputs!$B$14/2,IF(Inputs!$B$15="Monthly",Inputs!$B$14,0)) | N11: =DATE(YEAR(Inputs!$B$5),MONTH(Inputs!$B$5)+A11,MIN(MAX(1,ROUND(Inputs!$B$18,0)),DAY(EOMONTH(DATE(YEAR(Inputs!$B$5),MONTH(Inputs!$B$5)+A11,1),0)))) | O11: =Inputs!$B$17 | Q11: 6 | R11: =Inputs!$B$5+7*(MAX(1,ROUND(Inputs!$B$16,0))-1)+4+14*Q11 | S11: =IF(Inputs!$B$15="Biweekly",Inputs!$B$14*12/26,0) | U11: =DATE(YEAR(Inputs!$B$5),MONTH(Inputs!$B$5)+A11,MIN(MAX(1,ROUND(Inputs!$B$20,0)),DAY(EOMONTH(DATE(YEAR(Inputs!$B$5),MONTH(Inputs!$B$5)+A11,1),0)))) | V11: =Inputs!$B$19
A12: 3 | B12: =DATE(YEAR(Inputs!$B$5),MONTH(Inputs!$B$5)+A12,MIN(MAX(1,ROUND(Inputs!$B$10,0)),DAY(EOMONTH(DATE(YEAR(Inputs!$B$5),MONTH(Inputs!$B$5)+A12,1),0)))) | C12: =IF(B12>=Inputs!$B$5,COUNTIF(B$5:B11,">="&Inputs!$B$5),-1) | D12: =Inputs!$B$8*IF(C12>=0,(1+Inputs!$B$9)^C12,1) | E12: =B12+Inputs!$B$12 | F12: =D12*MIN(1,MAX(0,Inputs!$B$11)) | G12: =B12+Inputs!$B$13 | H12: =D12-F12 | J12: =DATE(YEAR(Inputs!$B$5),MONTH(Inputs!$B$5)+A12,15) | K12: =IF(Inputs!$B$15="Semi-monthly",Inputs!$B$14/2,0) | L12: =EOMONTH(DATE(YEAR(Inputs!$B$5),MONTH(Inputs!$B$5)+A12,1),0) | M12: =IF(Inputs!$B$15="Semi-monthly",Inputs!$B$14/2,IF(Inputs!$B$15="Monthly",Inputs!$B$14,0)) | N12: =DATE(YEAR(Inputs!$B$5),MONTH(Inputs!$B$5)+A12,MIN(MAX(1,ROUND(Inputs!$B$18,0)),DAY(EOMONTH(DATE(YEAR(Inputs!$B$5),MONTH(Inputs!$B$5)+A12,1),0)))) | O12: =Inputs!$B$17 | Q12: 7 | R12: =Inputs!$B$5+7*(MAX(1,ROUND(Inputs!$B$16,0))-1)+4+14*Q12 | S12: =IF(Inputs!$B$15="Biweekly",Inputs!$B$14*12/26,0) | U12: =DATE(YEAR(Inputs!$B$5),MONTH(Inputs!$B$5)+A12,MIN(MAX(1,ROUND(Inputs!$B$20,0)),DAY(EOMONTH(DATE(YEAR(Inputs!$B$5),MONTH(Inputs!$B$5)+A12,1),0)))) | V12: =Inputs!$B$19
A13: 4 | B13: =DATE(YEAR(Inputs!$B$5),MONTH(Inputs!$B$5)+A13,MIN(MAX(1,ROUND(Inputs!$B$10,0)),DAY(EOMONTH(DATE(YEAR(Inputs!$B$5),MONTH(Inputs!$B$5)+A13,1),0)))) | C13: =IF(B13>=Inputs!$B$5,COUNTIF(B$5:B12,">="&Inputs!$B$5),-1) | D13: =Inputs!$B$8*IF(C13>=0,(1+Inputs!$B$9)^C13,1) | E13: =B13+Inputs!$B$12 | F13: =D13*MIN(1,MAX(0,Inputs!$B$11)) | G13: =B13+Inputs!$B$13 | H13: =D13-F13 | J13: =DATE(YEAR(Inputs!$B$5),MONTH(Inputs!$B$5)+A13,15) | K13: =IF(Inputs!$B$15="Semi-monthly",Inputs!$B$14/2,0) | L13: =EOMONTH(DATE(YEAR(Inputs!$B$5),MONTH(Inputs!$B$5)+A13,1),0) | M13: =IF(Inputs!$B$15="Semi-monthly",Inputs!$B$14/2,IF(Inputs!$B$15="Monthly",Inputs!$B$14,0)) | N13: =DATE(YEAR(Inputs!$B$5),MONTH(Inputs!$B$5)+A13,MIN(MAX(1,ROUND(Inputs!$B$18,0)),DAY(EOMONTH(DATE(YEAR(Inputs!$B$5),MONTH(Inputs!$B$5)+A13,1),0)))) | O13: =Inputs!$B$17 | Q13: 8 | R13: =Inputs!$B$5+7*(MAX(1,ROUND(Inputs!$B$16,0))-1)+4+14*Q13 | S13: =IF(Inputs!$B$15="Biweekly",Inputs!$B$14*12/26,0) | U13: =DATE(YEAR(Inputs!$B$5),MONTH(Inputs!$B$5)+A13,MIN(MAX(1,ROUND(Inputs!$B$20,0)),DAY(EOMONTH(DATE(YEAR(Inputs!$B$5),MONTH(Inputs!$B$5)+A13,1),0)))) | V13: =Inputs!$B$19
A14: 5 | B14: =DATE(YEAR(Inputs!$B$5),MONTH(Inputs!$B$5)+A14,MIN(MAX(1,ROUND(Inputs!$B$10,0)),DAY(EOMONTH(DATE(YEAR(Inputs!$B$5),MONTH(Inputs!$B$5)+A14,1),0)))) | C14: =IF(B14>=Inputs!$B$5,COUNTIF(B$5:B13,">="&Inputs!$B$5),-1) | D14: =Inputs!$B$8*IF(C14>=0,(1+Inputs!$B$9)^C14,1) | E14: =B14+Inputs!$B$12 | F14: =D14*MIN(1,MAX(0,Inputs!$B$11)) | G14: =B14+Inputs!$B$13 | H14: =D14-F14 | J14: =DATE(YEAR(Inputs!$B$5),MONTH(Inputs!$B$5)+A14,15) | K14: =IF(Inputs!$B$15="Semi-monthly",Inputs!$B$14/2,0) | L14: =EOMONTH(DATE(YEAR(Inputs!$B$5),MONTH(Inputs!$B$5)+A14,1),0) | M14: =IF(Inputs!$B$15="Semi-monthly",Inputs!$B$14/2,IF(Inputs!$B$15="Monthly",Inputs!$B$14,0)) | N14: =DATE(YEAR(Inputs!$B$5),MONTH(Inputs!$B$5)+A14,MIN(MAX(1,ROUND(Inputs!$B$18,0)),DAY(EOMONTH(DATE(YEAR(Inputs!$B$5),MONTH(Inputs!$B$5)+A14,1),0)))) | O14: =Inputs!$B$17 | Q14: 9 | R14: =Inputs!$B$5+7*(MAX(1,ROUND(Inputs!$B$16,0))-1)+4+14*Q14 | S14: =IF(Inputs!$B$15="Biweekly",Inputs!$B$14*12/26,0) | U14: =DATE(YEAR(Inputs!$B$5),MONTH(Inputs!$B$5)+A14,MIN(MAX(1,ROUND(Inputs!$B$20,0)),DAY(EOMONTH(DATE(YEAR(Inputs!$B$5),MONTH(Inputs!$B$5)+A14,1),0)))) | V14: =Inputs!$B$19
A15: 6 | B15: =DATE(YEAR(Inputs!$B$5),MONTH(Inputs!$B$5)+A15,MIN(MAX(1,ROUND(Inputs!$B$10,0)),DAY(EOMONTH(DATE(YEAR(Inputs!$B$5),MONTH(Inputs!$B$5)+A15,1),0)))) | C15: =IF(B15>=Inputs!$B$5,COUNTIF(B$5:B14,">="&Inputs!$B$5),-1) | D15: =Inputs!$B$8*IF(C15>=0,(1+Inputs!$B$9)^C15,1) | E15: =B15+Inputs!$B$12 | F15: =D15*MIN(1,MAX(0,Inputs!$B$11)) | G15: =B15+Inputs!$B$13 | H15: =D15-F15 | J15: =DATE(YEAR(Inputs!$B$5),MONTH(Inputs!$B$5)+A15,15) | K15: =IF(Inputs!$B$15="Semi-monthly",Inputs!$B$14/2,0) | L15: =EOMONTH(DATE(YEAR(Inputs!$B$5),MONTH(Inputs!$B$5)+A15,1),0) | M15: =IF(Inputs!$B$15="Semi-monthly",Inputs!$B$14/2,IF(Inputs!$B$15="Monthly",Inputs!$B$14,0)) | N15: =DATE(YEAR(Inputs!$B$5),MONTH(Inputs!$B$5)+A15,MIN(MAX(1,ROUND(Inputs!$B$18,0)),DAY(EOMONTH(DATE(YEAR(Inputs!$B$5),MONTH(Inputs!$B$5)+A15,1),0)))) | O15: =Inputs!$B$17 | Q15: 10 | R15: =Inputs!$B$5+7*(MAX(1,ROUND(Inputs!$B$16,0))-1)+4+14*Q15 | S15: =IF(Inputs!$B$15="Biweekly",Inputs!$B$14*12/26,0) | U15: =DATE(YEAR(Inputs!$B$5),MONTH(Inputs!$B$5)+A15,MIN(MAX(1,ROUND(Inputs!$B$20,0)),DAY(EOMONTH(DATE(YEAR(Inputs!$B$5),MONTH(Inputs!$B$5)+A15,1),0)))) | V15: =Inputs!$B$19
A16: 7 | B16: =DATE(YEAR(Inputs!$B$5),MONTH(Inputs!$B$5)+A16,MIN(MAX(1,ROUND(Inputs!$B$10,0)),DAY(EOMONTH(DATE(YEAR(Inputs!$B$5),MONTH(Inputs!$B$5)+A16,1),0)))) | C16: =IF(B16>=Inputs!$B$5,COUNTIF(B$5:B15,">="&Inputs!$B$5),-1) | D16: =Inputs!$B$8*IF(C16>=0,(1+Inputs!$B$9)^C16,1) | E16: =B16+Inputs!$B$12 | F16: =D16*MIN(1,MAX(0,Inputs!$B$11)) | G16: =B16+Inputs!$B$13 | H16: =D16-F16 | J16: =DATE(YEAR(Inputs!$B$5),MONTH(Inputs!$B$5)+A16,15) | K16: =IF(Inputs!$B$15="Semi-monthly",Inputs!$B$14/2,0) | L16: =EOMONTH(DATE(YEAR(Inputs!$B$5),MONTH(Inputs!$B$5)+A16,1),0) | M16: =IF(Inputs!$B$15="Semi-monthly",Inputs!$B$14/2,IF(Inputs!$B$15="Monthly",Inputs!$B$14,0)) | N16: =DATE(YEAR(Inputs!$B$5),MONTH(Inputs!$B$5)+A16,MIN(MAX(1,ROUND(Inputs!$B$18,0)),DAY(EOMONTH(DATE(YEAR(Inputs!$B$5),MONTH(Inputs!$B$5)+A16,1),0)))) | O16: =Inputs!$B$17 | Q16: 11 | R16: =Inputs!$B$5+7*(MAX(1,ROUND(Inputs!$B$16,0))-1)+4+14*Q16 | S16: =IF(Inputs!$B$15="Biweekly",Inputs!$B$14*12/26,0) | U16: =DATE(YEAR(Inputs!$B$5),MONTH(Inputs!$B$5)+A16,MIN(MAX(1,ROUND(Inputs!$B$20,0)),DAY(EOMONTH(DATE(YEAR(Inputs!$B$5),MONTH(Inputs!$B$5)+A16,1),0)))) | V16: =Inputs!$B$19
A17: 8 | B17: =DATE(YEAR(Inputs!$B$5),MONTH(Inputs!$B$5)+A17,MIN(MAX(1,ROUND(Inputs!$B$10,0)),DAY(EOMONTH(DATE(YEAR(Inputs!$B$5),MONTH(Inputs!$B$5)+A17,1),0)))) | C17: =IF(B17>=Inputs!$B$5,COUNTIF(B$5:B16,">="&Inputs!$B$5),-1) | D17: =Inputs!$B$8*IF(C17>=0,(1+Inputs!$B$9)^C17,1) | E17: =B17+Inputs!$B$12 | F17: =D17*MIN(1,MAX(0,Inputs!$B$11)) | G17: =B17+Inputs!$B$13 | H17: =D17-F17 | J17: =DATE(YEAR(Inputs!$B$5),MONTH(Inputs!$B$5)+A17,15) | K17: =IF(Inputs!$B$15="Semi-monthly",Inputs!$B$14/2,0) | L17: =EOMONTH(DATE(YEAR(Inputs!$B$5),MONTH(Inputs!$B$5)+A17,1),0) | M17: =IF(Inputs!$B$15="Semi-monthly",Inputs!$B$14/2,IF(Inputs!$B$15="Monthly",Inputs!$B$14,0)) | N17: =DATE(YEAR(Inputs!$B$5),MONTH(Inputs!$B$5)+A17,MIN(MAX(1,ROUND(Inputs!$B$18,0)),DAY(EOMONTH(DATE(YEAR(Inputs!$B$5),MONTH(Inputs!$B$5)+A17,1),0)))) | O17: =Inputs!$B$17 | Q17: 12 | R17: =Inputs!$B$5+7*(MAX(1,ROUND(Inputs!$B$16,0))-1)+4+14*Q17 | S17: =IF(Inputs!$B$15="Biweekly",Inputs!$B$14*12/26,0) | U17: =DATE(YEAR(Inputs!$B$5),MONTH(Inputs!$B$5)+A17,MIN(MAX(1,ROUND(Inputs!$B$20,0)),DAY(EOMONTH(DATE(YEAR(Inputs!$B$5),MONTH(Inputs!$B$5)+A17,1),0)))) | V17: =Inputs!$B$19

Sheet About
A1: Free template by Adlega
A2: Live 13-week cash flow forecast: https://adlega.com/blog/tools/13-week-cash-flow/
A3: Version: October 2026
A5: This template is a planning aid, not advice. It is not tax, legal, accounting or investment advice; check the numbers with your own advisers before you act on them.
A6: Blue cells on a light yellow background are inputs (Inputs and Rolling sheets). Every other number is a live formula that mirrors the web calculator.
A8: Weeks run Monday to Sunday from the start date. Every payment has a date and lands in the week that contains it.
A9: Subscriptions: billed on the billing day each month. The card share arrives after the payout delay, the rest after the invoice terms. Bills before week 1 count if collected inside the window.
A10: Billing growth applies from the first bill on or after week 1: bill k = billed per month x (1 + growth)^k.
A11: Payroll: the monthly cost including employer taxes and benefits, split into runs. Biweekly = monthly x 12 / 26 every other Friday; semi-monthly = half on the 15th and half on the last day; monthly = all on the last day.
A12: Payroll taxes are paid in the same week as the pay run (simplification). A weekend payday moves to the Friday before, which is always the same week.
A13: Payment processing and variable costs = the percentage x customer collections (card + invoice + annual) in the same week.
A14: Rolling: closed weeks use actual totals, the cash balance carries forward from them, and the forecast lines run unchanged for the 13 weeks after the last close.
A16: Adlega is a financial forecasting and planning app for SaaS founders: https://adlega.com
