Workbook

Sheet Inputs
A1: 3-Year Financial Projections Template: inputs
A2: Change the blue cells on light yellow (here and on the Headcount sheet). Everything else is a live formula. Live version: https://adlega.com/blog/tools/financial-projections-template/
A4: First month of the projection | B4: 46388
A5: Starting MRR | B5: 50000
A6: ARPA (MRR per customer) | B6: 500
A7: New MRR in month 1 | B7: 6000
A8: New MRR growth per month | B8: 0.03
A9: Monthly churn (% of MRR, also used for customers) | B9: 0.02
A10: Monthly expansion (% of MRR) | B10: 0.01
A11: COGS (% of revenue) | B11: 0.22
A12: Other operating expenses, fixed per month | B12: 15000
A13: Other operating expenses, % of revenue | B13: 0.05
A14: Capex per month | B14: 2000
A15: Useful life of capex (months, straight line) | B15: 36
... A20: Carryforward limit (% of taxable income, 26 U.S.C. 172) | B20: 0.8
A22: Example inputs are illustrative, not benchmarks. Tax is a simplification: federal rate only, no state tax or credits.

Sheet Headcount
A1: Headcount plan
A2: Department is R&D, S&M or G&A. Cost = loaded monthly cost per person. Start = plan month 1 to 36 (blank row = ignored).
A4: Role | B4: Department | C4: Count | D4: Cost / person / month | E4: Start month (1-36)
A5: Engineers | B5: R&D | C5: 4 | D5: 13000 | E5: 1
A6: Sales and marketing team | B6: S&M | C6: 3 | D6: 11000 | E6: 1
A7: Founder / operations | B7: G&A | C7: 1 | D7: 10000 | E7: 1
A8: Engineers (H2 hires) | B8: R&D | C8: 2 | D8: 13000 | E8: 7
A9: Account executives | B9: S&M | C9: 2 | D9: 12000 | E9: 10
A10: Finance and people | B10: G&A | C10: 1 | D10: 10000 | E10: 13
A11: Engineers (year 2) | B11: R&D | C11: 2 | D11: 13000 | E11: 16
A12: Sales team (year 2) | B12: S&M | C12: 3 | D12: 11000 | E12: 19
A13: Engineers (year 3) | B13: R&D | C13: 3 | D13: 13000 | E13: 25
A14: Sales team (year 3) | B14: S&M | C14: 3 | D14: 11000 | E14: 25

Sheet Monthly
A1: Monthly projection (36 months)
A3: Plan month | B3: 1 | C3: 2 | D3: 3 | E3: 4 | F3: 5 | G3: 6 | H3: 7 | I3: 8 | J3: 9 | K3: 10 | L3: 11 | M3: 12 | N3: 13 | O3: 14 | P3: 15 | Q3: 16 | R3: 17 | S3: 18 | T3: 19 | U3: 20 | V3: 21 | W3: 22 | X3: 23 | Y3: 24 | Z3: 25 | AA3: 26 | AB3: 27 | AC3: 28 | AD3: 29 | AE3: 30 | AF3: 31 | AG3: 32 | AH3: 33 | AI3: 34 | AJ3: 35 | AK3: 36
A4: Plan year | B4: =ROUNDUP(B3/12,0) | C4: =ROUNDUP(C3/12,0) | D4: =ROUNDUP(D3/12,0) | E4: =ROUNDUP(E3/12,0) | F4: =ROUNDUP(F3/12,0) | G4: =ROUNDUP(G3/12,0) | H4: =ROUNDUP(H3/12,0) | I4: =ROUNDUP(I3/12,0) | ... AK4: =ROUNDUP(AK3/12,0)
A5: Month | B5: =EDATE(Inputs!$B$4,B3-1) | C5: =EDATE(Inputs!$B$4,C3-1) | D5: =EDATE(Inputs!$B$4,D3-1) | E5: =EDATE(Inputs!$B$4,E3-1) | F5: =EDATE(Inputs!$B$4,F3-1) | G5: =EDATE(Inputs!$B$4,G3-1) | H5: =EDATE(Inputs!$B$4,H3-1) | I5: =EDATE(Inputs!$B$4,I3-1) | ... AK5: =EDATE(Inputs!$B$4,AK3-1)
A6: New MRR | B6: =Inputs!$B$7*(1+Inputs!$B$8)^(B3-1) | C6: =Inputs!$B$7*(1+Inputs!$B$8)^(C3-1) | D6: =Inputs!$B$7*(1+Inputs!$B$8)^(D3-1) | E6: =Inputs!$B$7*(1+Inputs!$B$8)^(E3-1) | F6: =Inputs!$B$7*(1+Inputs!$B$8)^(F3-1) | G6: =Inputs!$B$7*(1+Inputs!$B$8)^(G3-1) | H6: =Inputs!$B$7*(1+Inputs!$B$8)^(H3-1) | I6: =Inputs!$B$7*(1+Inputs!$B$8)^(I3-1) | ... AK6: =Inputs!$B$7*(1+Inputs!$B$8)^(AK3-1)
A7: Opening MRR | B7: =Inputs!$B$5 | C7: =B10 | D7: =C10 | E7: =D10 | F7: =E10 | G7: =F10 | H7: =G10 | I7: =H10 | J7: =I10 | ... AK7: =AJ10
A8: Churned MRR | B8: =B7*Inputs!$B$9 | C8: =C7*Inputs!$B$9 | D8: =D7*Inputs!$B$9 | E8: =E7*Inputs!$B$9 | F8: =F7*Inputs!$B$9 | G8: =G7*Inputs!$B$9 | H8: =H7*Inputs!$B$9 | I8: =I7*Inputs!$B$9 | ... AK8: =AK7*Inputs!$B$9
A9: Expansion MRR | B9: =B7*Inputs!$B$10 | C9: =C7*Inputs!$B$10 | D9: =D7*Inputs!$B$10 | E9: =E7*Inputs!$B$10 | F9: =F7*Inputs!$B$10 | G9: =G7*Inputs!$B$10 | H9: =H7*Inputs!$B$10 | I9: =I7*Inputs!$B$10 | ... AK9: =AK7*Inputs!$B$10
A10: MRR (= revenue) | B10: =B7-B8+B9+B6 | C10: =C7-C8+C9+C6 | D10: =D7-D8+D9+D6 | E10: =E7-E8+E9+E6 | F10: =F7-F8+F9+F6 | G10: =G7-G8+G9+G6 | H10: =H7-H8+H9+H6 | I10: =I7-I8+I9+I6 | ... AK10: =AK7-AK8+AK9+AK6
A11: Customers | B11: =IF(Inputs!$B$6>0,Inputs!$B$5/Inputs!$B$6*(1-Inputs!$B$9)+B6/Inputs!$B$6,0) | C11: =IF(Inputs!$B$6>0,B11*(1-Inputs!$B$9)+C6/Inputs!$B$6,0) | D11: =IF(Inputs!$B$6>0,C11*(1-Inputs!$B$9)+D6/Inputs!$B$6,0) | E11: =IF(Inputs!$B$6>0,D11*(1-Inputs!$B$9)+E6/Inputs!$B$6,0) | F11: =IF(Inputs!$B$6>0,E11*(1-Inputs!$B$9)+F6/Inputs!$B$6,0) | G11: =IF(Inputs!$B$6>0,F11*(1-Inputs!$B$9)+G6/Inputs!$B$6,0) | H11: =IF(Inputs!$B$6>0,G11*(1-Inputs!$B$9)+H6/Inputs!$B$6,0) | I11: =IF(Inputs!$B$6>0,H11*(1-Inputs!$B$9)+I6/Inputs!$B$6,0) | J11: =IF(Inputs!$B$6>0,I11*(1-Inputs!$B$9)+J6/Inputs!$B$6,0) | ... AK11: =IF(Inputs!$B$6>0,AJ11*(1-Inputs!$B$9)+AK6/Inputs!$B$6,0)
A12: Revenue | B12: =B10 | C12: =C10 | D12: =D10 | E12: =E10 | F12: =F10 | G12: =G10 | H12: =H10 | I12: =I10 | ... AK12: =AK10
A13: COGS | B13: =Inputs!$B$11*B12 | C13: =Inputs!$B$11*C12 | D13: =Inputs!$B$11*D12 | E13: =Inputs!$B$11*E12 | F13: =Inputs!$B$11*F12 | G13: =Inputs!$B$11*G12 | H13: =Inputs!$B$11*H12 | I13: =Inputs!$B$11*I12 | ... AK13: =Inputs!$B$11*AK12
A14: Gross profit | B14: =B12-B13 | C14: =C12-C13 | D14: =D12-D13 | E14: =E12-E13 | F14: =F12-F13 | G14: =G12-G13 | H14: =H12-H13 | I14: =I12-I13 | ... AK14: =AK12-AK13
A15: R&D payroll | B15: =SUMPRODUCT((Headcount!$B$5:$B$24="R&D")*(Headcount!$E$5:$E$24<=B3)*(Headcount!$E$5:$E$24<>"")*Headcount!$C$5:$C$24*Headcount!$D$5:$D$24) | C15: =SUMPRODUCT((Headcount!$B$5:$B$24="R&D")*(Headcount!$E$5:$E$24<=C3)*(Headcount!$E$5:$E$24<>"")*Headcount!$C$5:$C$24*Headcount!$D$5:$D$24) | D15: =SUMPRODUCT((Headcount!$B$5:$B$24="R&D")*(Headcount!$E$5:$E$24<=D3)*(Headcount!$E$5:$E$24<>"")*Headcount!$C$5:$C$24*Headcount!$D$5:$D$24) | E15: =SUMPRODUCT((Headcount!$B$5:$B$24="R&D")*(Headcount!$E$5:$E$24<=E3)*(Headcount!$E$5:$E$24<>"")*Headcount!$C$5:$C$24*Headcount!$D$5:$D$24) | F15: =SUMPRODUCT((Headcount!$B$5:$B$24="R&D")*(Headcount!$E$5:$E$24<=F3)*(Headcount!$E$5:$E$24<>"")*Headcount!$C$5:$C$24*Headcount!$D$5:$D$24) | G15: =SUMPRODUCT((Headcount!$B$5:$B$24="R&D")*(Headcount!$E$5:$E$24<=G3)*(Headcount!$E$5:$E$24<>"")*Headcount!$C$5:$C$24*Headcount!$D$5:$D$24) | H15: =SUMPRODUCT((Headcount!$B$5:$B$24="R&D")*(Headcount!$E$5:$E$24<=H3)*(Headcount!$E$5:$E$24<>"")*Headcount!$C$5:$C$24*Headcount!$D$5:$D$24) | I15: =SUMPRODUCT((Headcount!$B$5:$B$24="R&D")*(Headcount!$E$5:$E$24<=I3)*(Headcount!$E$5:$E$24<>"")*Headcount!$C$5:$C$24*Headcount!$D$5:$D$24) | ... AK15: =SUMPRODUCT((Headcount!$B$5:$B$24="R&D")*(Headcount!$E$5:$E$24<=AK3)*(Headcount!$E$5:$E$24<>"")*Headcount!$C$5:$C$24*Headcount!$D$5:$D$24)
A16: S&M payroll | B16: =SUMPRODUCT((Headcount!$B$5:$B$24="S&M")*(Headcount!$E$5:$E$24<=B3)*(Headcount!$E$5:$E$24<>"")*Headcount!$C$5:$C$24*Headcount!$D$5:$D$24) | C16: =SUMPRODUCT((Headcount!$B$5:$B$24="S&M")*(Headcount!$E$5:$E$24<=C3)*(Headcount!$E$5:$E$24<>"")*Headcount!$C$5:$C$24*Headcount!$D$5:$D$24) | D16: =SUMPRODUCT((Headcount!$B$5:$B$24="S&M")*(Headcount!$E$5:$E$24<=D3)*(Headcount!$E$5:$E$24<>"")*Headcount!$C$5:$C$24*Headcount!$D$5:$D$24) | E16: =SUMPRODUCT((Headcount!$B$5:$B$24="S&M")*(Headcount!$E$5:$E$24<=E3)*(Headcount!$E$5:$E$24<>"")*Headcount!$C$5:$C$24*Headcount!$D$5:$D$24) | F16: =SUMPRODUCT((Headcount!$B$5:$B$24="S&M")*(Headcount!$E$5:$E$24<=F3)*(Headcount!$E$5:$E$24<>"")*Headcount!$C$5:$C$24*Headcount!$D$5:$D$24) | G16: =SUMPRODUCT((Headcount!$B$5:$B$24="S&M")*(Headcount!$E$5:$E$24<=G3)*(Headcount!$E$5:$E$24<>"")*Headcount!$C$5:$C$24*Headcount!$D$5:$D$24) | H16: =SUMPRODUCT((Headcount!$B$5:$B$24="S&M")*(Headcount!$E$5:$E$24<=H3)*(Headcount!$E$5:$E$24<>"")*Headcount!$C$5:$C$24*Headcount!$D$5:$D$24) | I16: =SUMPRODUCT((Headcount!$B$5:$B$24="S&M")*(Headcount!$E$5:$E$24<=I3)*(Headcount!$E$5:$E$24<>"")*Headcount!$C$5:$C$24*Headcount!$D$5:$D$24) | ... AK16: =SUMPRODUCT((Headcount!$B$5:$B$24="S&M")*(Headcount!$E$5:$E$24<=AK3)*(Headcount!$E$5:$E$24<>"")*Headcount!$C$5:$C$24*Headcount!$D$5:$D$24)
A17: G&A payroll | B17: =SUMPRODUCT((Headcount!$B$5:$B$24="G&A")*(Headcount!$E$5:$E$24<=B3)*(Headcount!$E$5:$E$24<>"")*Headcount!$C$5:$C$24*Headcount!$D$5:$D$24) | C17: =SUMPRODUCT((Headcount!$B$5:$B$24="G&A")*(Headcount!$E$5:$E$24<=C3)*(Headcount!$E$5:$E$24<>"")*Headcount!$C$5:$C$24*Headcount!$D$5:$D$24) | D17: =SUMPRODUCT((Headcount!$B$5:$B$24="G&A")*(Headcount!$E$5:$E$24<=D3)*(Headcount!$E$5:$E$24<>"")*Headcount!$C$5:$C$24*Headcount!$D$5:$D$24) | E17: =SUMPRODUCT((Headcount!$B$5:$B$24="G&A")*(Headcount!$E$5:$E$24<=E3)*(Headcount!$E$5:$E$24<>"")*Headcount!$C$5:$C$24*Headcount!$D$5:$D$24) | F17: =SUMPRODUCT((Headcount!$B$5:$B$24="G&A")*(Headcount!$E$5:$E$24<=F3)*(Headcount!$E$5:$E$24<>"")*Headcount!$C$5:$C$24*Headcount!$D$5:$D$24) | G17: =SUMPRODUCT((Headcount!$B$5:$B$24="G&A")*(Headcount!$E$5:$E$24<=G3)*(Headcount!$E$5:$E$24<>"")*Headcount!$C$5:$C$24*Headcount!$D$5:$D$24) | H17: =SUMPRODUCT((Headcount!$B$5:$B$24="G&A")*(Headcount!$E$5:$E$24<=H3)*(Headcount!$E$5:$E$24<>"")*Headcount!$C$5:$C$24*Headcount!$D$5:$D$24) | I17: =SUMPRODUCT((Headcount!$B$5:$B$24="G&A")*(Headcount!$E$5:$E$24<=I3)*(Headcount!$E$5:$E$24<>"")*Headcount!$C$5:$C$24*Headcount!$D$5:$D$24) | ... AK17: =SUMPRODUCT((Headcount!$B$5:$B$24="G&A")*(Headcount!$E$5:$E$24<=AK3)*(Headcount!$E$5:$E$24<>"")*Headcount!$C$5:$C$24*Headcount!$D$5:$D$24)
A18: Other operating expenses | B18: =Inputs!$B$12+Inputs!$B$13*B12 | C18: =Inputs!$B$12+Inputs!$B$13*C12 | D18: =Inputs!$B$12+Inputs!$B$13*D12 | E18: =Inputs!$B$12+Inputs!$B$13*E12 | F18: =Inputs!$B$12+Inputs!$B$13*F12 | G18: =Inputs!$B$12+Inputs!$B$13*G12 | H18: =Inputs!$B$12+Inputs!$B$13*H12 | I18: =Inputs!$B$12+Inputs!$B$13*I12 | ... AK18: =Inputs!$B$12+Inputs!$B$13*AK12
A19: EBITDA | B19: =B14-B15-B16-B17-B18 | C19: =C14-C15-C16-C17-C18 | D19: =D14-D15-D16-D17-D18 | E19: =E14-E15-E16-E17-E18 | F19: =F14-F15-F16-F17-F18 | G19: =G14-G15-G16-G17-G18 | H19: =H14-H15-H16-H17-H18 | I19: =I14-I15-I16-I17-I18 | ... AK19: =AK14-AK15-AK16-AK17-AK18
A20: Depreciation | B20: =Inputs!$B$14/Inputs!$B$15*MIN(B3,Inputs!$B$15) | C20: =Inputs!$B$14/Inputs!$B$15*MIN(C3,Inputs!$B$15) | D20: =Inputs!$B$14/Inputs!$B$15*MIN(D3,Inputs!$B$15) | E20: =Inputs!$B$14/Inputs!$B$15*MIN(E3,Inputs!$B$15) | F20: =Inputs!$B$14/Inputs!$B$15*MIN(F3,Inputs!$B$15) | G20: =Inputs!$B$14/Inputs!$B$15*MIN(G3,Inputs!$B$15) | H20: =Inputs!$B$14/Inputs!$B$15*MIN(H3,Inputs!$B$15) | I20: =Inputs!$B$14/Inputs!$B$15*MIN(I3,Inputs!$B$15) | ... AK20: =Inputs!$B$14/Inputs!$B$15*MIN(AK3,Inputs!$B$15)
A21: Pre-tax income (EBIT) | B21: =B19-B20 | C21: =C19-C20 | D21: =D19-D20 | E21: =E19-E20 | F21: =F19-F20 | G21: =G19-G20 | H21: =H19-H20 | I21: =I19-I20 | ... AK21: =AK19-AK20
A22: Income tax (booked at each year end) | B22: =IF(MOD(B3,12)=0,INDEX(Annual!$B$21:$D$21,B4),0) | C22: =IF(MOD(C3,12)=0,INDEX(Annual!$B$21:$D$21,C4),0) | D22: =IF(MOD(D3,12)=0,INDEX(Annual!$B$21:$D$21,D4),0) | E22: =IF(MOD(E3,12)=0,INDEX(Annual!$B$21:$D$21,E4),0) | F22: =IF(MOD(F3,12)=0,INDEX(Annual!$B$21:$D$21,F4),0) | G22: =IF(MOD(G3,12)=0,INDEX(Annual!$B$21:$D$21,G4),0) | H22: =IF(MOD(H3,12)=0,INDEX(Annual!$B$21:$D$21,H4),0) | I22: =IF(MOD(I3,12)=0,INDEX(Annual!$B$21:$D$21,I4),0) | ... AK22: =IF(MOD(AK3,12)=0,INDEX(Annual!$B$21:$D$21,AK4),0)
A23: Net income | B23: =B21-B22 | C23: =C21-C22 | D23: =D21-D22 | E23: =E21-E22 | F23: =F21-F22 | G23: =G21-G22 | H23: =H21-H22 | I23: =I21-I22 | ... AK23: =AK21-AK22
A24: Cash from operations | B24: =B23+B20 | C24: =C23+C20 | D24: =D23+D20 | E24: =E23+E20 | F24: =F23+F20 | G24: =G23+G20 | H24: =H23+H20 | I24: =I23+I20 | ... AK24: =AK23+AK20
A25: Capex | B25: =Inputs!$B$14 | C25: =Inputs!$B$14 | D25: =Inputs!$B$14 | E25: =Inputs!$B$14 | F25: =Inputs!$B$14 | G25: =Inputs!$B$14 | H25: =Inputs!$B$14 | I25: =Inputs!$B$14 | ... AK25: =Inputs!$B$14
A26: Free cash flow | B26: =B24-B25 | C26: =C24-C25 | D26: =D24-D25 | E26: =E24-E25 | F26: =F24-F25 | G26: =G24-G25 | H26: =H24-H25 | I26: =I24-I25 | ... AK26: =AK24-AK25
A27: Equity raised | B27: =IF(B3=Inputs!$B$18,Inputs!$B$17,0) | C27: =IF(C3=Inputs!$B$18,Inputs!$B$17,0) | D27: =IF(D3=Inputs!$B$18,Inputs!$B$17,0) | E27: =IF(E3=Inputs!$B$18,Inputs!$B$17,0) | F27: =IF(F3=Inputs!$B$18,Inputs!$B$17,0) | G27: =IF(G3=Inputs!$B$18,Inputs!$B$17,0) | H27: =IF(H3=Inputs!$B$18,Inputs!$B$17,0) | I27: =IF(I3=Inputs!$B$18,Inputs!$B$17,0) | ... AK27: =IF(AK3=Inputs!$B$18,Inputs!$B$17,0)
A28: Net change in cash | B28: =B26+B27 | C28: =C26+C27 | D28: =D26+D27 | E28: =E26+E27 | F28: =F26+F27 | G28: =G26+G27 | H28: =H26+H27 | I28: =I26+I27 | ... AK28: =AK26+AK27
A29: Ending cash | B29: =Inputs!$B$16+B28 | C29: =B29+C28 | D29: =C29+D28 | E29: =D29+E28 | F29: =E29+F28 | G29: =F29+G28 | H29: =G29+H28 | I29: =H29+I28 | J29: =I29+J28 | ... AK29: =AJ29+AK28
A30: Cash below zero (1 = yes) | B30: =IF(B29<0,1,0) | C30: =IF(C29<0,1,0) | D30: =IF(D29<0,1,0) | E30: =IF(E29<0,1,0) | F30: =IF(F29<0,1,0) | G30: =IF(G29<0,1,0) | H30: =IF(H29<0,1,0) | I30: =IF(I29<0,1,0) | ... AK30: =IF(AK29<0,1,0)
A31: Headcount | B31: =SUMPRODUCT((Headcount!$E$5:$E$24<=B3)*(Headcount!$E$5:$E$24<>"")*Headcount!$C$5:$C$24) | C31: =SUMPRODUCT((Headcount!$E$5:$E$24<=C3)*(Headcount!$E$5:$E$24<>"")*Headcount!$C$5:$C$24) | D31: =SUMPRODUCT((Headcount!$E$5:$E$24<=D3)*(Headcount!$E$5:$E$24<>"")*Headcount!$C$5:$C$24) | E31: =SUMPRODUCT((Headcount!$E$5:$E$24<=E3)*(Headcount!$E$5:$E$24<>"")*Headcount!$C$5:$C$24) | F31: =SUMPRODUCT((Headcount!$E$5:$E$24<=F3)*(Headcount!$E$5:$E$24<>"")*Headcount!$C$5:$C$24) | G31: =SUMPRODUCT((Headcount!$E$5:$E$24<=G3)*(Headcount!$E$5:$E$24<>"")*Headcount!$C$5:$C$24) | H31: =SUMPRODUCT((Headcount!$E$5:$E$24<=H3)*(Headcount!$E$5:$E$24<>"")*Headcount!$C$5:$C$24) | I31: =SUMPRODUCT((Headcount!$E$5:$E$24<=I3)*(Headcount!$E$5:$E$24<>"")*Headcount!$C$5:$C$24) | ... AK31: =SUMPRODUCT((Headcount!$E$5:$E$24<=AK3)*(Headcount!$E$5:$E$24<>"")*Headcount!$C$5:$C$24)

Sheet Annual
A1: Pro forma income statement, cash flow statement and SaaS metrics
A3: Plan year | B3: 1 | C3: 2 | D3: 3
A4: Period | B4: =TEXT(INDEX(Monthly!$B$5:$AK$5,(B$3-1)*12+1),"mmm yyyy")&" to "&TEXT(INDEX(Monthly!$B$5:$AK$5,B$3*12),"mmm yyyy") | C4: =TEXT(INDEX(Monthly!$B$5:$AK$5,(C$3-1)*12+1),"mmm yyyy")&" to "&TEXT(INDEX(Monthly!$B$5:$AK$5,C$3*12),"mmm yyyy") | D4: =TEXT(INDEX(Monthly!$B$5:$AK$5,(D$3-1)*12+1),"mmm yyyy")&" to "&TEXT(INDEX(Monthly!$B$5:$AK$5,D$3*12),"mmm yyyy")
A6: Income statement
A7: Revenue | B7: =SUMIF(Monthly!$B$4:$AK$4,B$3,Monthly!$B$12:$AK$12) | C7: =SUMIF(Monthly!$B$4:$AK$4,C$3,Monthly!$B$12:$AK$12) | D7: =SUMIF(Monthly!$B$4:$AK$4,D$3,Monthly!$B$12:$AK$12)
A8: Cost of revenue (COGS) | B8: =SUMIF(Monthly!$B$4:$AK$4,B$3,Monthly!$B$13:$AK$13) | C8: =SUMIF(Monthly!$B$4:$AK$4,C$3,Monthly!$B$13:$AK$13) | D8: =SUMIF(Monthly!$B$4:$AK$4,D$3,Monthly!$B$13:$AK$13)
A9: Gross profit | B9: =B7-B8 | C9: =C7-C8 | D9: =D7-D8
A10: Gross margin | B10: =IF(B7>0,B9/B7,"") | C10: =IF(C7>0,C9/C7,"") | D10: =IF(D7>0,D9/D7,"")
A11: Research and development (people) | B11: =SUMIF(Monthly!$B$4:$AK$4,B$3,Monthly!$B$15:$AK$15) | C11: =SUMIF(Monthly!$B$4:$AK$4,C$3,Monthly!$B$15:$AK$15) | D11: =SUMIF(Monthly!$B$4:$AK$4,D$3,Monthly!$B$15:$AK$15)
A12: Sales and marketing (people) | B12: =SUMIF(Monthly!$B$4:$AK$4,B$3,Monthly!$B$16:$AK$16) | C12: =SUMIF(Monthly!$B$4:$AK$4,C$3,Monthly!$B$16:$AK$16) | D12: =SUMIF(Monthly!$B$4:$AK$4,D$3,Monthly!$B$16:$AK$16)
A13: General and administrative (people) | B13: =SUMIF(Monthly!$B$4:$AK$4,B$3,Monthly!$B$17:$AK$17) | C13: =SUMIF(Monthly!$B$4:$AK$4,C$3,Monthly!$B$17:$AK$17) | D13: =SUMIF(Monthly!$B$4:$AK$4,D$3,Monthly!$B$17:$AK$17)
A14: Other operating expenses | B14: =SUMIF(Monthly!$B$4:$AK$4,B$3,Monthly!$B$18:$AK$18) | C14: =SUMIF(Monthly!$B$4:$AK$4,C$3,Monthly!$B$18:$AK$18) | D14: =SUMIF(Monthly!$B$4:$AK$4,D$3,Monthly!$B$18:$AK$18)
A15: EBITDA | B15: =B9-B11-B12-B13-B14 | C15: =C9-C11-C12-C13-C14 | D15: =D9-D11-D12-D13-D14
A16: EBITDA margin | B16: =IF(B7>0,B15/B7,"") | C16: =IF(C7>0,C15/C7,"") | D16: =IF(D7>0,D15/D7,"")
A17: Depreciation | B17: =SUMIF(Monthly!$B$4:$AK$4,B$3,Monthly!$B$20:$AK$20) | C17: =SUMIF(Monthly!$B$4:$AK$4,C$3,Monthly!$B$20:$AK$20) | D17: =SUMIF(Monthly!$B$4:$AK$4,D$3,Monthly!$B$20:$AK$20)
A18: Pre-tax income (EBIT) | B18: =B15-B17 | C18: =C15-C17 | D18: =D15-D17
A19: Loss carryforward at start of year | B19: =0 | C19: =B22 | D19: =C22
A20: Carryforward used | B20: =IF(B18>0,MIN(B19,Inputs!$B$20*B18),0) | C20: =IF(C18>0,MIN(C19,Inputs!$B$20*C18),0) | D20: =IF(D18>0,MIN(D19,Inputs!$B$20*D18),0)
A21: Income tax | B21: =IF(B18>0,Inputs!$B$19*(B18-B20),0) | C21: =IF(C18>0,Inputs!$B$19*(C18-C20),0) | D21: =IF(D18>0,Inputs!$B$19*(D18-D20),0)
A22: Loss carryforward at end of year | B22: =B19-B20+IF(B18<0,-B18,0) | C22: =C19-C20+IF(C18<0,-C18,0) | D22: =D19-D20+IF(D18<0,-D18,0)
A23: Net income | B23: =B18-B21 | C23: =C18-C21 | D23: =D18-D21
A25: Cash flow statement
A26: Net income | B26: =B23 | C26: =C23 | D26: =D23
A27: Add back depreciation | B27: =B17 | C27: =C17 | D27: =D17
A28: Cash from operations | B28: =B26+B27 | C28: =C26+C27 | D28: =D26+D27
A29: Capex | B29: =-SUMIF(Monthly!$B$4:$AK$4,B$3,Monthly!$B$25:$AK$25) | C29: =-SUMIF(Monthly!$B$4:$AK$4,C$3,Monthly!$B$25:$AK$25) | D29: =-SUMIF(Monthly!$B$4:$AK$4,D$3,Monthly!$B$25:$AK$25)
A30: Free cash flow | B30: =B28+B29 | C30: =C28+C29 | D30: =D28+D29
A31: Equity raised | B31: =SUMIF(Monthly!$B$4:$AK$4,B$3,Monthly!$B$27:$AK$27) | C31: =SUMIF(Monthly!$B$4:$AK$4,C$3,Monthly!$B$27:$AK$27) | D31: =SUMIF(Monthly!$B$4:$AK$4,D$3,Monthly!$B$27:$AK$27)
A32: Net change in cash | B32: =B30+B31 | C32: =C30+C31 | D32: =D30+D31
A33: Opening cash | B33: =Inputs!$B$16 | C33: =B34 | D33: =C34
A34: Closing cash | B34: =B33+B32 | C34: =C33+C32 | D34: =D33+D32
A36: SaaS metrics
A37: Ending ARR | B37: =INDEX(Monthly!$B$10:$AK$10,B$3*12)*12 | C37: =INDEX(Monthly!$B$10:$AK$10,C$3*12)*12 | D37: =INDEX(Monthly!$B$10:$AK$10,D$3*12)*12
A38: Opening ARR | B38: =INDEX(Monthly!$B$7:$AK$7,(B$3-1)*12+1)*12 | C38: =INDEX(Monthly!$B$7:$AK$7,(C$3-1)*12+1)*12 | D38: =INDEX(Monthly!$B$7:$AK$7,(D$3-1)*12+1)*12
A39: Net new ARR | B39: =B37-B38 | C39: =C37-C38 | D39: =D37-D38
A40: ARR growth | B40: =IF(B38>0,B39/B38,"") | C40: =IF(C38>0,C39/C38,"") | D40: =IF(D38>0,D39/D38,"")
A41: Revenue growth | B41: ="" | C41: =IF(B7>0,C7/B7-1,"") | D41: =IF(C7>0,D7/C7-1,"")
A42: Customers at year end | B42: =INDEX(Monthly!$B$11:$AK$11,B$3*12) | C42: =INDEX(Monthly!$B$11:$AK$11,C$3*12) | D42: =INDEX(Monthly!$B$11:$AK$11,D$3*12)
A43: ARPA at year end | B43: =IF(B42>0,INDEX(Monthly!$B$10:$AK$10,B$3*12)/B42,"") | C43: =IF(C42>0,INDEX(Monthly!$B$10:$AK$10,C$3*12)/C42,"") | D43: =IF(D42>0,INDEX(Monthly!$B$10:$AK$10,D$3*12)/D42,"")
A44: NRR (approximation: (1 - churn + expansion)^12) | B44: =(1-Inputs!$B$9+Inputs!$B$10)^12 | C44: =(1-Inputs!$B$9+Inputs!$B$10)^12 | D44: =(1-Inputs!$B$9+Inputs!$B$10)^12
...

Sheet About
A1: Free template by Adlega
A2: Live 3-year financial projections template: https://adlega.com/blog/tools/financial-projections-template/
A3: Version: October 2026
A5: This template is a planning aid, not advice. It is not tax, legal, accounting or investment advice; check the numbers with your own advisers before you act on them.
A6: Blue cells on a light yellow background (Inputs and Headcount sheets) are inputs. Every other number is a live formula that mirrors the web calculator.
A8: New MRR in month m = new MRR in month 1 x (1 + growth)^(m - 1). MRR = last MRR x (1 - churn + expansion) + new MRR. Revenue in a month = that month's MRR.
A9: Customers = last month's customers x (1 - churn) + new MRR / ARPA. Depreciation = capex / useful life x min(month, useful life).
A10: Cash flow: operating = net income + depreciation; investing = - capex; financing = the equity raise in its month. No balance sheet, prepayments or debt.
A11: NRR approximation = (1 - churn + expansion)^12. Burn multiple = burn before financing / net new ARR. Rule of 40 = ARR growth % + EBITDA margin %.
A13: Adlega is a financial forecasting and planning app for SaaS founders: https://adlega.com
