Workbook

Sheet Calculator
A1: Liquidation Preference (Exit Waterfall) Calculator
A2: How to use: change the blue cells (light yellow). Every other number is a live formula.
A4: Exit and common
A5: Exit value (sale price to equity) | B5: 30000000
A6: Founder and other common shares | B6: 7000000
A7: Option pool shares (counted as common) | B7: 1000000
A8: Seniority between preferred series | B8: Standard: newest round paid first
A10: Preferred series, oldest first (up to 4; leave unused rows blank)
A11: Series | B11: Invested | C11: Shares | D11: Type | E11: Multiple (x) | F11: Cap (x total, capped only) | G11: Payout | H11: Share of exit | I11: Per share | J11: Treatment
A12: Seed | B12: 2000000 | C12: 2000000 | D12: Non-participating | E12: 1 | F12: 3 | G12: =IF(OR(N(B12)>0,N(C12)>0),INDEX(Engine!$EL$14:$EL$29,Engine!$B$52+1),"") | H12: =IF(OR(N(B12)>0,N(C12)>0),IF($B$5>0,G12/$B$5,0),"") | I12: =IF(OR(N(B12)>0,N(C12)>0),IF(N(C12)>0,G12/C12,0),"") | J12: =IF(NOT(OR(N(B12)>0,N(C12)>0)),"",IF(AND(Engine!$B$9=1,MOD(INT(Engine!$B$52/1),2)=1),"Converts to common",IF(OR(D12="Non-participating",INDEX(Engine!$EP$14:$EP$29,Engine!$B$52+1)<=0.5),IF(INDEX(Engine!$U$14:$U$29,Engine!$B$52+1)<N(E12)*N(B12)-1,"Part of its preference","Preference"),IF(AND(D12="Participating, capped",G12>=N(F12)*N(B12)-1,INDEX(Engine!$EP$14:$EP$29,Engine!$B$52+1)>0),"Preference + participation (capped at "&N(F12)&"x)","Preference + participation"))))
A13: Series A | B13: 9000000 | C13: 3000000 | D13: Non-participating | E13: 1 | F13: 3 | G13: =IF(OR(N(B13)>0,N(C13)>0),INDEX(Engine!$EM$14:$EM$29,Engine!$B$52+1),"") | H13: =IF(OR(N(B13)>0,N(C13)>0),IF($B$5>0,G13/$B$5,0),"") | I13: =IF(OR(N(B13)>0,N(C13)>0),IF(N(C13)>0,G13/C13,0),"") | J13: =IF(NOT(OR(N(B13)>0,N(C13)>0)),"",IF(AND(Engine!$C$9=1,MOD(INT(Engine!$B$52/2),2)=1),"Converts to common",IF(OR(D13="Non-participating",INDEX(Engine!$EQ$14:$EQ$29,Engine!$B$52+1)<=0.5),IF(INDEX(Engine!$V$14:$V$29,Engine!$B$52+1)<N(E13)*N(B13)-1,"Part of its preference","Preference"),IF(AND(D13="Participating, capped",G13>=N(F13)*N(B13)-1,INDEX(Engine!$EQ$14:$EQ$29,Engine!$B$52+1)>0),"Preference + participation (capped at "&N(F13)&"x)","Preference + participation"))))
D14: Non-participating | G14: =IF(OR(N(B14)>0,N(C14)>0),INDEX(Engine!$EN$14:$EN$29,Engine!$B$52+1),"") | H14: =IF(OR(N(B14)>0,N(C14)>0),IF($B$5>0,G14/$B$5,0),"") | I14: =IF(OR(N(B14)>0,N(C14)>0),IF(N(C14)>0,G14/C14,0),"") | J14: =IF(NOT(OR(N(B14)>0,N(C14)>0)),"",IF(AND(Engine!$D$9=1,MOD(INT(Engine!$B$52/4),2)=1),"Converts to common",IF(OR(D14="Non-participating",INDEX(Engine!$ER$14:$ER$29,Engine!$B$52+1)<=0.5),IF(INDEX(Engine!$W$14:$W$29,Engine!$B$52+1)<N(E14)*N(B14)-1,"Part of its preference","Preference"),IF(AND(D14="Participating, capped",G14>=N(F14)*N(B14)-1,INDEX(Engine!$ER$14:$ER$29,Engine!$B$52+1)>0),"Preference + participation (capped at "&N(F14)&"x)","Preference + participation"))))
D15: Non-participating | G15: =IF(OR(N(B15)>0,N(C15)>0),INDEX(Engine!$EO$14:$EO$29,Engine!$B$52+1),"") | H15: =IF(OR(N(B15)>0,N(C15)>0),IF($B$5>0,G15/$B$5,0),"") | I15: =IF(OR(N(B15)>0,N(C15)>0),IF(N(C15)>0,G15/C15,0),"") | J15: =IF(NOT(OR(N(B15)>0,N(C15)>0)),"",IF(AND(Engine!$E$9=1,MOD(INT(Engine!$B$52/8),2)=1),"Converts to common",IF(OR(D15="Non-participating",INDEX(Engine!$ES$14:$ES$29,Engine!$B$52+1)<=0.5),IF(INDEX(Engine!$X$14:$X$29,Engine!$B$52+1)<N(E15)*N(B15)-1,"Part of its preference","Preference"),IF(AND(D15="Participating, capped",G15>=N(F15)*N(B15)-1,INDEX(Engine!$ES$14:$ES$29,Engine!$B$52+1)>0),"Preference + participation (capped at "&N(F15)&"x)","Preference + participation"))))
A17: Results
A18: Common holders receive | B18: =INDEX(Engine!$EK$14:$EK$29,Engine!$B$52+1)
A19: Common shares (founders + pool) | B19: =MAX(0,$B$6)+MAX(0,$B$7)
A20: Per common share | B20: =IF($B$19>0,$B$18/$B$19,0)
A21: Founders' common | B21: =IF($B$19>0,$B$18*MAX(0,$B$6)/$B$19,0)
A22: Common share of the exit | B22: =IF($B$5>0,$B$18/$B$5,0)
A23: Preference stack (multiple x invested) | B23: =SUM(Engine!$B$6:$E$6)
A24: Solver status | B24: =IF(Engine!$B$50=1,"Stable conversion choices found","Used fallback")

Sheet Engine
A1: Exit waterfall engine: every conversion combination (rows), then the stable one is picked. No inputs here.
B2: Series 1 | C2: Series 2 | D2: Series 3 | E2: Series 4
A3: Invested | B3: =MAX(0,N(Calculator!$B$12)) | C3: =MAX(0,N(Calculator!$B$13)) | D3: =MAX(0,N(Calculator!$B$14)) | E3: =MAX(0,N(Calculator!$B$15)) | G3: Common shares | H3: =MAX(0,Calculator!$B$6)+MAX(0,Calculator!$B$7)
A4: Shares | B4: =MAX(0,N(Calculator!$C$12)) | C4: =MAX(0,N(Calculator!$C$13)) | D4: =MAX(0,N(Calculator!$C$14)) | E4: =MAX(0,N(Calculator!$C$15)) | G4: Exit | H4: =MAX(0,Calculator!$B$5)
A5: Multiple | B5: =MAX(0,N(Calculator!$E$12)) | C5: =MAX(0,N(Calculator!$E$13)) | D5: =MAX(0,N(Calculator!$E$14)) | E5: =MAX(0,N(Calculator!$E$15)) | G5: Pari passu? | H5: =IF(Calculator!$B$8="Pari passu: all series share equally",1,0)
A6: Preference | B6: =B5*B3 | C6: =C5*C3 | D6: =D5*D3 | E6: =E5*E3
A7: Cap total | B7: =MAX(0,N(Calculator!$F$12))*B3 | C7: =MAX(0,N(Calculator!$F$13))*C3 | D7: =MAX(0,N(Calculator!$F$14))*D3 | E7: =MAX(0,N(Calculator!$F$15))*E3
A8: Mode (1 non, 2 part, 3 cap) | B8: =IF(Calculator!$D$12="Participating, no cap",2,IF(Calculator!$D$12="Participating, capped",3,1)) | C8: =IF(Calculator!$D$13="Participating, no cap",2,IF(Calculator!$D$13="Participating, capped",3,1)) | D8: =IF(Calculator!$D$14="Participating, no cap",2,IF(Calculator!$D$14="Participating, capped",3,1)) | E8: =IF(Calculator!$D$15="Participating, no cap",2,IF(Calculator!$D$15="Participating, capped",3,1))
A9: Convertible | B9: =IF(AND(B8<>2,OR(B3>0,B4>0)),1,0) | C9: =IF(AND(C8<>2,OR(C3>0,C4>0)),1,0) | D9: =IF(AND(D8<>2,OR(D3>0,D4>0)),1,0) | E9: =IF(AND(E8<>2,OR(E3>0,E4>0)),1,0)
A10: Active | B10: =IF(OR(B3>0,B4>0),1,0) | C10: =IF(OR(C3>0,C4>0),1,0) | D10: =IF(OR(D3>0,D4>0),1,0) | E10: =IF(OR(E3>0,E4>0),1,0)
A12: Combination table (mask bit i = series i+1 converts)
A13: mask | B13: conv0 | C13: conv1 | D13: conv2 | E13: conv3 | F13: remS3 | G13: remS2 | H13: remS1 | I13: remS0 | J13: prefS0 | K13: prefS1 | L13: prefS2 | M13: prefS3 | N13: remS_end | O13: need | P13: prefP0 | Q13: prefP1 | R13: prefP2 | S13: prefP3 | T13: remP | U13: pref0 | V13: pref1 | W13: pref2 | X13: pref3 | Y13: R1 | Z13: sh0 | AA13: sh1 | AB13: sh2 | AC13: sh3 | AD13: sh4 | AE13: room0 | AF13: room1 | AG13: room2 | AH13: room3 | AI13: room4 | AJ13: act1_0 | AK13: act1_1 | AL13: act1_2 | AM13: act1_3 | AN13: act1_4 | AO13: done1 | AP13: S1 | AQ13: pps1 | AR13: cl1_0 | AS13: cl1_1 | AT13: cl1_2 | AU13: cl1_3 | AV13: cl1_4 | AW13: any1 | AX13: pay1_0 | AY13: pay1_1 | AZ13: pay1_2 | BA13: pay1_3 | BB13: pay1_4 | BC13: R2 | BD13: act2_0 | BE13: act2_1 | BF13: act2_2 | BG13: act2_3 | BH13: act2_4 | BI13: done2 | BJ13: S2 | BK13: pps2 | BL13: cl2_0 | BM13: cl2_1 | BN13: cl2_2 | BO13: cl2_3 | BP13: cl2_4 | BQ13: any2 | BR13: pay2_0 | BS13: pay2_1 | BT13: pay2_2 | BU13: pay2_3 | BV13: pay2_4 | BW13: R3 | BX13: act3_0 | BY13: act3_1 | BZ13: act3_2 | CA13: act3_3 | CB13: act3_4 | CC13: done3 | CD13: S3 | CE13: pps3 | CF13: cl3_0 | CG13: cl3_1 | CH13: cl3_2 | CI13: cl3_3 | CJ13: cl3_4 | CK13: any3 | CL13: pay3_0 | CM13: pay3_1 | CN13: pay3_2 | CO13: pay3_3 | CP13: pay3_4 | CQ13: R4 | CR13: act4_0 | CS13: act4_1 | CT13: act4_2 | CU13: act4_3 | CV13: act4_4 | CW13: done4 | CX13: S4 | CY13: pps4 | CZ13: cl4_0 | DA13: cl4_1 | DB13: cl4_2 | DC13: cl4_3 | DD13: cl4_4 | DE13: any4 | DF13: pay4_0 | DG13: pay4_1 | DH13: pay4_2 | DI13: pay4_3 | DJ13: pay4_4 | DK13: R5 | DL13: act5_0 | DM13: act5_1 | DN13: act5_2 | DO13: act5_3 | DP13: act5_4 | DQ13: done5 | DR13: S5 | DS13: pps5 | DT13: cl5_0 | DU13: cl5_1 | DV13: cl5_2 | DW13: cl5_3 | DX13: cl5_4 | DY13: any5 | DZ13: pay5_0 | EA13: pay5_1 | EB13: pay5_2 | EC13: pay5_3 | ED13: pay5_4 | EE13: R6 | EF13: act6_0 | EG13: act6_1 | EH13: act6_2 | EI13: act6_3 | EJ13: act6_4 | EK13: common | EL13: tot0 | EM13: tot1 | EN13: tot2 | EO13: tot3 | EP13: part0 | EQ13: part1 | ER13: part2 | ES13: part3 | ET13: stable | EU13: valid | EV13: key
A14: 0 | B14: =IF(AND($B$9=1,MOD(INT(A14/1),2)=1),1,0) | C14: =IF(AND($C$9=1,MOD(INT(A14/2),2)=1),1,0) | D14: =IF(AND($D$9=1,MOD(INT(A14/4),2)=1),1,0) | E14: =IF(AND($E$9=1,MOD(INT(A14/8),2)=1),1,0) | F14: =$H$4 | G14: =F14-M14 | H14: =G14-L14 | I14: =H14-K14 | J14: =IF(B14=1,0,MIN($B$6,I14)) | K14: =IF(C14=1,0,MIN($C$6,H14)) | L14: =IF(D14=1,0,MIN($D$6,G14)) | M14: =IF(E14=1,0,MIN($E$6,F14)) | N14: =I14-J14 | O14: =(1-B14)*$B$6+(1-C14)*$C$6+(1-D14)*$D$6+(1-E14)*$E$6 | P14: =IF(B14=1,0,IF(O14<=0,0,IF($H$4>=O14,$B$6,$H$4*$B$6/O14))) | Q14: =IF(C14=1,0,IF(O14<=0,0,IF($H$4>=O14,$C$6,$H$4*$C$6/O14))) | R14: =IF(D14=1,0,IF(O14<=0,0,IF($H$4>=O14,$D$6,$H$4*$D$6/O14))) | S14: =IF(E14=1,0,IF(O14<=0,0,IF($H$4>=O14,$E$6,$H$4*$E$6/O14))) | T14: =IF(O14<=0,$H$4,MAX(0,$H$4-O14)) | U14: =IF($H$5=1,P14,J14) | V14: =IF($H$5=1,Q14,K14) | W14: =IF($H$5=1,R14,L14) | X14: =IF($H$5=1,S14,M14) | Y14: =IF($H$5=1,T14,N14) | Z14: =$H$3 | AA14: =IF(OR(B14=1,$B$8=2,$B$8=3),$B$4,0) | AB14: =IF(OR(C14=1,$C$8=2,$C$8=3),$C$4,0) | AC14: =IF(OR(D14=1,$D$8=2,$D$8=3),$D$4,0) | AD14: =IF(OR(E14=1,$E$8=2,$E$8=3),$E$4,0) | AE14: =1E+300 | AF14: =IF(OR(B14=1,$B$8=2),1E+300,MAX(0,$B$7-U14)) | AG14: =IF(OR(C14=1,$C$8=2),1E+300,MAX(0,$C$7-V14)) | AH14: =IF(OR(D14=1,$D$8=2),1E+300,MAX(0,$D$7-W14)) | AI14: =IF(OR(E14=1,$E$8=2),1E+300,MAX(0,$E$7-X14)) | AJ14: =IF(Z14>0,1,0) | AK14: =IF(AA14>0,1,0) | AL14: =IF(AB14>0,1,0) | AM14: =IF(AC14>0,1,0) | AN14: =IF(AD14>0,1,0) | AO14: =IF(OR(FALSE,Y14<=0.000001,AP14<=0),1,0) | AP14: =Z14*AJ14+AA14*AK14+AB14*AL14+AC14*AM14+AD14*AN14 | AQ14: =IF(AO14=1,0,Y14/AP14) | AR14: =IF(AND(AO14=0,AJ14=1,Z14*AQ14>AE14+0.000001),1,0) | AS14: =IF(AND(AO14=0,AK14=1,AA14*AQ14>AF14+0.000001),1,0) | AT14: =IF(AND(AO14=0,AL14=1,AB14*AQ14>AG14+0.000001),1,0) | AU14: =IF(AND(AO14=0,AM14=1,AC14*AQ14>AH14+0.000001),1,0) | AV14: =IF(AND(AO14=0,AN14=1,AD14*AQ14>AI14+0.000001),1,0) | AW14: =IF(AR14+AS14+AT14+AU14+AV14>0,1,0) | AX14: =IF(AO14=1,0,IF(AW14=1,AR14*AE14,AJ14*Z14*AQ14)) | AY14: =IF(AO14=1,0,IF(AW14=1,AS14*AF14,AK14*AA14*AQ14)) | AZ14: =IF(AO14=1,0,IF(AW14=1,AT14*AG14,AL14*AB14*AQ14)) | BA14: =IF(AO14=1,0,IF(AW14=1,AU14*AH14,AM14*AC14*AQ14)) | BB14: =IF(AO14=1,0,IF(AW14=1,AV14*AI14,AN14*AD14*AQ14)) | BC14: =IF(AO14=1,Y14,IF(AW14=1,Y14-(AR14*AE14+AS14*AF14+AT14*AG14+AU14*AH14+AV14*AI14),0)) | BD14: =IF(AND(AJ14=1,AR14=0),1,0) | BE14: =IF(AND(AK14=1,AS14=0),1,0) | BF14: =IF(AND(AL14=1,AT14=0),1,0) | BG14: =IF(AND(AM14=1,AU14=0),1,0) | BH14: =IF(AND(AN14=1,AV14=0),1,0) | BI14: =IF(OR(OR(AO14=1,AW14=0),BC14<=0.000001,BJ14<=0),1,0) | BJ14: =Z14*BD14+AA14*BE14+AB14*BF14+AC14*BG14+AD14*BH14 | BK14: =IF(BI14=1,0,BC14/BJ14) | BL14: =IF(AND(BI14=0,BD14=1,Z14*BK14>AE14+0.000001),1,0) | BM14: =IF(AND(BI14=0,BE14=1,AA14*BK14>AF14+0.000001),1,0) | BN14: =IF(AND(BI14=0,BF14=1,AB14*BK14>AG14+0.000001),1,0) | BO14: =IF(AND(BI14=0,BG14=1,AC14*BK14>AH14+0.000001),1,0) | BP14: =IF(AND(BI14=0,BH14=1,AD14*BK14>AI14+0.000001),1,0) | BQ14: =IF(BL14+BM14+BN14+BO14+BP14>0,1,0) | BR14: =IF(BI14=1,0,IF(BQ14=1,BL14*AE14,BD14*Z14*BK14)) | BS14: =IF(BI14=1,0,IF(BQ14=1,BM14*AF14,BE14*AA14*BK14)) | BT14: =IF(BI14=1,0,IF(BQ14=1,BN14*AG14,BF14*AB14*BK14)) | BU14: =IF(BI14=1,0,IF(BQ14=1,BO14*AH14,BG14*AC14*BK14)) | BV14: =IF(BI14=1,0,IF(BQ14=1,BP14*AI14,BH14*AD14*BK14)) | BW14: =IF(BI14=1,BC14,IF(BQ14=1,BC14-(BL14*AE14+BM14*AF14+BN14*AG14+BO14*AH14+BP14*AI14),0)) | BX14: =IF(AND(BD14=1,BL14=0),1,0) | BY14: =IF(AND(BE14=1,BM14=0),1,0) | BZ14: =IF(AND(BF14=1,BN14=0),1,0) | CA14: =IF(AND(BG14=1,BO14=0),1,0) | CB14: =IF(AND(BH14=1,BP14=0),1,0) | CC14: =IF(OR(OR(BI14=1,BQ14=0),BW14<=0.000001,CD14<=0),1,0) | CD14: =Z14*BX14+AA14*BY14+AB14*BZ14+AC14*CA14+AD14*CB14 | CE14: =IF(CC14=1,0,BW14/CD14) | CF14: =IF(AND(CC14=0,BX14=1,Z14*CE14>AE14+0.000001),1,0) | CG14: =IF(AND(CC14=0,BY14=1,AA14*CE14>AF14+0.000001),1,0) | CH14: =IF(AND(CC14=0,BZ14=1,AB14*CE14>AG14+0.000001),1,0) | CI14: =IF(AND(CC14=0,CA14=1,AC14*CE14>AH14+0.000001),1,0) | CJ14: =IF(AND(CC14=0,CB14=1,AD14*CE14>AI14+0.000001),1,0) | CK14: =IF(CF14+CG14+CH14+CI14+CJ14>0,1,0) | CL14: =IF(CC14=1,0,IF(CK14=1,CF14*AE14,BX14*Z14*CE14)) | CM14: =IF(CC14=1,0,IF(CK14=1,CG14*AF14,BY14*AA14*CE14)) | CN14: =IF(CC14=1,0,IF(CK14=1,CH14*AG14,BZ14*AB14*CE14)) | CO14: =IF(CC14=1,0,IF(CK14=1,CI14*AH14,CA14*AC14*CE14)) | CP14: =IF(CC14=1,0,IF(CK14=1,CJ14*AI14,CB14*AD14*CE14)) | CQ14: =IF(CC14=1,BW14,IF(CK14=1,BW14-(CF14*AE14+CG14*AF14+CH14*AG14+CI14*AH14+CJ14*AI14),0)) | CR14: =IF(AND(BX14=1,CF14=0),1,0) | CS14: =IF(AND(BY14=1,CG14=0),1,0) | CT14: =IF(AND(BZ14=1,CH14=0),1,0) | CU14: =IF(AND(CA14=1,CI14=0),1,0) | CV14: =IF(AND(CB14=1,CJ14=0),1,0) | CW14: =IF(OR(OR(CC14=1,CK14=0),CQ14<=0.000001,CX14<=0),1,0) | CX14: =Z14*CR14+AA14*CS14+AB14*CT14+AC14*CU14+AD14*CV14 | CY14: =IF(CW14=1,0,CQ14/CX14) | CZ14: =IF(AND(CW14=0,CR14=1,Z14*CY14>AE14+0.000001),1,0) | DA14: =IF(AND(CW14=0,CS14=1,AA14*CY14>AF14+0.000001),1,0) | DB14: =IF(AND(CW14=0,CT14=1,AB14*CY14>AG14+0.000001),1,0) | DC14: =IF(AND(CW14=0,CU14=1,AC14*CY14>AH14+0.000001),1,0) | DD14: =IF(AND(CW14=0,CV14=1,AD14*CY14>AI14+0.000001),1,0) | DE14: =IF(CZ14+DA14+DB14+DC14+DD14>0,1,0) | DF14: =IF(CW14=1,0,IF(DE14=1,CZ14*AE14,CR14*Z14*CY14)) | DG14: =IF(CW14=1,0,IF(DE14=1,DA14*AF14,CS14*AA14*CY14)) | DH14: =IF(CW14=1,0,IF(DE14=1,DB14*AG14,CT14*AB14*CY14)) | DI14: =IF(CW14=1,0,IF(DE14=1,DC14*AH14,CU14*AC14*CY14)) | DJ14: =IF(CW14=1,0,IF(DE14=1,DD14*AI14,CV14*AD14*CY14)) | DK14: =IF(CW14=1,CQ14,IF(DE14=1,CQ14-(CZ14*AE14+DA14*AF14+DB14*AG14+DC14*AH14+DD14*AI14),0)) | DL14: =IF(AND(CR14=1,CZ14=0),1,0) | DM14: =IF(AND(CS14=1,DA14=0),1,0) | DN14: =IF(AND(CT14=1,DB14=0),1,0) | DO14: =IF(AND(CU14=1,DC14=0),1,0) | DP14: =IF(AND(CV14=1,DD14=0),1,0) | DQ14: =IF(OR(OR(CW14=1,DE14=0),DK14<=0.000001,DR14<=0),1,0) | DR14: =Z14*DL14+AA14*DM14+AB14*DN14+AC14*DO14+AD14*DP14 | DS14: =IF(DQ14=1,0,DK14/DR14) | DT14: =IF(AND(DQ14=0,DL14=1,Z14*DS14>AE14+0.000001),1,0) | DU14: =IF(AND(DQ14=0,DM14=1,AA14*DS14>AF14+0.000001),1,0) | DV14: =IF(AND(DQ14=0,DN14=1,AB14*DS14>AG14+0.000001),1,0) | DW14: =IF(AND(DQ14=0,DO14=1,AC14*DS14>AH14+0.000001),1,0) | DX14: =IF(AND(DQ14=0,DP14=1,AD14*DS14>AI14+0.000001),1,0) | DY14: =IF(DT14+DU14+DV14+DW14+DX14>0,1,0) | DZ14: =IF(DQ14=1,0,IF(DY14=1,DT14*AE14,DL14*Z14*DS14)) | EA14: =IF(DQ14=1,0,IF(DY14=1,DU14*AF14,DM14*AA14*DS14)) | EB14: =IF(DQ14=1,0,IF(DY14=1,DV14*AG14,DN14*AB14*DS14)) | EC14: =IF(DQ14=1,0,IF(DY14=1,DW14*AH14,DO14*AC14*DS14)) | ED14: =IF(DQ14=1,0,IF(DY14=1,DX14*AI14,DP14*AD14*DS14)) | EE14: =IF(DQ14=1,DK14,IF(DY14=1,DK14-(DT14*AE14+DU14*AF14+DV14*AG14+DW14*AH14+DX14*AI14),0)) | EF14: =IF(AND(DL14=1,DT14=0),1,0) | EG14: =IF(AND(DM14=1,DU14=0),1,0) | EH14: =IF(AND(DN14=1,DV14=0),1,0) | EI14: =IF(AND(DO14=1,DW14=0),1,0) | EJ14: =IF(AND(DP14=1,DX14=0),1,0) | EK14: =AX14+BR14+CL14+DF14+DZ14 | EL14: =U14+EP14 | EM14: =V14+EQ14 | EN14: =W14+ER14 | EO14: =X14+ES14 | EP14: =AY14+BS14+CM14+DG14+EA14 | EQ14: =AZ14+BT14+CN14+DH14+EB14 | ER14: =BA14+BU14+CO14+DI14+EC14 | ES14: =BB14+BV14+CP14+DJ14+ED14 | ET14: =IF(AND(OR($B$9=0,INDEX($EL$14:$EL$29,2)<=EL14+0.000001),OR($C$9=0,INDEX($EM$14:$EM$29,3)<=EM14+0.000001),OR($D$9=0,INDEX($EN$14:$EN$29,5)<=EN14+0.000001),OR($E$9=0,INDEX($EO$14:$EO$29,9)<=EO14+0.000001)),1,0) | EU14: =IF(AND(OR($B$9=1,MOD(INT(A14/1),2)=0),OR($C$9=1,MOD(INT(A14/2),2)=0),OR($D$9=1,MOD(INT(A14/4),2)=0),OR($E$9=1,MOD(INT(A14/8),2)=0)),1,0) | EV14: =IF(AND(ET14=1,EU14=1),(MOD(INT(A14/1),2)+MOD(INT(A14/2),2)+MOD(INT(A14/4),2)+MOD(INT(A14/8),2))*100+A14,"")
A15: 1 | B15: =IF(AND($B$9=1,MOD(INT(A15/1),2)=1),1,0) | C15: =IF(AND($C$9=1,MOD(INT(A15/2),2)=1),1,0) | D15: =IF(AND($D$9=1,MOD(INT(A15/4),2)=1),1,0) | E15: =IF(AND($E$9=1,MOD(INT(A15/8),2)=1),1,0) | F15: =$H$4 | G15: =F15-M15 | H15: =G15-L15 | I15: =H15-K15 | J15: =IF(B15=1,0,MIN($B$6,I15)) | K15: =IF(C15=1,0,MIN($C$6,H15)) | L15: =IF(D15=1,0,MIN($D$6,G15)) | M15: =IF(E15=1,0,MIN($E$6,F15)) | N15: =I15-J15 | O15: =(1-B15)*$B$6+(1-C15)*$C$6+(1-D15)*$D$6+(1-E15)*$E$6 | P15: =IF(B15=1,0,IF(O15<=0,0,IF($H$4>=O15,$B$6,$H$4*$B$6/O15))) | Q15: =IF(C15=1,0,IF(O15<=0,0,IF($H$4>=O15,$C$6,$H$4*$C$6/O15))) | R15: =IF(D15=1,0,IF(O15<=0,0,IF($H$4>=O15,$D$6,$H$4*$D$6/O15))) | S15: =IF(E15=1,0,IF(O15<=0,0,IF($H$4>=O15,$E$6,$H$4*$E$6/O15))) | T15: =IF(O15<=0,$H$4,MAX(0,$H$4-O15)) | U15: =IF($H$5=1,P15,J15) | V15: =IF($H$5=1,Q15,K15) | W15: =IF($H$5=1,R15,L15) | X15: =IF($H$5=1,S15,M15) | Y15: =IF($H$5=1,T15,N15) | Z15: =$H$3 | AA15: =IF(OR(B15=1,$B$8=2,$B$8=3),$B$4,0) | AB15: =IF(OR(C15=1,$C$8=2,$C$8=3),$C$4,0) | AC15: =IF(OR(D15=1,$D$8=2,$D$8=3),$D$4,0) | AD15: =IF(OR(E15=1,$E$8=2,$E$8=3),$E$4,0) | AE15: =1E+300 | AF15: =IF(OR(B15=1,$B$8=2),1E+300,MAX(0,$B$7-U15)) | AG15: =IF(OR(C15=1,$C$8=2),1E+300,MAX(0,$C$7-V15)) | AH15: =IF(OR(D15=1,$D$8=2),1E+300,MAX(0,$D$7-W15)) | AI15: =IF(OR(E15=1,$E$8=2),1E+300,MAX(0,$E$7-X15)) | AJ15: =IF(Z15>0,1,0) | AK15: =IF(AA15>0,1,0) | AL15: =IF(AB15>0,1,0) | AM15: =IF(AC15>0,1,0) | AN15: =IF(AD15>0,1,0) | AO15: =IF(OR(FALSE,Y15<=0.000001,AP15<=0),1,0) | AP15: =Z15*AJ15+AA15*AK15+AB15*AL15+AC15*AM15+AD15*AN15 | AQ15: =IF(AO15=1,0,Y15/AP15) | AR15: =IF(AND(AO15=0,AJ15=1,Z15*AQ15>AE15+0.000001),1,0) | AS15: =IF(AND(AO15=0,AK15=1,AA15*AQ15>AF15+0.000001),1,0) | AT15: =IF(AND(AO15=0,AL15=1,AB15*AQ15>AG15+0.000001),1,0) | AU15: =IF(AND(AO15=0,AM15=1,AC15*AQ15>AH15+0.000001),1,0) | AV15: =IF(AND(AO15=0,AN15=1,AD15*AQ15>AI15+0.000001),1,0) | AW15: =IF(AR15+AS15+AT15+AU15+AV15>0,1,0) | AX15: =IF(AO15=1,0,IF(AW15=1,AR15*AE15,AJ15*Z15*AQ15)) | AY15: =IF(AO15=1,0,IF(AW15=1,AS15*AF15,AK15*AA15*AQ15)) | AZ15: =IF(AO15=1,0,IF(AW15=1,AT15*AG15,AL15*AB15*AQ15)) | BA15: =IF(AO15=1,0,IF(AW15=1,AU15*AH15,AM15*AC15*AQ15)) | BB15: =IF(AO15=1,0,IF(AW15=1,AV15*AI15,AN15*AD15*AQ15)) | BC15: =IF(AO15=1,Y15,IF(AW15=1,Y15-(AR15*AE15+AS15*AF15+AT15*AG15+AU15*AH15+AV15*AI15),0)) | BD15: =IF(AND(AJ15=1,AR15=0),1,0) | BE15: =IF(AND(AK15=1,AS15=0),1,0) | BF15: =IF(AND(AL15=1,AT15=0),1,0) | BG15: =IF(AND(AM15=1,AU15=0),1,0) | BH15: =IF(AND(AN15=1,AV15=0),1,0) | BI15: =IF(OR(OR(AO15=1,AW15=0),BC15<=0.000001,BJ15<=0),1,0) | BJ15: =Z15*BD15+AA15*BE15+AB15*BF15+AC15*BG15+AD15*BH15 | BK15: =IF(BI15=1,0,BC15/BJ15) | BL15: =IF(AND(BI15=0,BD15=1,Z15*BK15>AE15+0.000001),1,0) | BM15: =IF(AND(BI15=0,BE15=1,AA15*BK15>AF15+0.000001),1,0) | BN15: =IF(AND(BI15=0,BF15=1,AB15*BK15>AG15+0.000001),1,0) | BO15: =IF(AND(BI15=0,BG15=1,AC15*BK15>AH15+0.000001),1,0) | BP15: =IF(AND(BI15=0,BH15=1,AD15*BK15>AI15+0.000001),1,0) | BQ15: =IF(BL15+BM15+BN15+BO15+BP15>0,1,0) | BR15: =IF(BI15=1,0,IF(BQ15=1,BL15*AE15,BD15*Z15*BK15)) | BS15: =IF(BI15=1,0,IF(BQ15=1,BM15*AF15,BE15*AA15*BK15)) | BT15: =IF(BI15=1,0,IF(BQ15=1,BN15*AG15,BF15*AB15*BK15)) | BU15: =IF(BI15=1,0,IF(BQ15=1,BO15*AH15,BG15*AC15*BK15)) | BV15: =IF(BI15=1,0,IF(BQ15=1,BP15*AI15,BH15*AD15*BK15)) | BW15: =IF(BI15=1,BC15,IF(BQ15=1,BC15-(BL15*AE15+BM15*AF15+BN15*AG15+BO15*AH15+BP15*AI15),0)) | BX15: =IF(AND(BD15=1,BL15=0),1,0) | BY15: =IF(AND(BE15=1,BM15=0),1,0) | BZ15: =IF(AND(BF15=1,BN15=0),1,0) | CA15: =IF(AND(BG15=1,BO15=0),1,0) | CB15: =IF(AND(BH15=1,BP15=0),1,0) | CC15: =IF(OR(OR(BI15=1,BQ15=0),BW15<=0.000001,CD15<=0),1,0) | CD15: =Z15*BX15+AA15*BY15+AB15*BZ15+AC15*CA15+AD15*CB15 | CE15: =IF(CC15=1,0,BW15/CD15) | CF15: =IF(AND(CC15=0,BX15=1,Z15*CE15>AE15+0.000001),1,0) | CG15: =IF(AND(CC15=0,BY15=1,AA15*CE15>AF15+0.000001),1,0) | CH15: =IF(AND(CC15=0,BZ15=1,AB15*CE15>AG15+0.000001),1,0) | CI15: =IF(AND(CC15=0,CA15=1,AC15*CE15>AH15+0.000001),1,0) | CJ15: =IF(AND(CC15=0,CB15=1,AD15*CE15>AI15+0.000001),1,0) | CK15: =IF(CF15+CG15+CH15+CI15+CJ15>0,1,0) | CL15: =IF(CC15=1,0,IF(CK15=1,CF15*AE15,BX15*Z15*CE15)) | CM15: =IF(CC15=1,0,IF(CK15=1,CG15*AF15,BY15*AA15*CE15)) | CN15: =IF(CC15=1,0,IF(CK15=1,CH15*AG15,BZ15*AB15*CE15)) | CO15: =IF(CC15=1,0,IF(CK15=1,CI15*AH15,CA15*AC15*CE15)) | CP15: =IF(CC15=1,0,IF(CK15=1,CJ15*AI15,CB15*AD15*CE15)) | CQ15: =IF(CC15=1,BW15,IF(CK15=1,BW15-(CF15*AE15+CG15*AF15+CH15*AG15+CI15*AH15+CJ15*AI15),0)) | CR15: =IF(AND(BX15=1,CF15=0),1,0) | CS15: =IF(AND(BY15=1,CG15=0),1,0) | CT15: =IF(AND(BZ15=1,CH15=0),1,0) | CU15: =IF(AND(CA15=1,CI15=0),1,0) | CV15: =IF(AND(CB15=1,CJ15=0),1,0) | CW15: =IF(OR(OR(CC15=1,CK15=0),CQ15<=0.000001,CX15<=0),1,0) | CX15: =Z15*CR15+AA15*CS15+AB15*CT15+AC15*CU15+AD15*CV15 | CY15: =IF(CW15=1,0,CQ15/CX15) | CZ15: =IF(AND(CW15=0,CR15=1,Z15*CY15>AE15+0.000001),1,0) | DA15: =IF(AND(CW15=0,CS15=1,AA15*CY15>AF15+0.000001),1,0) | DB15: =IF(AND(CW15=0,CT15=1,AB15*CY15>AG15+0.000001),1,0) | DC15: =IF(AND(CW15=0,CU15=1,AC15*CY15>AH15+0.000001),1,0) | DD15: =IF(AND(CW15=0,CV15=1,AD15*CY15>AI15+0.000001),1,0) | DE15: =IF(CZ15+DA15+DB15+DC15+DD15>0,1,0) | DF15: =IF(CW15=1,0,IF(DE15=1,CZ15*AE15,CR15*Z15*CY15)) | DG15: =IF(CW15=1,0,IF(DE15=1,DA15*AF15,CS15*AA15*CY15)) | DH15: =IF(CW15=1,0,IF(DE15=1,DB15*AG15,CT15*AB15*CY15)) | DI15: =IF(CW15=1,0,IF(DE15=1,DC15*AH15,CU15*AC15*CY15)) | DJ15: =IF(CW15=1,0,IF(DE15=1,DD15*AI15,CV15*AD15*CY15)) | DK15: =IF(CW15=1,CQ15,IF(DE15=1,CQ15-(CZ15*AE15+DA15*AF15+DB15*AG15+DC15*AH15+DD15*AI15),0)) | DL15: =IF(AND(CR15=1,CZ15=0),1,0) | DM15: =IF(AND(CS15=1,DA15=0),1,0) | DN15: =IF(AND(CT15=1,DB15=0),1,0) | DO15: =IF(AND(CU15=1,DC15=0),1,0) | DP15: =IF(AND(CV15=1,DD15=0),1,0) | DQ15: =IF(OR(OR(CW15=1,DE15=0),DK15<=0.000001,DR15<=0),1,0) | DR15: =Z15*DL15+AA15*DM15+AB15*DN15+AC15*DO15+AD15*DP15 | DS15: =IF(DQ15=1,0,DK15/DR15) | DT15: =IF(AND(DQ15=0,DL15=1,Z15*DS15>AE15+0.000001),1,0) | DU15: =IF(AND(DQ15=0,DM15=1,AA15*DS15>AF15+0.000001),1,0) | DV15: =IF(AND(DQ15=0,DN15=1,AB15*DS15>AG15+0.000001),1,0) | DW15: =IF(AND(DQ15=0,DO15=1,AC15*DS15>AH15+0.000001),1,0) | DX15: =IF(AND(DQ15=0,DP15=1,AD15*DS15>AI15+0.000001),1,0) | DY15: =IF(DT15+DU15+DV15+DW15+DX15>0,1,0) | DZ15: =IF(DQ15=1,0,IF(DY15=1,DT15*AE15,DL15*Z15*DS15)) | EA15: =IF(DQ15=1,0,IF(DY15=1,DU15*AF15,DM15*AA15*DS15)) | EB15: =IF(DQ15=1,0,IF(DY15=1,DV15*AG15,DN15*AB15*DS15)) | EC15: =IF(DQ15=1,0,IF(DY15=1,DW15*AH15,DO15*AC15*DS15)) | ED15: =IF(DQ15=1,0,IF(DY15=1,DX15*AI15,DP15*AD15*DS15)) | EE15: =IF(DQ15=1,DK15,IF(DY15=1,DK15-(DT15*AE15+DU15*AF15+DV15*AG15+DW15*AH15+DX15*AI15),0)) | EF15: =IF(AND(DL15=1,DT15=0),1,0) | EG15: =IF(AND(DM15=1,DU15=0),1,0) | EH15: =IF(AND(DN15=1,DV15=0),1,0) | EI15: =IF(AND(DO15=1,DW15=0),1,0) | EJ15: =IF(AND(DP15=1,DX15=0),1,0) | EK15: =AX15+BR15+CL15+DF15+DZ15 | EL15: =U15+EP15 | EM15: =V15+EQ15 | EN15: =W15+ER15 | EO15: =X15+ES15 | EP15: =AY15+BS15+CM15+DG15+EA15 | EQ15: =AZ15+BT15+CN15+DH15+EB15 | ER15: =BA15+BU15+CO15+DI15+EC15 | ES15: =BB15+BV15+CP15+DJ15+ED15 | ET15: =IF(AND(OR($B$9=0,INDEX($EL$14:$EL$29,1)<=EL15+0.000001),OR($C$9=0,INDEX($EM$14:$EM$29,4)<=EM15+0.000001),OR($D$9=0,INDEX($EN$14:$EN$29,6)<=EN15+0.000001),OR($E$9=0,INDEX($EO$14:$EO$29,10)<=EO15+0.000001)),1,0) | EU15: =IF(AND(OR($B$9=1,MOD(INT(A15/1),2)=0),OR($C$9=1,MOD(INT(A15/2),2)=0),OR($D$9=1,MOD(INT(A15/4),2)=0),OR($E$9=1,MOD(INT(A15/8),2)=0)),1,0) | EV15: =IF(AND(ET15=1,EU15=1),(MOD(INT(A15/1),2)+MOD(INT(A15/2),2)+MOD(INT(A15/4),2)+MOD(INT(A15/8),2))*100+A15,"")
A16: 2 | B16: =IF(AND($B$9=1,MOD(INT(A16/1),2)=1),1,0) | C16: =IF(AND($C$9=1,MOD(INT(A16/2),2)=1),1,0) | D16: =IF(AND($D$9=1,MOD(INT(A16/4),2)=1),1,0) | E16: =IF(AND($E$9=1,MOD(INT(A16/8),2)=1),1,0) | F16: =$H$4 | G16: =F16-M16 | H16: =G16-L16 | I16: =H16-K16 | J16: =IF(B16=1,0,MIN($B$6,I16)) | K16: =IF(C16=1,0,MIN($C$6,H16)) | L16: =IF(D16=1,0,MIN($D$6,G16)) | M16: =IF(E16=1,0,MIN($E$6,F16)) | N16: =I16-J16 | O16: =(1-B16)*$B$6+(1-C16)*$C$6+(1-D16)*$D$6+(1-E16)*$E$6 | P16: =IF(B16=1,0,IF(O16<=0,0,IF($H$4>=O16,$B$6,$H$4*$B$6/O16))) | Q16: =IF(C16=1,0,IF(O16<=0,0,IF($H$4>=O16,$C$6,$H$4*$C$6/O16))) | R16: =IF(D16=1,0,IF(O16<=0,0,IF($H$4>=O16,$D$6,$H$4*$D$6/O16))) | S16: =IF(E16=1,0,IF(O16<=0,0,IF($H$4>=O16,$E$6,$H$4*$E$6/O16))) | T16: =IF(O16<=0,$H$4,MAX(0,$H$4-O16)) | U16: =IF($H$5=1,P16,J16) | V16: =IF($H$5=1,Q16,K16) | W16: =IF($H$5=1,R16,L16) | X16: =IF($H$5=1,S16,M16) | Y16: =IF($H$5=1,T16,N16) | Z16: =$H$3 | AA16: =IF(OR(B16=1,$B$8=2,$B$8=3),$B$4,0) | AB16: =IF(OR(C16=1,$C$8=2,$C$8=3),$C$4,0) | AC16: =IF(OR(D16=1,$D$8=2,$D$8=3),$D$4,0) | AD16: =IF(OR(E16=1,$E$8=2,$E$8=3),$E$4,0) | AE16: =1E+300 | AF16: =IF(OR(B16=1,$B$8=2),1E+300,MAX(0,$B$7-U16)) | AG16: =IF(OR(C16=1,$C$8=2),1E+300,MAX(0,$C$7-V16)) | AH16: =IF(OR(D16=1,$D$8=2),1E+300,MAX(0,$D$7-W16)) | AI16: =IF(OR(E16=1,$E$8=2),1E+300,MAX(0,$E$7-X16)) | AJ16: =IF(Z16>0,1,0) | AK16: =IF(AA16>0,1,0) | AL16: =IF(AB16>0,1,0) | AM16: =IF(AC16>0,1,0) | AN16: =IF(AD16>0,1,0) | AO16: =IF(OR(FALSE,Y16<=0.000001,AP16<=0),1,0) | AP16: =Z16*AJ16+AA16*AK16+AB16*AL16+AC16*AM16+AD16*AN16 | AQ16: =IF(AO16=1,0,Y16/AP16) | AR16: =IF(AND(AO16=0,AJ16=1,Z16*AQ16>AE16+0.000001),1,0) | AS16: =IF(AND(AO16=0,AK16=1,AA16*AQ16>AF16+0.000001),1,0) | AT16: =IF(AND(AO16=0,AL16=1,AB16*AQ16>AG16+0.000001),1,0) | AU16: =IF(AND(AO16=0,AM16=1,AC16*AQ16>AH16+0.000001),1,0) | AV16: =IF(AND(AO16=0,AN16=1,AD16*AQ16>AI16+0.000001),1,0) | AW16: =IF(AR16+AS16+AT16+AU16+AV16>0,1,0) | AX16: =IF(AO16=1,0,IF(AW16=1,AR16*AE16,AJ16*Z16*AQ16)) | AY16: =IF(AO16=1,0,IF(AW16=1,AS16*AF16,AK16*AA16*AQ16)) | AZ16: =IF(AO16=1,0,IF(AW16=1,AT16*AG16,AL16*AB16*AQ16)) | BA16: =IF(AO16=1,0,IF(AW16=1,AU16*AH16,AM16*AC16*AQ16)) | BB16: =IF(AO16=1,0,IF(AW16=1,AV16*AI16,AN16*AD16*AQ16)) | BC16: =IF(AO16=1,Y16,IF(AW16=1,Y16-(AR16*AE16+AS16*AF16+AT16*AG16+AU16*AH16+AV16*AI16),0)) | BD16: =IF(AND(AJ16=1,AR16=0),1,0) | BE16: =IF(AND(AK16=1,AS16=0),1,0) | BF16: =IF(AND(AL16=1,AT16=0),1,0) | BG16: =IF(AND(AM16=1,AU16=0),1,0) | BH16: =IF(AND(AN16=1,AV16=0),1,0) | BI16: =IF(OR(OR(AO16=1,AW16=0),BC16<=0.000001,BJ16<=0),1,0) | BJ16: =Z16*BD16+AA16*BE16+AB16*BF16+AC16*BG16+AD16*BH16 | BK16: =IF(BI16=1,0,BC16/BJ16) | BL16: =IF(AND(BI16=0,BD16=1,Z16*BK16>AE16+0.000001),1,0) | BM16: =IF(AND(BI16=0,BE16=1,AA16*BK16>AF16+0.000001),1,0) | BN16: =IF(AND(BI16=0,BF16=1,AB16*BK16>AG16+0.000001),1,0) | BO16: =IF(AND(BI16=0,BG16=1,AC16*BK16>AH16+0.000001),1,0) | BP16: =IF(AND(BI16=0,BH16=1,AD16*BK16>AI16+0.000001),1,0) | BQ16: =IF(BL16+BM16+BN16+BO16+BP16>0,1,0) | BR16: =IF(BI16=1,0,IF(BQ16=1,BL16*AE16,BD16*Z16*BK16)) | BS16: =IF(BI16=1,0,IF(BQ16=1,BM16*AF16,BE16*AA16*BK16)) | BT16: =IF(BI16=1,0,IF(BQ16=1,BN16*AG16,BF16*AB16*BK16)) | BU16: =IF(BI16=1,0,IF(BQ16=1,BO16*AH16,BG16*AC16*BK16)) | BV16: =IF(BI16=1,0,IF(BQ16=1,BP16*AI16,BH16*AD16*BK16)) | BW16: =IF(BI16=1,BC16,IF(BQ16=1,BC16-(BL16*AE16+BM16*AF16+BN16*AG16+BO16*AH16+BP16*AI16),0)) | BX16: =IF(AND(BD16=1,BL16=0),1,0) | BY16: =IF(AND(BE16=1,BM16=0),1,0) | BZ16: =IF(AND(BF16=1,BN16=0),1,0) | CA16: =IF(AND(BG16=1,BO16=0),1,0) | CB16: =IF(AND(BH16=1,BP16=0),1,0) | CC16: =IF(OR(OR(BI16=1,BQ16=0),BW16<=0.000001,CD16<=0),1,0) | CD16: =Z16*BX16+AA16*BY16+AB16*BZ16+AC16*CA16+AD16*CB16 | CE16: =IF(CC16=1,0,BW16/CD16) | CF16: =IF(AND(CC16=0,BX16=1,Z16*CE16>AE16+0.000001),1,0) | CG16: =IF(AND(CC16=0,BY16=1,AA16*CE16>AF16+0.000001),1,0) | CH16: =IF(AND(CC16=0,BZ16=1,AB16*CE16>AG16+0.000001),1,0) | CI16: =IF(AND(CC16=0,CA16=1,AC16*CE16>AH16+0.000001),1,0) | CJ16: =IF(AND(CC16=0,CB16=1,AD16*CE16>AI16+0.000001),1,0) | CK16: =IF(CF16+CG16+CH16+CI16+CJ16>0,1,0) | CL16: =IF(CC16=1,0,IF(CK16=1,CF16*AE16,BX16*Z16*CE16)) | CM16: =IF(CC16=1,0,IF(CK16=1,CG16*AF16,BY16*AA16*CE16)) | CN16: =IF(CC16=1,0,IF(CK16=1,CH16*AG16,BZ16*AB16*CE16)) | CO16: =IF(CC16=1,0,IF(CK16=1,CI16*AH16,CA16*AC16*CE16)) | CP16: =IF(CC16=1,0,IF(CK16=1,CJ16*AI16,CB16*AD16*CE16)) | CQ16: =IF(CC16=1,BW16,IF(CK16=1,BW16-(CF16*AE16+CG16*AF16+CH16*AG16+CI16*AH16+CJ16*AI16),0)) | CR16: =IF(AND(BX16=1,CF16=0),1,0) | CS16: =IF(AND(BY16=1,CG16=0),1,0) | CT16: =IF(AND(BZ16=1,CH16=0),1,0) | CU16: =IF(AND(CA16=1,CI16=0),1,0) | CV16: =IF(AND(CB16=1,CJ16=0),1,0) | CW16: =IF(OR(OR(CC16=1,CK16=0),CQ16<=0.000001,CX16<=0),1,0) | CX16: =Z16*CR16+AA16*CS16+AB16*CT16+AC16*CU16+AD16*CV16 | CY16: =IF(CW16=1,0,CQ16/CX16) | CZ16: =IF(AND(CW16=0,CR16=1,Z16*CY16>AE16+0.000001),1,0) | DA16: =IF(AND(CW16=0,CS16=1,AA16*CY16>AF16+0.000001),1,0) | DB16: =IF(AND(CW16=0,CT16=1,AB16*CY16>AG16+0.000001),1,0) | DC16: =IF(AND(CW16=0,CU16=1,AC16*CY16>AH16+0.000001),1,0) | DD16: =IF(AND(CW16=0,CV16=1,AD16*CY16>AI16+0.000001),1,0) | DE16: =IF(CZ16+DA16+DB16+DC16+DD16>0,1,0) | DF16: =IF(CW16=1,0,IF(DE16=1,CZ16*AE16,CR16*Z16*CY16)) | DG16: =IF(CW16=1,0,IF(DE16=1,DA16*AF16,CS16*AA16*CY16)) | DH16: =IF(CW16=1,0,IF(DE16=1,DB16*AG16,CT16*AB16*CY16)) | DI16: =IF(CW16=1,0,IF(DE16=1,DC16*AH16,CU16*AC16*CY16)) | DJ16: =IF(CW16=1,0,IF(DE16=1,DD16*AI16,CV16*AD16*CY16)) | DK16: =IF(CW16=1,CQ16,IF(DE16=1,CQ16-(CZ16*AE16+DA16*AF16+DB16*AG16+DC16*AH16+DD16*AI16),0)) | DL16: =IF(AND(CR16=1,CZ16=0),1,0) | DM16: =IF(AND(CS16=1,DA16=0),1,0) | DN16: =IF(AND(CT16=1,DB16=0),1,0) | DO16: =IF(AND(CU16=1,DC16=0),1,0) | DP16: =IF(AND(CV16=1,DD16=0),1,0) | DQ16: =IF(OR(OR(CW16=1,DE16=0),DK16<=0.000001,DR16<=0),1,0) | DR16: =Z16*DL16+AA16*DM16+AB16*DN16+AC16*DO16+AD16*DP16 | DS16: =IF(DQ16=1,0,DK16/DR16) | DT16: =IF(AND(DQ16=0,DL16=1,Z16*DS16>AE16+0.000001),1,0) | DU16: =IF(AND(DQ16=0,DM16=1,AA16*DS16>AF16+0.000001),1,0) | DV16: =IF(AND(DQ16=0,DN16=1,AB16*DS16>AG16+0.000001),1,0) | DW16: =IF(AND(DQ16=0,DO16=1,AC16*DS16>AH16+0.000001),1,0) | DX16: =IF(AND(DQ16=0,DP16=1,AD16*DS16>AI16+0.000001),1,0) | DY16: =IF(DT16+DU16+DV16+DW16+DX16>0,1,0) | DZ16: =IF(DQ16=1,0,IF(DY16=1,DT16*AE16,DL16*Z16*DS16)) | EA16: =IF(DQ16=1,0,IF(DY16=1,DU16*AF16,DM16*AA16*DS16)) | EB16: =IF(DQ16=1,0,IF(DY16=1,DV16*AG16,DN16*AB16*DS16)) | EC16: =IF(DQ16=1,0,IF(DY16=1,DW16*AH16,DO16*AC16*DS16)) | ED16: =IF(DQ16=1,0,IF(DY16=1,DX16*AI16,DP16*AD16*DS16)) | EE16: =IF(DQ16=1,DK16,IF(DY16=1,DK16-(DT16*AE16+DU16*AF16+DV16*AG16+DW16*AH16+DX16*AI16),0)) | EF16: =IF(AND(DL16=1,DT16=0),1,0) | EG16: =IF(AND(DM16=1,DU16=0),1,0) | EH16: =IF(AND(DN16=1,DV16=0),1,0) | EI16: =IF(AND(DO16=1,DW16=0),1,0) | EJ16: =IF(AND(DP16=1,DX16=0),1,0) | EK16: =AX16+BR16+CL16+DF16+DZ16 | EL16: =U16+EP16 | EM16: =V16+EQ16 | EN16: =W16+ER16 | EO16: =X16+ES16 | EP16: =AY16+BS16+CM16+DG16+EA16 | EQ16: =AZ16+BT16+CN16+DH16+EB16 | ER16: =BA16+BU16+CO16+DI16+EC16 | ES16: =BB16+BV16+CP16+DJ16+ED16 | ET16: =IF(AND(OR($B$9=0,INDEX($EL$14:$EL$29,4)<=EL16+0.000001),OR($C$9=0,INDEX($EM$14:$EM$29,1)<=EM16+0.000001),OR($D$9=0,INDEX($EN$14:$EN$29,7)<=EN16+0.000001),OR($E$9=0,INDEX($EO$14:$EO$29,11)<=EO16+0.000001)),1,0) | EU16: =IF(AND(OR($B$9=1,MOD(INT(A16/1),2)=0),OR($C$9=1,MOD(INT(A16/2),2)=0),OR($D$9=1,MOD(INT(A16/4),2)=0),OR($E$9=1,MOD(INT(A16/8),2)=0)),1,0) | EV16: =IF(AND(ET16=1,EU16=1),(MOD(INT(A16/1),2)+MOD(INT(A16/2),2)+MOD(INT(A16/4),2)+MOD(INT(A16/8),2))*100+A16,"")
A17: 3 | B17: =IF(AND($B$9=1,MOD(INT(A17/1),2)=1),1,0) | C17: =IF(AND($C$9=1,MOD(INT(A17/2),2)=1),1,0) | D17: =IF(AND($D$9=1,MOD(INT(A17/4),2)=1),1,0) | E17: =IF(AND($E$9=1,MOD(INT(A17/8),2)=1),1,0) | F17: =$H$4 | G17: =F17-M17 | H17: =G17-L17 | I17: =H17-K17 | J17: =IF(B17=1,0,MIN($B$6,I17)) | K17: =IF(C17=1,0,MIN($C$6,H17)) | L17: =IF(D17=1,0,MIN($D$6,G17)) | M17: =IF(E17=1,0,MIN($E$6,F17)) | N17: =I17-J17 | O17: =(1-B17)*$B$6+(1-C17)*$C$6+(1-D17)*$D$6+(1-E17)*$E$6 | P17: =IF(B17=1,0,IF(O17<=0,0,IF($H$4>=O17,$B$6,$H$4*$B$6/O17))) | Q17: =IF(C17=1,0,IF(O17<=0,0,IF($H$4>=O17,$C$6,$H$4*$C$6/O17))) | R17: =IF(D17=1,0,IF(O17<=0,0,IF($H$4>=O17,$D$6,$H$4*$D$6/O17))) | S17: =IF(E17=1,0,IF(O17<=0,0,IF($H$4>=O17,$E$6,$H$4*$E$6/O17))) | T17: =IF(O17<=0,$H$4,MAX(0,$H$4-O17)) | U17: =IF($H$5=1,P17,J17) | V17: =IF($H$5=1,Q17,K17) | W17: =IF($H$5=1,R17,L17) | X17: =IF($H$5=1,S17,M17) | Y17: =IF($H$5=1,T17,N17) | Z17: =$H$3 | AA17: =IF(OR(B17=1,$B$8=2,$B$8=3),$B$4,0) | AB17: =IF(OR(C17=1,$C$8=2,$C$8=3),$C$4,0) | AC17: =IF(OR(D17=1,$D$8=2,$D$8=3),$D$4,0) | AD17: =IF(OR(E17=1,$E$8=2,$E$8=3),$E$4,0) | AE17: =1E+300 | AF17: =IF(OR(B17=1,$B$8=2),1E+300,MAX(0,$B$7-U17)) | AG17: =IF(OR(C17=1,$C$8=2),1E+300,MAX(0,$C$7-V17)) | AH17: =IF(OR(D17=1,$D$8=2),1E+300,MAX(0,$D$7-W17)) | AI17: =IF(OR(E17=1,$E$8=2),1E+300,MAX(0,$E$7-X17)) | AJ17: =IF(Z17>0,1,0) | AK17: =IF(AA17>0,1,0) | AL17: =IF(AB17>0,1,0) | AM17: =IF(AC17>0,1,0) | AN17: =IF(AD17>0,1,0) | AO17: =IF(OR(FALSE,Y17<=0.000001,AP17<=0),1,0) | AP17: =Z17*AJ17+AA17*AK17+AB17*AL17+AC17*AM17+AD17*AN17 | AQ17: =IF(AO17=1,0,Y17/AP17) | AR17: =IF(AND(AO17=0,AJ17=1,Z17*AQ17>AE17+0.000001),1,0) | AS17: =IF(AND(AO17=0,AK17=1,AA17*AQ17>AF17+0.000001),1,0) | AT17: =IF(AND(AO17=0,AL17=1,AB17*AQ17>AG17+0.000001),1,0) | AU17: =IF(AND(AO17=0,AM17=1,AC17*AQ17>AH17+0.000001),1,0) | AV17: =IF(AND(AO17=0,AN17=1,AD17*AQ17>AI17+0.000001),1,0) | AW17: =IF(AR17+AS17+AT17+AU17+AV17>0,1,0) | AX17: =IF(AO17=1,0,IF(AW17=1,AR17*AE17,AJ17*Z17*AQ17)) | AY17: =IF(AO17=1,0,IF(AW17=1,AS17*AF17,AK17*AA17*AQ17)) | AZ17: =IF(AO17=1,0,IF(AW17=1,AT17*AG17,AL17*AB17*AQ17)) | BA17: =IF(AO17=1,0,IF(AW17=1,AU17*AH17,AM17*AC17*AQ17)) | BB17: =IF(AO17=1,0,IF(AW17=1,AV17*AI17,AN17*AD17*AQ17)) | BC17: =IF(AO17=1,Y17,IF(AW17=1,Y17-(AR17*AE17+AS17*AF17+AT17*AG17+AU17*AH17+AV17*AI17),0)) | BD17: =IF(AND(AJ17=1,AR17=0),1,0) | BE17: =IF(AND(AK17=1,AS17=0),1,0) | BF17: =IF(AND(AL17=1,AT17=0),1,0) | BG17: =IF(AND(AM17=1,AU17=0),1,0) | BH17: =IF(AND(AN17=1,AV17=0),1,0) | BI17: =IF(OR(OR(AO17=1,AW17=0),BC17<=0.000001,BJ17<=0),1,0) | BJ17: =Z17*BD17+AA17*BE17+AB17*BF17+AC17*BG17+AD17*BH17 | BK17: =IF(BI17=1,0,BC17/BJ17) | BL17: =IF(AND(BI17=0,BD17=1,Z17*BK17>AE17+0.000001),1,0) | BM17: =IF(AND(BI17=0,BE17=1,AA17*BK17>AF17+0.000001),1,0) | BN17: =IF(AND(BI17=0,BF17=1,AB17*BK17>AG17+0.000001),1,0) | BO17: =IF(AND(BI17=0,BG17=1,AC17*BK17>AH17+0.000001),1,0) | BP17: =IF(AND(BI17=0,BH17=1,AD17*BK17>AI17+0.000001),1,0) | BQ17: =IF(BL17+BM17+BN17+BO17+BP17>0,1,0) | BR17: =IF(BI17=1,0,IF(BQ17=1,BL17*AE17,BD17*Z17*BK17)) | BS17: =IF(BI17=1,0,IF(BQ17=1,BM17*AF17,BE17*AA17*BK17)) | BT17: =IF(BI17=1,0,IF(BQ17=1,BN17*AG17,BF17*AB17*BK17)) | BU17: =IF(BI17=1,0,IF(BQ17=1,BO17*AH17,BG17*AC17*BK17)) | BV17: =IF(BI17=1,0,IF(BQ17=1,BP17*AI17,BH17*AD17*BK17)) | BW17: =IF(BI17=1,BC17,IF(BQ17=1,BC17-(BL17*AE17+BM17*AF17+BN17*AG17+BO17*AH17+BP17*AI17),0)) | BX17: =IF(AND(BD17=1,BL17=0),1,0) | BY17: =IF(AND(BE17=1,BM17=0),1,0) | BZ17: =IF(AND(BF17=1,BN17=0),1,0) | CA17: =IF(AND(BG17=1,BO17=0),1,0) | CB17: =IF(AND(BH17=1,BP17=0),1,0) | CC17: =IF(OR(OR(BI17=1,BQ17=0),BW17<=0.000001,CD17<=0),1,0) | CD17: =Z17*BX17+AA17*BY17+AB17*BZ17+AC17*CA17+AD17*CB17 | CE17: =IF(CC17=1,0,BW17/CD17) | CF17: =IF(AND(CC17=0,BX17=1,Z17*CE17>AE17+0.000001),1,0) | CG17: =IF(AND(CC17=0,BY17=1,AA17*CE17>AF17+0.000001),1,0) | CH17: =IF(AND(CC17=0,BZ17=1,AB17*CE17>AG17+0.000001),1,0) | CI17: =IF(AND(CC17=0,CA17=1,AC17*CE17>AH17+0.000001),1,0) | CJ17: =IF(AND(CC17=0,CB17=1,AD17*CE17>AI17+0.000001),1,0) | CK17: =IF(CF17+CG17+CH17+CI17+CJ17>0,1,0) | CL17: =IF(CC17=1,0,IF(CK17=1,CF17*AE17,BX17*Z17*CE17)) | CM17: =IF(CC17=1,0,IF(CK17=1,CG17*AF17,BY17*AA17*CE17)) | CN17: =IF(CC17=1,0,IF(CK17=1,CH17*AG17,BZ17*AB17*CE17)) | CO17: =IF(CC17=1,0,IF(CK17=1,CI17*AH17,CA17*AC17*CE17)) | CP17: =IF(CC17=1,0,IF(CK17=1,CJ17*AI17,CB17*AD17*CE17)) | CQ17: =IF(CC17=1,BW17,IF(CK17=1,BW17-(CF17*AE17+CG17*AF17+CH17*AG17+CI17*AH17+CJ17*AI17),0)) | CR17: =IF(AND(BX17=1,CF17=0),1,0) | CS17: =IF(AND(BY17=1,CG17=0),1,0) | CT17: =IF(AND(BZ17=1,CH17=0),1,0) | CU17: =IF(AND(CA17=1,CI17=0),1,0) | CV17: =IF(AND(CB17=1,CJ17=0),1,0) | CW17: =IF(OR(OR(CC17=1,CK17=0),CQ17<=0.000001,CX17<=0),1,0) | CX17: =Z17*CR17+AA17*CS17+AB17*CT17+AC17*CU17+AD17*CV17 | CY17: =IF(CW17=1,0,CQ17/CX17) | CZ17: =IF(AND(CW17=0,CR17=1,Z17*CY17>AE17+0.000001),1,0) | DA17: =IF(AND(CW17=0,CS17=1,AA17*CY17>AF17+0.000001),1,0) | DB17: =IF(AND(CW17=0,CT17=1,AB17*CY17>AG17+0.000001),1,0) | DC17: =IF(AND(CW17=0,CU17=1,AC17*CY17>AH17+0.000001),1,0) | DD17: =IF(AND(CW17=0,CV17=1,AD17*CY17>AI17+0.000001),1,0) | DE17: =IF(CZ17+DA17+DB17+DC17+DD17>0,1,0) | DF17: =IF(CW17=1,0,IF(DE17=1,CZ17*AE17,CR17*Z17*CY17)) | DG17: =IF(CW17=1,0,IF(DE17=1,DA17*AF17,CS17*AA17*CY17)) | DH17: =IF(CW17=1,0,IF(DE17=1,DB17*AG17,CT17*AB17*CY17)) | DI17: =IF(CW17=1,0,IF(DE17=1,DC17*AH17,CU17*AC17*CY17)) | DJ17: =IF(CW17=1,0,IF(DE17=1,DD17*AI17,CV17*AD17*CY17)) | DK17: =IF(CW17=1,CQ17,IF(DE17=1,CQ17-(CZ17*AE17+DA17*AF17+DB17*AG17+DC17*AH17+DD17*AI17),0)) | DL17: =IF(AND(CR17=1,CZ17=0),1,0) | DM17: =IF(AND(CS17=1,DA17=0),1,0) | DN17: =IF(AND(CT17=1,DB17=0),1,0) | DO17: =IF(AND(CU17=1,DC17=0),1,0) | DP17: =IF(AND(CV17=1,DD17=0),1,0) | DQ17: =IF(OR(OR(CW17=1,DE17=0),DK17<=0.000001,DR17<=0),1,0) | DR17: =Z17*DL17+AA17*DM17+AB17*DN17+AC17*DO17+AD17*DP17 | DS17: =IF(DQ17=1,0,DK17/DR17) | DT17: =IF(AND(DQ17=0,DL17=1,Z17*DS17>AE17+0.000001),1,0) | DU17: =IF(AND(DQ17=0,DM17=1,AA17*DS17>AF17+0.000001),1,0) | DV17: =IF(AND(DQ17=0,DN17=1,AB17*DS17>AG17+0.000001),1,0) | DW17: =IF(AND(DQ17=0,DO17=1,AC17*DS17>AH17+0.000001),1,0) | DX17: =IF(AND(DQ17=0,DP17=1,AD17*DS17>AI17+0.000001),1,0) | DY17: =IF(DT17+DU17+DV17+DW17+DX17>0,1,0) | DZ17: =IF(DQ17=1,0,IF(DY17=1,DT17*AE17,DL17*Z17*DS17)) | EA17: =IF(DQ17=1,0,IF(DY17=1,DU17*AF17,DM17*AA17*DS17)) | EB17: =IF(DQ17=1,0,IF(DY17=1,DV17*AG17,DN17*AB17*DS17)) | EC17: =IF(DQ17=1,0,IF(DY17=1,DW17*AH17,DO17*AC17*DS17)) | ED17: =IF(DQ17=1,0,IF(DY17=1,DX17*AI17,DP17*AD17*DS17)) | EE17: =IF(DQ17=1,DK17,IF(DY17=1,DK17-(DT17*AE17+DU17*AF17+DV17*AG17+DW17*AH17+DX17*AI17),0)) | EF17: =IF(AND(DL17=1,DT17=0),1,0) | EG17: =IF(AND(DM17=1,DU17=0),1,0) | EH17: =IF(AND(DN17=1,DV17=0),1,0) | EI17: =IF(AND(DO17=1,DW17=0),1,0) | EJ17: =IF(AND(DP17=1,DX17=0),1,0) | EK17: =AX17+BR17+CL17+DF17+DZ17 | EL17: =U17+EP17 | EM17: =V17+EQ17 | EN17: =W17+ER17 | EO17: =X17+ES17 | EP17: =AY17+BS17+CM17+DG17+EA17 | EQ17: =AZ17+BT17+CN17+DH17+EB17 | ER17: =BA17+BU17+CO17+DI17+EC17 | ES17: =BB17+BV17+CP17+DJ17+ED17 | ET17: =IF(AND(OR($B$9=0,INDEX($EL$14:$EL$29,3)<=EL17+0.000001),OR($C$9=0,INDEX($EM$14:$EM$29,2)<=EM17+0.000001),OR($D$9=0,INDEX($EN$14:$EN$29,8)<=EN17+0.000001),OR($E$9=0,INDEX($EO$14:$EO$29,12)<=EO17+0.000001)),1,0) | EU17: =IF(AND(OR($B$9=1,MOD(INT(A17/1),2)=0),OR($C$9=1,MOD(INT(A17/2),2)=0),OR($D$9=1,MOD(INT(A17/4),2)=0),OR($E$9=1,MOD(INT(A17/8),2)=0)),1,0) | EV17: =IF(AND(ET17=1,EU17=1),(MOD(INT(A17/1),2)+MOD(INT(A17/2),2)+MOD(INT(A17/4),2)+MOD(INT(A17/8),2))*100+A17,"")
A18: 4 | B18: =IF(AND($B$9=1,MOD(INT(A18/1),2)=1),1,0) | C18: =IF(AND($C$9=1,MOD(INT(A18/2),2)=1),1,0) | D18: =IF(AND($D$9=1,MOD(INT(A18/4),2)=1),1,0) | E18: =IF(AND($E$9=1,MOD(INT(A18/8),2)=1),1,0) | F18: =$H$4 | G18: =F18-M18 | H18: =G18-L18 | I18: =H18-K18 | J18: =IF(B18=1,0,MIN($B$6,I18)) | K18: =IF(C18=1,0,MIN($C$6,H18)) | L18: =IF(D18=1,0,MIN($D$6,G18)) | M18: =IF(E18=1,0,MIN($E$6,F18)) | N18: =I18-J18 | O18: =(1-B18)*$B$6+(1-C18)*$C$6+(1-D18)*$D$6+(1-E18)*$E$6 | P18: =IF(B18=1,0,IF(O18<=0,0,IF($H$4>=O18,$B$6,$H$4*$B$6/O18))) | Q18: =IF(C18=1,0,IF(O18<=0,0,IF($H$4>=O18,$C$6,$H$4*$C$6/O18))) | R18: =IF(D18=1,0,IF(O18<=0,0,IF($H$4>=O18,$D$6,$H$4*$D$6/O18))) | S18: =IF(E18=1,0,IF(O18<=0,0,IF($H$4>=O18,$E$6,$H$4*$E$6/O18))) | T18: =IF(O18<=0,$H$4,MAX(0,$H$4-O18)) | U18: =IF($H$5=1,P18,J18) | V18: =IF($H$5=1,Q18,K18) | W18: =IF($H$5=1,R18,L18) | X18: =IF($H$5=1,S18,M18) | Y18: =IF($H$5=1,T18,N18) | Z18: =$H$3 | AA18: =IF(OR(B18=1,$B$8=2,$B$8=3),$B$4,0) | AB18: =IF(OR(C18=1,$C$8=2,$C$8=3),$C$4,0) | AC18: =IF(OR(D18=1,$D$8=2,$D$8=3),$D$4,0) | AD18: =IF(OR(E18=1,$E$8=2,$E$8=3),$E$4,0) | AE18: =1E+300 | AF18: =IF(OR(B18=1,$B$8=2),1E+300,MAX(0,$B$7-U18)) | AG18: =IF(OR(C18=1,$C$8=2),1E+300,MAX(0,$C$7-V18)) | AH18: =IF(OR(D18=1,$D$8=2),1E+300,MAX(0,$D$7-W18)) | AI18: =IF(OR(E18=1,$E$8=2),1E+300,MAX(0,$E$7-X18)) | AJ18: =IF(Z18>0,1,0) | AK18: =IF(AA18>0,1,0) | AL18: =IF(AB18>0,1,0) | AM18: =IF(AC18>0,1,0) | AN18: =IF(AD18>0,1,0) | AO18: =IF(OR(FALSE,Y18<=0.000001,AP18<=0),1,0) | AP18: =Z18*AJ18+AA18*AK18+AB18*AL18+AC18*AM18+AD18*AN18 | AQ18: =IF(AO18=1,0,Y18/AP18) | AR18: =IF(AND(AO18=0,AJ18=1,Z18*AQ18>AE18+0.000001),1,0) | AS18: =IF(AND(AO18=0,AK18=1,AA18*AQ18>AF18+0.000001),1,0) | AT18: =IF(AND(AO18=0,AL18=1,AB18*AQ18>AG18+0.000001),1,0) | AU18: =IF(AND(AO18=0,AM18=1,AC18*AQ18>AH18+0.000001),1,0) | AV18: =IF(AND(AO18=0,AN18=1,AD18*AQ18>AI18+0.000001),1,0) | AW18: =IF(AR18+AS18+AT18+AU18+AV18>0,1,0) | AX18: =IF(AO18=1,0,IF(AW18=1,AR18*AE18,AJ18*Z18*AQ18)) | AY18: =IF(AO18=1,0,IF(AW18=1,AS18*AF18,AK18*AA18*AQ18)) | AZ18: =IF(AO18=1,0,IF(AW18=1,AT18*AG18,AL18*AB18*AQ18)) | BA18: =IF(AO18=1,0,IF(AW18=1,AU18*AH18,AM18*AC18*AQ18)) | BB18: =IF(AO18=1,0,IF(AW18=1,AV18*AI18,AN18*AD18*AQ18)) | BC18: =IF(AO18=1,Y18,IF(AW18=1,Y18-(AR18*AE18+AS18*AF18+AT18*AG18+AU18*AH18+AV18*AI18),0)) | BD18: =IF(AND(AJ18=1,AR18=0),1,0) | BE18: =IF(AND(AK18=1,AS18=0),1,0) | BF18: =IF(AND(AL18=1,AT18=0),1,0) | BG18: =IF(AND(AM18=1,AU18=0),1,0) | BH18: =IF(AND(AN18=1,AV18=0),1,0) | BI18: =IF(OR(OR(AO18=1,AW18=0),BC18<=0.000001,BJ18<=0),1,0) | BJ18: =Z18*BD18+AA18*BE18+AB18*BF18+AC18*BG18+AD18*BH18 | BK18: =IF(BI18=1,0,BC18/BJ18) | BL18: =IF(AND(BI18=0,BD18=1,Z18*BK18>AE18+0.000001),1,0) | BM18: =IF(AND(BI18=0,BE18=1,AA18*BK18>AF18+0.000001),1,0) | BN18: =IF(AND(BI18=0,BF18=1,AB18*BK18>AG18+0.000001),1,0) | BO18: =IF(AND(BI18=0,BG18=1,AC18*BK18>AH18+0.000001),1,0) | BP18: =IF(AND(BI18=0,BH18=1,AD18*BK18>AI18+0.000001),1,0) | BQ18: =IF(BL18+BM18+BN18+BO18+BP18>0,1,0) | BR18: =IF(BI18=1,0,IF(BQ18=1,BL18*AE18,BD18*Z18*BK18)) | BS18: =IF(BI18=1,0,IF(BQ18=1,BM18*AF18,BE18*AA18*BK18)) | BT18: =IF(BI18=1,0,IF(BQ18=1,BN18*AG18,BF18*AB18*BK18)) | BU18: =IF(BI18=1,0,IF(BQ18=1,BO18*AH18,BG18*AC18*BK18)) | BV18: =IF(BI18=1,0,IF(BQ18=1,BP18*AI18,BH18*AD18*BK18)) | BW18: =IF(BI18=1,BC18,IF(BQ18=1,BC18-(BL18*AE18+BM18*AF18+BN18*AG18+BO18*AH18+BP18*AI18),0)) | BX18: =IF(AND(BD18=1,BL18=0),1,0) | BY18: =IF(AND(BE18=1,BM18=0),1,0) | BZ18: =IF(AND(BF18=1,BN18=0),1,0) | CA18: =IF(AND(BG18=1,BO18=0),1,0) | CB18: =IF(AND(BH18=1,BP18=0),1,0) | CC18: =IF(OR(OR(BI18=1,BQ18=0),BW18<=0.000001,CD18<=0),1,0) | CD18: =Z18*BX18+AA18*BY18+AB18*BZ18+AC18*CA18+AD18*CB18 | CE18: =IF(CC18=1,0,BW18/CD18) | CF18: =IF(AND(CC18=0,BX18=1,Z18*CE18>AE18+0.000001),1,0) | CG18: =IF(AND(CC18=0,BY18=1,AA18*CE18>AF18+0.000001),1,0) | CH18: =IF(AND(CC18=0,BZ18=1,AB18*CE18>AG18+0.000001),1,0) | CI18: =IF(AND(CC18=0,CA18=1,AC18*CE18>AH18+0.000001),1,0) | CJ18: =IF(AND(CC18=0,CB18=1,AD18*CE18>AI18+0.000001),1,0) | CK18: =IF(CF18+CG18+CH18+CI18+CJ18>0,1,0) | CL18: =IF(CC18=1,0,IF(CK18=1,CF18*AE18,BX18*Z18*CE18)) | CM18: =IF(CC18=1,0,IF(CK18=1,CG18*AF18,BY18*AA18*CE18)) | CN18: =IF(CC18=1,0,IF(CK18=1,CH18*AG18,BZ18*AB18*CE18)) | CO18: =IF(CC18=1,0,IF(CK18=1,CI18*AH18,CA18*AC18*CE18)) | CP18: =IF(CC18=1,0,IF(CK18=1,CJ18*AI18,CB18*AD18*CE18)) | CQ18: =IF(CC18=1,BW18,IF(CK18=1,BW18-(CF18*AE18+CG18*AF18+CH18*AG18+CI18*AH18+CJ18*AI18),0)) | CR18: =IF(AND(BX18=1,CF18=0),1,0) | CS18: =IF(AND(BY18=1,CG18=0),1,0) | CT18: =IF(AND(BZ18=1,CH18=0),1,0) | CU18: =IF(AND(CA18=1,CI18=0),1,0) | CV18: =IF(AND(CB18=1,CJ18=0),1,0) | CW18: =IF(OR(OR(CC18=1,CK18=0),CQ18<=0.000001,CX18<=0),1,0) | CX18: =Z18*CR18+AA18*CS18+AB18*CT18+AC18*CU18+AD18*CV18 | CY18: =IF(CW18=1,0,CQ18/CX18) | CZ18: =IF(AND(CW18=0,CR18=1,Z18*CY18>AE18+0.000001),1,0) | DA18: =IF(AND(CW18=0,CS18=1,AA18*CY18>AF18+0.000001),1,0) | DB18: =IF(AND(CW18=0,CT18=1,AB18*CY18>AG18+0.000001),1,0) | DC18: =IF(AND(CW18=0,CU18=1,AC18*CY18>AH18+0.000001),1,0) | DD18: =IF(AND(CW18=0,CV18=1,AD18*CY18>AI18+0.000001),1,0) | DE18: =IF(CZ18+DA18+DB18+DC18+DD18>0,1,0) | DF18: =IF(CW18=1,0,IF(DE18=1,CZ18*AE18,CR18*Z18*CY18)) | DG18: =IF(CW18=1,0,IF(DE18=1,DA18*AF18,CS18*AA18*CY18)) | DH18: =IF(CW18=1,0,IF(DE18=1,DB18*AG18,CT18*AB18*CY18)) | DI18: =IF(CW18=1,0,IF(DE18=1,DC18*AH18,CU18*AC18*CY18)) | DJ18: =IF(CW18=1,0,IF(DE18=1,DD18*AI18,CV18*AD18*CY18)) | DK18: =IF(CW18=1,CQ18,IF(DE18=1,CQ18-(CZ18*AE18+DA18*AF18+DB18*AG18+DC18*AH18+DD18*AI18),0)) | DL18: =IF(AND(CR18=1,CZ18=0),1,0) | DM18: =IF(AND(CS18=1,DA18=0),1,0) | DN18: =IF(AND(CT18=1,DB18=0),1,0) | DO18: =IF(AND(CU18=1,DC18=0),1,0) | DP18: =IF(AND(CV18=1,DD18=0),1,0) | DQ18: =IF(OR(OR(CW18=1,DE18=0),DK18<=0.000001,DR18<=0),1,0) | DR18: =Z18*DL18+AA18*DM18+AB18*DN18+AC18*DO18+AD18*DP18 | DS18: =IF(DQ18=1,0,DK18/DR18) | DT18: =IF(AND(DQ18=0,DL18=1,Z18*DS18>AE18+0.000001),1,0) | DU18: =IF(AND(DQ18=0,DM18=1,AA18*DS18>AF18+0.000001),1,0) | DV18: =IF(AND(DQ18=0,DN18=1,AB18*DS18>AG18+0.000001),1,0) | DW18: =IF(AND(DQ18=0,DO18=1,AC18*DS18>AH18+0.000001),1,0) | DX18: =IF(AND(DQ18=0,DP18=1,AD18*DS18>AI18+0.000001),1,0) | DY18: =IF(DT18+DU18+DV18+DW18+DX18>0,1,0) | DZ18: =IF(DQ18=1,0,IF(DY18=1,DT18*AE18,DL18*Z18*DS18)) | EA18: =IF(DQ18=1,0,IF(DY18=1,DU18*AF18,DM18*AA18*DS18)) | EB18: =IF(DQ18=1,0,IF(DY18=1,DV18*AG18,DN18*AB18*DS18)) | EC18: =IF(DQ18=1,0,IF(DY18=1,DW18*AH18,DO18*AC18*DS18)) | ED18: =IF(DQ18=1,0,IF(DY18=1,DX18*AI18,DP18*AD18*DS18)) | EE18: =IF(DQ18=1,DK18,IF(DY18=1,DK18-(DT18*AE18+DU18*AF18+DV18*AG18+DW18*AH18+DX18*AI18),0)) | EF18: =IF(AND(DL18=1,DT18=0),1,0) | EG18: =IF(AND(DM18=1,DU18=0),1,0) | EH18: =IF(AND(DN18=1,DV18=0),1,0) | EI18: =IF(AND(DO18=1,DW18=0),1,0) | EJ18: =IF(AND(DP18=1,DX18=0),1,0) | EK18: =AX18+BR18+CL18+DF18+DZ18 | EL18: =U18+EP18 | EM18: =V18+EQ18 | EN18: =W18+ER18 | EO18: =X18+ES18 | EP18: =AY18+BS18+CM18+DG18+EA18 | EQ18: =AZ18+BT18+CN18+DH18+EB18 | ER18: =BA18+BU18+CO18+DI18+EC18 | ES18: =BB18+BV18+CP18+DJ18+ED18 | ET18: =IF(AND(OR($B$9=0,INDEX($EL$14:$EL$29,6)<=EL18+0.000001),OR($C$9=0,INDEX($EM$14:$EM$29,7)<=EM18+0.000001),OR($D$9=0,INDEX($EN$14:$EN$29,1)<=EN18+0.000001),OR($E$9=0,INDEX($EO$14:$EO$29,13)<=EO18+0.000001)),1,0) | EU18: =IF(AND(OR($B$9=1,MOD(INT(A18/1),2)=0),OR($C$9=1,MOD(INT(A18/2),2)=0),OR($D$9=1,MOD(INT(A18/4),2)=0),OR($E$9=1,MOD(INT(A18/8),2)=0)),1,0) | EV18: =IF(AND(ET18=1,EU18=1),(MOD(INT(A18/1),2)+MOD(INT(A18/2),2)+MOD(INT(A18/4),2)+MOD(INT(A18/8),2))*100+A18,"")
A19: 5 | B19: =IF(AND($B$9=1,MOD(INT(A19/1),2)=1),1,0) | C19: =IF(AND($C$9=1,MOD(INT(A19/2),2)=1),1,0) | D19: =IF(AND($D$9=1,MOD(INT(A19/4),2)=1),1,0) | E19: =IF(AND($E$9=1,MOD(INT(A19/8),2)=1),1,0) | F19: =$H$4 | G19: =F19-M19 | H19: =G19-L19 | I19: =H19-K19 | J19: =IF(B19=1,0,MIN($B$6,I19)) | K19: =IF(C19=1,0,MIN($C$6,H19)) | L19: =IF(D19=1,0,MIN($D$6,G19)) | M19: =IF(E19=1,0,MIN($E$6,F19)) | N19: =I19-J19 | O19: =(1-B19)*$B$6+(1-C19)*$C$6+(1-D19)*$D$6+(1-E19)*$E$6 | P19: =IF(B19=1,0,IF(O19<=0,0,IF($H$4>=O19,$B$6,$H$4*$B$6/O19))) | Q19: =IF(C19=1,0,IF(O19<=0,0,IF($H$4>=O19,$C$6,$H$4*$C$6/O19))) | R19: =IF(D19=1,0,IF(O19<=0,0,IF($H$4>=O19,$D$6,$H$4*$D$6/O19))) | S19: =IF(E19=1,0,IF(O19<=0,0,IF($H$4>=O19,$E$6,$H$4*$E$6/O19))) | T19: =IF(O19<=0,$H$4,MAX(0,$H$4-O19)) | U19: =IF($H$5=1,P19,J19) | V19: =IF($H$5=1,Q19,K19) | W19: =IF($H$5=1,R19,L19) | X19: =IF($H$5=1,S19,M19) | Y19: =IF($H$5=1,T19,N19) | Z19: =$H$3 | AA19: =IF(OR(B19=1,$B$8=2,$B$8=3),$B$4,0) | AB19: =IF(OR(C19=1,$C$8=2,$C$8=3),$C$4,0) | AC19: =IF(OR(D19=1,$D$8=2,$D$8=3),$D$4,0) | AD19: =IF(OR(E19=1,$E$8=2,$E$8=3),$E$4,0) | AE19: =1E+300 | AF19: =IF(OR(B19=1,$B$8=2),1E+300,MAX(0,$B$7-U19)) | AG19: =IF(OR(C19=1,$C$8=2),1E+300,MAX(0,$C$7-V19)) | AH19: =IF(OR(D19=1,$D$8=2),1E+300,MAX(0,$D$7-W19)) | AI19: =IF(OR(E19=1,$E$8=2),1E+300,MAX(0,$E$7-X19)) | AJ19: =IF(Z19>0,1,0) | AK19: =IF(AA19>0,1,0) | AL19: =IF(AB19>0,1,0) | AM19: =IF(AC19>0,1,0) | AN19: =IF(AD19>0,1,0) | AO19: =IF(OR(FALSE,Y19<=0.000001,AP19<=0),1,0) | AP19: =Z19*AJ19+AA19*AK19+AB19*AL19+AC19*AM19+AD19*AN19 | AQ19: =IF(AO19=1,0,Y19/AP19) | AR19: =IF(AND(AO19=0,AJ19=1,Z19*AQ19>AE19+0.000001),1,0) | AS19: =IF(AND(AO19=0,AK19=1,AA19*AQ19>AF19+0.000001),1,0) | AT19: =IF(AND(AO19=0,AL19=1,AB19*AQ19>AG19+0.000001),1,0) | AU19: =IF(AND(AO19=0,AM19=1,AC19*AQ19>AH19+0.000001),1,0) | AV19: =IF(AND(AO19=0,AN19=1,AD19*AQ19>AI19+0.000001),1,0) | AW19: =IF(AR19+AS19+AT19+AU19+AV19>0,1,0) | AX19: =IF(AO19=1,0,IF(AW19=1,AR19*AE19,AJ19*Z19*AQ19)) | AY19: =IF(AO19=1,0,IF(AW19=1,AS19*AF19,AK19*AA19*AQ19)) | AZ19: =IF(AO19=1,0,IF(AW19=1,AT19*AG19,AL19*AB19*AQ19)) | BA19: =IF(AO19=1,0,IF(AW19=1,AU19*AH19,AM19*AC19*AQ19)) | BB19: =IF(AO19=1,0,IF(AW19=1,AV19*AI19,AN19*AD19*AQ19)) | BC19: =IF(AO19=1,Y19,IF(AW19=1,Y19-(AR19*AE19+AS19*AF19+AT19*AG19+AU19*AH19+AV19*AI19),0)) | BD19: =IF(AND(AJ19=1,AR19=0),1,0) | BE19: =IF(AND(AK19=1,AS19=0),1,0) | BF19: =IF(AND(AL19=1,AT19=0),1,0) | BG19: =IF(AND(AM19=1,AU19=0),1,0) | BH19: =IF(AND(AN19=1,AV19=0),1,0) | BI19: =IF(OR(OR(AO19=1,AW19=0),BC19<=0.000001,BJ19<=0),1,0) | BJ19: =Z19*BD19+AA19*BE19+AB19*BF19+AC19*BG19+AD19*BH19 | BK19: =IF(BI19=1,0,BC19/BJ19) | BL19: =IF(AND(BI19=0,BD19=1,Z19*BK19>AE19+0.000001),1,0) | BM19: =IF(AND(BI19=0,BE19=1,AA19*BK19>AF19+0.000001),1,0) | BN19: =IF(AND(BI19=0,BF19=1,AB19*BK19>AG19+0.000001),1,0) | BO19: =IF(AND(BI19=0,BG19=1,AC19*BK19>AH19+0.000001),1,0) | BP19: =IF(AND(BI19=0,BH19=1,AD19*BK19>AI19+0.000001),1,0) | BQ19: =IF(BL19+BM19+BN19+BO19+BP19>0,1,0) | BR19: =IF(BI19=1,0,IF(BQ19=1,BL19*AE19,BD19*Z19*BK19)) | BS19: =IF(BI19=1,0,IF(BQ19=1,BM19*AF19,BE19*AA19*BK19)) | BT19: =IF(BI19=1,0,IF(BQ19=1,BN19*AG19,BF19*AB19*BK19)) | BU19: =IF(BI19=1,0,IF(BQ19=1,BO19*AH19,BG19*AC19*BK19)) | BV19: =IF(BI19=1,0,IF(BQ19=1,BP19*AI19,BH19*AD19*BK19)) | BW19: =IF(BI19=1,BC19,IF(BQ19=1,BC19-(BL19*AE19+BM19*AF19+BN19*AG19+BO19*AH19+BP19*AI19),0)) | BX19: =IF(AND(BD19=1,BL19=0),1,0) | BY19: =IF(AND(BE19=1,BM19=0),1,0) | BZ19: =IF(AND(BF19=1,BN19=0),1,0) | CA19: =IF(AND(BG19=1,BO19=0),1,0) | CB19: =IF(AND(BH19=1,BP19=0),1,0) | CC19: =IF(OR(OR(BI19=1,BQ19=0),BW19<=0.000001,CD19<=0),1,0) | CD19: =Z19*BX19+AA19*BY19+AB19*BZ19+AC19*CA19+AD19*CB19 | CE19: =IF(CC19=1,0,BW19/CD19) | CF19: =IF(AND(CC19=0,BX19=1,Z19*CE19>AE19+0.000001),1,0) | CG19: =IF(AND(CC19=0,BY19=1,AA19*CE19>AF19+0.000001),1,0) | CH19: =IF(AND(CC19=0,BZ19=1,AB19*CE19>AG19+0.000001),1,0) | CI19: =IF(AND(CC19=0,CA19=1,AC19*CE19>AH19+0.000001),1,0) | CJ19: =IF(AND(CC19=0,CB19=1,AD19*CE19>AI19+0.000001),1,0) | CK19: =IF(CF19+CG19+CH19+CI19+CJ19>0,1,0) | CL19: =IF(CC19=1,0,IF(CK19=1,CF19*AE19,BX19*Z19*CE19)) | CM19: =IF(CC19=1,0,IF(CK19=1,CG19*AF19,BY19*AA19*CE19)) | CN19: =IF(CC19=1,0,IF(CK19=1,CH19*AG19,BZ19*AB19*CE19)) | CO19: =IF(CC19=1,0,IF(CK19=1,CI19*AH19,CA19*AC19*CE19)) | CP19: =IF(CC19=1,0,IF(CK19=1,CJ19*AI19,CB19*AD19*CE19)) | CQ19: =IF(CC19=1,BW19,IF(CK19=1,BW19-(CF19*AE19+CG19*AF19+CH19*AG19+CI19*AH19+CJ19*AI19),0)) | CR19: =IF(AND(BX19=1,CF19=0),1,0) | CS19: =IF(AND(BY19=1,CG19=0),1,0) | CT19: =IF(AND(BZ19=1,CH19=0),1,0) | CU19: =IF(AND(CA19=1,CI19=0),1,0) | CV19: =IF(AND(CB19=1,CJ19=0),1,0) | CW19: =IF(OR(OR(CC19=1,CK19=0),CQ19<=0.000001,CX19<=0),1,0) | CX19: =Z19*CR19+AA19*CS19+AB19*CT19+AC19*CU19+AD19*CV19 | CY19: =IF(CW19=1,0,CQ19/CX19) | CZ19: =IF(AND(CW19=0,CR19=1,Z19*CY19>AE19+0.000001),1,0) | DA19: =IF(AND(CW19=0,CS19=1,AA19*CY19>AF19+0.000001),1,0) | DB19: =IF(AND(CW19=0,CT19=1,AB19*CY19>AG19+0.000001),1,0) | DC19: =IF(AND(CW19=0,CU19=1,AC19*CY19>AH19+0.000001),1,0) | DD19: =IF(AND(CW19=0,CV19=1,AD19*CY19>AI19+0.000001),1,0) | DE19: =IF(CZ19+DA19+DB19+DC19+DD19>0,1,0) | DF19: =IF(CW19=1,0,IF(DE19=1,CZ19*AE19,CR19*Z19*CY19)) | DG19: =IF(CW19=1,0,IF(DE19=1,DA19*AF19,CS19*AA19*CY19)) | DH19: =IF(CW19=1,0,IF(DE19=1,DB19*AG19,CT19*AB19*CY19)) | DI19: =IF(CW19=1,0,IF(DE19=1,DC19*AH19,CU19*AC19*CY19)) | DJ19: =IF(CW19=1,0,IF(DE19=1,DD19*AI19,CV19*AD19*CY19)) | DK19: =IF(CW19=1,CQ19,IF(DE19=1,CQ19-(CZ19*AE19+DA19*AF19+DB19*AG19+DC19*AH19+DD19*AI19),0)) | DL19: =IF(AND(CR19=1,CZ19=0),1,0) | DM19: =IF(AND(CS19=1,DA19=0),1,0) | DN19: =IF(AND(CT19=1,DB19=0),1,0) | DO19: =IF(AND(CU19=1,DC19=0),1,0) | DP19: =IF(AND(CV19=1,DD19=0),1,0) | DQ19: =IF(OR(OR(CW19=1,DE19=0),DK19<=0.000001,DR19<=0),1,0) | DR19: =Z19*DL19+AA19*DM19+AB19*DN19+AC19*DO19+AD19*DP19 | DS19: =IF(DQ19=1,0,DK19/DR19) | DT19: =IF(AND(DQ19=0,DL19=1,Z19*DS19>AE19+0.000001),1,0) | DU19: =IF(AND(DQ19=0,DM19=1,AA19*DS19>AF19+0.000001),1,0) | DV19: =IF(AND(DQ19=0,DN19=1,AB19*DS19>AG19+0.000001),1,0) | DW19: =IF(AND(DQ19=0,DO19=1,AC19*DS19>AH19+0.000001),1,0) | DX19: =IF(AND(DQ19=0,DP19=1,AD19*DS19>AI19+0.000001),1,0) | DY19: =IF(DT19+DU19+DV19+DW19+DX19>0,1,0) | DZ19: =IF(DQ19=1,0,IF(DY19=1,DT19*AE19,DL19*Z19*DS19)) | EA19: =IF(DQ19=1,0,IF(DY19=1,DU19*AF19,DM19*AA19*DS19)) | EB19: =IF(DQ19=1,0,IF(DY19=1,DV19*AG19,DN19*AB19*DS19)) | EC19: =IF(DQ19=1,0,IF(DY19=1,DW19*AH19,DO19*AC19*DS19)) | ED19: =IF(DQ19=1,0,IF(DY19=1,DX19*AI19,DP19*AD19*DS19)) | EE19: =IF(DQ19=1,DK19,IF(DY19=1,DK19-(DT19*AE19+DU19*AF19+DV19*AG19+DW19*AH19+DX19*AI19),0)) | EF19: =IF(AND(DL19=1,DT19=0),1,0) | EG19: =IF(AND(DM19=1,DU19=0),1,0) | EH19: =IF(AND(DN19=1,DV19=0),1,0) | EI19: =IF(AND(DO19=1,DW19=0),1,0) | EJ19: =IF(AND(DP19=1,DX19=0),1,0) | EK19: =AX19+BR19+CL19+DF19+DZ19 | EL19: =U19+EP19 | EM19: =V19+EQ19 | EN19: =W19+ER19 | EO19: =X19+ES19 | EP19: =AY19+BS19+CM19+DG19+EA19 | EQ19: =AZ19+BT19+CN19+DH19+EB19 | ER19: =BA19+BU19+CO19+DI19+EC19 | ES19: =BB19+BV19+CP19+DJ19+ED19 | ET19: =IF(AND(OR($B$9=0,INDEX($EL$14:$EL$29,5)<=EL19+0.000001),OR($C$9=0,INDEX($EM$14:$EM$29,8)<=EM19+0.000001),OR($D$9=0,INDEX($EN$14:$EN$29,2)<=EN19+0.000001),OR($E$9=0,INDEX($EO$14:$EO$29,14)<=EO19+0.000001)),1,0) | EU19: =IF(AND(OR($B$9=1,MOD(INT(A19/1),2)=0),OR($C$9=1,MOD(INT(A19/2),2)=0),OR($D$9=1,MOD(INT(A19/4),2)=0),OR($E$9=1,MOD(INT(A19/8),2)=0)),1,0) | EV19: =IF(AND(ET19=1,EU19=1),(MOD(INT(A19/1),2)+MOD(INT(A19/2),2)+MOD(INT(A19/4),2)+MOD(INT(A19/8),2))*100+A19,"")
