Workbook

Sheet Calculator
A1: MRR Growth Calculator
A2: How to use: change the blue cells (light yellow). Every other number is a live formula.
A4: Inputs
A5: Starting MRR | B5: 50000
A6: New MRR added per month | B6: 8000
A7: Monthly churn (share of MRR lost) | B7: 0.03
A8: Monthly expansion (share of MRR added by upgrades) | B8: 0.015
A9: Months to project | B9: 12 | C9: 1 to 60.
A11: Results
A12: Months projected | B12: =MIN(60,MAX(1,ROUND($B$9,0)))
A13: MRR at end | B13: =INDEX(Monthly!$B$2:$B$62,$B$12+1)
A14: ARR at end | B14: =$B$13*12
A15: Starting ARR | B15: =$B$5*12
A16: Total growth | B16: =IF($B$5>0,($B$13-$B$5)/$B$5,"n/a")
A17: Average net new MRR per month | B17: =($B$13-$B$5)/$B$12
A18: Expansion minus churn | B18: =$B$8-$B$7 | C18: Positive = negative net churn: the base grows on its own.

Sheet Monthly
A1: Month | B1: MRR | C1: ARR (MRR x 12) | D1: Net new MRR
A2: 0 | B2: =Calculator!$B$5 | C2: =IF(B2="","",B2*12) | D2: =""
A3: 1 | B3: =IF(A3<=Calculator!$B$12,B2*(1+Calculator!$B$8-Calculator!$B$7)+Calculator!$B$6,"") | C3: =IF(B3="","",B3*12) | D3: =IF(B3="","",B3-B2)
A4: 2 | B4: =IF(A4<=Calculator!$B$12,B3*(1+Calculator!$B$8-Calculator!$B$7)+Calculator!$B$6,"") | C4: =IF(B4="","",B4*12) | D4: =IF(B4="","",B4-B3)
A5: 3 | B5: =IF(A5<=Calculator!$B$12,B4*(1+Calculator!$B$8-Calculator!$B$7)+Calculator!$B$6,"") | C5: =IF(B5="","",B5*12) | D5: =IF(B5="","",B5-B4)
A6: 4 | B6: =IF(A6<=Calculator!$B$12,B5*(1+Calculator!$B$8-Calculator!$B$7)+Calculator!$B$6,"") | C6: =IF(B6="","",B6*12) | D6: =IF(B6="","",B6-B5)
A7: 5 | B7: =IF(A7<=Calculator!$B$12,B6*(1+Calculator!$B$8-Calculator!$B$7)+Calculator!$B$6,"") | C7: =IF(B7="","",B7*12) | D7: =IF(B7="","",B7-B6)
A8: 6 | B8: =IF(A8<=Calculator!$B$12,B7*(1+Calculator!$B$8-Calculator!$B$7)+Calculator!$B$6,"") | C8: =IF(B8="","",B8*12) | D8: =IF(B8="","",B8-B7)
A9: 7 | B9: =IF(A9<=Calculator!$B$12,B8*(1+Calculator!$B$8-Calculator!$B$7)+Calculator!$B$6,"") | C9: =IF(B9="","",B9*12) | D9: =IF(B9="","",B9-B8)
A10: 8 | B10: =IF(A10<=Calculator!$B$12,B9*(1+Calculator!$B$8-Calculator!$B$7)+Calculator!$B$6,"") | C10: =IF(B10="","",B10*12) | D10: =IF(B10="","",B10-B9)
A11: 9 | B11: =IF(A11<=Calculator!$B$12,B10*(1+Calculator!$B$8-Calculator!$B$7)+Calculator!$B$6,"") | C11: =IF(B11="","",B11*12) | D11: =IF(B11="","",B11-B10)
A12: 10 | B12: =IF(A12<=Calculator!$B$12,B11*(1+Calculator!$B$8-Calculator!$B$7)+Calculator!$B$6,"") | C12: =IF(B12="","",B12*12) | D12: =IF(B12="","",B12-B11)
A13: 11 | B13: =IF(A13<=Calculator!$B$12,B12*(1+Calculator!$B$8-Calculator!$B$7)+Calculator!$B$6,"") | C13: =IF(B13="","",B13*12) | D13: =IF(B13="","",B13-B12)
A14: 12 | B14: =IF(A14<=Calculator!$B$12,B13*(1+Calculator!$B$8-Calculator!$B$7)+Calculator!$B$6,"") | C14: =IF(B14="","",B14*12) | D14: =IF(B14="","",B14-B13)
... A62: 60 | B62: =IF(A62<=Calculator!$B$12,B61*(1+Calculator!$B$8-Calculator!$B$7)+Calculator!$B$6,"") | C62: =IF(B62="","",B62*12) | D62: =IF(B62="","",B62-B61)

Sheet About
A1: Free template by Adlega
A2: Live calculator: https://adlega.com/blog/tools/mrr-growth/
A3: Version: October 2026
A5: This template is a planning aid, not tax, legal or investment advice. Check the numbers with your own advisers before you act on them.
A6: Blue cells on a light yellow background are inputs. Every other number is a live Excel formula that mirrors the web calculator.
A8: Adlega is a financial forecasting and planning app for SaaS founders: https://adlega.com
