Workbook

Sheet Calculator
A1: Payroll and Employer Cost Calculator
A2: How to use: change the blue cells (light yellow). Every other number is a live formula.
A4: US team
A5: US employees, group 1 | B5: 10
A6: Group 1 state (code) | B6: CA | C6: Codes on the Reference data sheet; XX = other state.
A7: Group 1 state unemployment rate | B7: 0.035 | C7: New-employer rate; use the rate on your state notice.
A8: Group 1 state unemployment wage base | B8: 7000
A9: US employees, group 2 | B9: 2
A10: Group 2 state (code) | B10: TX
A11: Group 2 state unemployment rate | B11: 0.027
A12: Group 2 state unemployment wage base | B12: 9000
A13: Average US salary per year | B13: 120000
A14: Health coverage | B14: Single | C14: None, Single or Family (KFF 2025 employer share).
A15: 401(k) match (% of salary) | B15: 0
A16: Workers' comp per employee per year | B16: 429
A17: California FUTA credit reduction | B17: 0.015 | C17: Applies to California employees only: 1.2%, 1.5% or 5.3%.
A19: People abroad
A20: Country | B20: People | C20: Salary per person (local currency) | D20: Employer on-cost (local) | E20: USD per unit | F20: Salary in USD | G20: On-cost in USD | H20: On-cost % of salary
A21: Germany (EUR) | B21: 0 | C21: 75000 | D21: =0.093*MIN(MAX(0,N(C21)),101400)+0.013*MIN(MAX(0,N(C21)),101400)+0.0875*MIN(MAX(0,N(C21)),69750)+0.018*MIN(MAX(0,N(C21)),69750)+0.0015*MIN(MAX(0,N(C21)),101400) | E21: ='Reference data'!$D$27 | F21: =MAX(0,N(C21))*E21 | G21: =D21*E21 | H21: =IF(MAX(0,N(C21))>0,D21/MAX(0,N(C21)),0)
A22: United Kingdom (GBP) | B22: 0 | C22: 65000 | D22: =0.15*MAX(0,MAX(0,N(C22))-5000)+0.03*MAX(0,MIN(MAX(0,N(C22)),50270)-6240) | E22: ='Reference data'!$D$28 | F22: =MAX(0,N(C22))*E22 | G22: =D22*E22 | H22: =IF(MAX(0,N(C22))>0,D22/MAX(0,N(C22)),0)
A23: Canada (Ontario) (CAD) | B23: 0 | C23: 105000 | D23: =0.0595*MAX(0,MIN(MAX(0,N(C23)),74600)-3500)+0.04*MAX(0,MIN(MAX(0,N(C23)),85000)-74600)+1.4*0.0163*MIN(MAX(0,N(C23)),68900)+0.0195*MAX(0,N(C23)) | E23: ='Reference data'!$D$29 | F23: =MAX(0,N(C23))*E23 | G23: =D23*E23 | H23: =IF(MAX(0,N(C23))>0,D23/MAX(0,N(C23)),0)
A24: India (INR) | B24: 0 | C24: 2400000 | D24: =0.12*MIN(0.5*MAX(0,N(C24)),300000)+0.01*MIN(0.5*MAX(0,N(C24)),300000)+0.5*MAX(0,N(C24))*15/26/12 | E24: ='Reference data'!$D$30 | F24: =MAX(0,N(C24))*E24 | G24: =D24*E24 | H24: =IF(MAX(0,N(C24))>0,D24/MAX(0,N(C24)),0)
A25: Poland (PLN) | B25: 0 | C25: 240000 | D25: =0.0976*MIN(MAX(0,N(C25)),282600)+0.065*MIN(MAX(0,N(C25)),282600)+0.0167*MAX(0,N(C25))+0.0255*MAX(0,N(C25))+0.015*MAX(0,N(C25)) | E25: ='Reference data'!$D$31 | F25: =MAX(0,N(C25))*E25 | G25: =D25*E25 | H25: =IF(MAX(0,N(C25))>0,D25/MAX(0,N(C25)),0)
A26: Brazil (BRL) | B26: 0 | C26: 240000 | D26: =MAX(0,N(C26))/12+MAX(0,N(C26))/12/3+(0.2+0.02+0.058+0.08)*(MAX(0,N(C26))+MAX(0,N(C26))/12+MAX(0,N(C26))/12/3) | E26: ='Reference data'!$D$32 | F26: =MAX(0,N(C26))*E26 | G26: =D26*E26 | H26: =IF(MAX(0,N(C26))>0,D26/MAX(0,N(C26)),0)
A27: How you employ people abroad | B27: Employer of record | C27: Contractors skip employer on-costs but carry misclassification risk.
A29: Providers and company
A30: US payroll plan | B30: Gusto Plus | C30: Pick from the list (Reference data sheet).
A31: EOR provider (route = employer of record) | B31: Deel
A32: Contractor provider (route = contractor contracts) | B32: Deel
A33: Cash in the bank | B33: 3000000
A34: Monthly revenue (MRR) | B34: 50000
A35: Other monthly costs (non-payroll) | B35: 25000
A37: US employer cost per employee (per year)
A38: Group 1: Social Security | B38: ='Reference data'!$B$4*MIN($B$13,'Reference data'!$B$5)
A39: Group 1: Medicare | B39: ='Reference data'!$B$6*$B$13
A40: Group 1: FUTA | B40: =('Reference data'!$B$7+IF($B$6="CA",$B$17,0))*MIN($B$13,'Reference data'!$B$8)
A41: Group 1: state unemployment | B41: =MAX(0,$B$7)*MIN($B$13,MAX(0,$B$8))
A42: Group 1: employer taxes | B42: =$B$38+$B$39+$B$40+$B$41
A43: Group 2: Social Security | B43: ='Reference data'!$B$4*MIN($B$13,'Reference data'!$B$5)
A44: Group 2: Medicare | B44: ='Reference data'!$B$6*$B$13
...

Sheet Reference data
A1: Reference data (statutory rates checked October 13, 2026; vendor prices verified October 13, 2026; FX = ECB reference rates of October 12, 2026)
A3: US employer taxes and benefits, 2026
A4: Social Security rate (IRS Pub 15, 2026) | B4: 0.062
A5: Social Security wage base | B5: 184500
A6: Medicare rate (no cap) | B6: 0.0145
A7: FUTA net rate (6.0% less 5.4% credit) | B7: 0.006
A8: FUTA wage base | B8: 7000
A9: Health, single: employer share per year (KFF 2025) | B9: 7885
A10: Health, family: employer share per year (KFF 2025) | B10: 20143
A11: Workers' comp example per employee per year (WA class 5302) | B11: 429
A12: California FUTA credit reduction options: 1.2%, 1.5%, 5.3% (1.5% is the default; decided after 2026-11-10)
A14: State unemployment (new-employer rate, 2026)
A15: State | B15: Code | C15: Rate | D15: Wage base | E15: Note
A16: California | B16: CA | C16: 0.035 | D16: 7000 | E16: UI 3.4% + ETT 0.1%
A17: New York | B17: NY | C17: 0.041 | D17: 17600 | E17: UI 4.025% + RSF 0.075%
A18: Texas | B18: TX | C18: 0.027 | D18: 9000 | E18: secondary source, check your state notice
A19: Florida | B19: FL | C19: 0.027 | D19: 7000
A20: Massachusetts | B20: MA | C20: 0.0242 | D20: 15000 | E20: secondary source, check your state notice
A21: Delaware | B21: DE | C21: 0.01 | D21: 14500
A22: Washington | B22: WA | D22: 78200 | E22: rate set by industry, min 1%; enter your own rate
A23: Other state | B23: XX | E23: enter your own rate
A25: Countries (employer on-costs coded on the Calculator sheet)
A26: Country | B26: Code | C26: Currency | D26: USD per 1 unit | E26: Default salary (local)
A27: Germany | B27: DE | C27: EUR | D27: 1.1181 | E27: 75000
A28: United Kingdom | B28: GB | C28: GBP | D28: 1.3235399 | E28: 65000
A29: Canada (Ontario) | B29: CA | C29: CAD | D29: 0.70117898 | E29: 105000
A30: India | B30: IN | C30: INR | D30: 0.010441141 | E30: 2400000
A31: Poland | B31: PL | C31: PLN | D31: 0.2549829 | E31: 240000
A32: Brazil | B32: BR | C32: BRL | D32: 0.20030814 | E32: 240000
A34: US payroll and PEO plans
A35: Plan | B35: Vendor | C35: Base per month | D35: Per person per month | E35: One state only | F35: Max people | G35: PEO | H35: Verified | I35: Pricing page
A36: Gusto Simple | B36: Gusto | C36: 49 | D36: 6 | E36: Yes | G36: No | H36: 2026-10-13 | I36: https://gusto.com/product/pricing
A37: Gusto Plus | B37: Gusto | C37: 80 | D37: 12 | E37: No | G37: No | H37: 2026-10-13 | I37: https://gusto.com/product/pricing
A38: Gusto Premium | B38: Gusto | C38: 180 | D38: 22 | E38: No | G38: No | H38: 2026-10-13 | I38: https://gusto.com/product/pricing
A39: Justworks Payroll | B39: Justworks | C39: 50 | D39: 8 | E39: No | G39: No | H39: 2026-10-13 | I39: https://www.justworks.com/pricing
A40: Justworks PEO Basic | B40: Justworks | C40: 0 | D40: 79 | E40: No | G40: Yes | H40: 2026-10-13 | I40: https://www.justworks.com/pricing
A41: Justworks PEO Plus | B41: Justworks | C41: 0 | D41: 124 | E41: No | G41: Yes | H41: 2026-10-13 | I41: https://www.justworks.com/pricing
A42: OnPay | B42: OnPay | C42: 49 | D42: 6 | E42: No | G42: No | H42: 2026-10-13 | I42: https://onpay.com/payroll/software/costs-pricing/
A43: Square Payroll | B43: Square Payroll | C43: 35 | D43: 6 | E43: No | G43: No | H43: 2026-10-13 | I43: https://squareup.com/us/en/payroll/pricing
A44: Paychex Flex Essentials | B44: Paychex Flex | C44: 39 | D44: 5 | E44: No | F44: 19 | G44: No | H44: 2026-10-13 | I44: https://www.paychex.com/payroll/paychex-flex-essentials
...

Sheet About
A1: Free template by Adlega
A2: Live calculator: https://adlega.com/blog/tools/payroll-cost/
A3: Version: October 2026
A5: This template is a planning aid, not tax, legal or investment advice. Check the numbers with your own advisers before you act on them.
A6: Blue cells on a light yellow background are inputs. Every other number is a live Excel formula that mirrors the web calculator.
A8: US: Social Security 6.2% to $184,500, Medicare 1.45%, FUTA 0.6% on $7,000 plus California's credit reduction, state unemployment at the new-employer rate you set; health is the average employer share from KFF's 2025 survey. Abroad: 2026 employer social contributions with their caps. EOR providers bill the on-cost on top of their fee. "From" = the vendor's starting price. An estimate, not tax advice.
A9: Employer on-cost formulas abroad: Germany pension 9.3%, unemployment 1.3% and insolvency 0.15% to EUR 101,400, health 8.75% and care 1.8% to EUR 69,750; UK NIC 15% above GBP 5,000 and pension 3% of GBP 6,240-50,270; Canada (Ontario) CPP 5.95% (3,500-74,600), CPP2 4% (74,600-85,000), EI 1.4 x 1.63% to 68,900, EHT 1.95%; India EPF+EPS 12% and EDLI+admin 1% on basic (50% of salary) capped at INR 300,000 a year, gratuity 15 days a year; Poland pension 9.76% and disability 6.5% to PLN 282,600, accident 1.67%, Labour+Solidarity Fund and FGSP 2.55%, PPK 1.5%; Brazil 13th salary, 1/3 vacation bonus, then INSS 20%, RAT 2%, third-party levies 5.8% and FGTS 8% on salary + 13th + vacation bonus.
A11: Adlega is a financial forecasting and planning app for SaaS founders: https://adlega.com
