Workbook

Sheet Inputs
A1: SaaS P&L Template: inputs
A2: Change the blue cells on light yellow. The P&L sheet is all live formulas. Live version: https://adlega.com/blog/tools/saas-pnl-template/
A3: Revenue
A4: First month of the year | B4: 46388
A5: Starting subscription MRR | B5: 80000
A6: New MRR per month | B6: 6000
A7: Monthly churn (% of MRR) | B7: 0.015
A8: Monthly expansion (% of MRR) | B8: 0.01
A9: Usage revenue, month 1 | B9: 5000
A10: Usage revenue growth per month | B10: 0.03
A11: Services revenue per month | B11: 8000
A13: Cost of revenue (COGS)
A14: Hosting (% of subscription + usage revenue) | B14: 0.08
A15: Customer support per month | B15: 6000
A16: Payment processing (% of total revenue) | B16: 0.03
A17: Third-party software in the product, per month | B17: 2500
A18: Services delivery cost (% of services revenue) | B18: 0.7
A20: Below EBITDA
A21: Depreciation and amortization per month (incl. capitalized software) | B21: 3000
A22: Net interest expense per month (negative = interest income) | B22: 0
A23: Income tax rate (year-to-date method, no tax on a loss) | B23: 0.21
A25: Operating expenses by department (loaded cost = salary + employer taxes + benefits + equipment)
A26: Department | B26: People now | C26: Cost / person / month | D26: Hires this year | E26: Hire month (1-12) | F26: Non-headcount / month
A27: Sales and marketing | B27: 4 | C27: 11000 | D27: 2 | E27: 4 | F27: 12000
A28: Research and development | B28: 5 | C28: 13000 | D28: 2 | E28: 7 | F28: 4000
A29: General and administrative | B29: 2 | C29: 10000 | D29: 0 | E29: 1 | F29: 9000
A31: Benchmarks shown on the P&L sheet: Benchmarkit 2026 SaaS and AI Metrics Benchmarks (342 B2B companies, calendar 2025), medians.

Sheet P&L
A1: SaaS P&L: monthly income statement
A2: Every number is a formula driven by the Inputs sheet.
A3: Plan month | B3: 1 | C3: 2 | D3: 3 | E3: 4 | F3: 5 | G3: 6 | H3: 7 | I3: 8 | J3: 9 | K3: 10 | L3: 11 | M3: 12
A4: Month | B4: =EDATE(Inputs!$B$4,B$3-1) | C4: =EDATE(Inputs!$B$4,C$3-1) | D4: =EDATE(Inputs!$B$4,D$3-1) | E4: =EDATE(Inputs!$B$4,E$3-1) | F4: =EDATE(Inputs!$B$4,F$3-1) | G4: =EDATE(Inputs!$B$4,G$3-1) | H4: =EDATE(Inputs!$B$4,H$3-1) | I4: =EDATE(Inputs!$B$4,I$3-1) | ... M4: =EDATE(Inputs!$B$4,M$3-1) | N4: Year | O4: Benchmark (median)
A5: Revenue
A6: Subscription MRR (end of month) | B6: =Inputs!$B$5*(1-Inputs!$B$7+Inputs!$B$8)+Inputs!$B$6 | C6: =B6*(1-Inputs!$B$7+Inputs!$B$8)+Inputs!$B$6 | D6: =C6*(1-Inputs!$B$7+Inputs!$B$8)+Inputs!$B$6 | E6: =D6*(1-Inputs!$B$7+Inputs!$B$8)+Inputs!$B$6 | F6: =E6*(1-Inputs!$B$7+Inputs!$B$8)+Inputs!$B$6 | G6: =F6*(1-Inputs!$B$7+Inputs!$B$8)+Inputs!$B$6 | H6: =G6*(1-Inputs!$B$7+Inputs!$B$8)+Inputs!$B$6 | I6: =H6*(1-Inputs!$B$7+Inputs!$B$8)+Inputs!$B$6 | J6: =I6*(1-Inputs!$B$7+Inputs!$B$8)+Inputs!$B$6 | ... M6: =L6*(1-Inputs!$B$7+Inputs!$B$8)+Inputs!$B$6
A7: Subscription revenue | B7: =B6 | C7: =C6 | D7: =D6 | E7: =E6 | F7: =F6 | G7: =G6 | H7: =H6 | I7: =I6 | ... M7: =M6 | N7: =SUM(B7:M7)
A8: Usage revenue | B8: =Inputs!$B$9*(1+Inputs!$B$10)^(B$3-1) | C8: =Inputs!$B$9*(1+Inputs!$B$10)^(C$3-1) | D8: =Inputs!$B$9*(1+Inputs!$B$10)^(D$3-1) | E8: =Inputs!$B$9*(1+Inputs!$B$10)^(E$3-1) | F8: =Inputs!$B$9*(1+Inputs!$B$10)^(F$3-1) | G8: =Inputs!$B$9*(1+Inputs!$B$10)^(G$3-1) | H8: =Inputs!$B$9*(1+Inputs!$B$10)^(H$3-1) | I8: =Inputs!$B$9*(1+Inputs!$B$10)^(I$3-1) | ... M8: =Inputs!$B$9*(1+Inputs!$B$10)^(M$3-1) | N8: =SUM(B8:M8)
A9: Services revenue | B9: =Inputs!$B$11 | C9: =Inputs!$B$11 | D9: =Inputs!$B$11 | E9: =Inputs!$B$11 | F9: =Inputs!$B$11 | G9: =Inputs!$B$11 | H9: =Inputs!$B$11 | I9: =Inputs!$B$11 | ... M9: =Inputs!$B$11 | N9: =SUM(B9:M9)
A10: Subscription + usage revenue | B10: =B7+B8 | C10: =C7+C8 | D10: =D7+D8 | E10: =E7+E8 | F10: =F7+F8 | G10: =G7+G8 | H10: =H7+H8 | I10: =I7+I8 | ... M10: =M7+M8 | N10: =SUM(B10:M10)
A11: Total revenue | B11: =B10+B9 | C11: =C10+C9 | D11: =D10+D9 | E11: =E10+E9 | F11: =F10+F9 | G11: =G10+G9 | H11: =H10+H9 | I11: =I10+I9 | ... M11: =M10+M9 | N11: =SUM(B11:M11)
A12: Cost of revenue (COGS)
A13: Hosting | B13: =Inputs!$B$14*B10 | C13: =Inputs!$B$14*C10 | D13: =Inputs!$B$14*D10 | E13: =Inputs!$B$14*E10 | F13: =Inputs!$B$14*F10 | G13: =Inputs!$B$14*G10 | H13: =Inputs!$B$14*H10 | I13: =Inputs!$B$14*I10 | ... M13: =Inputs!$B$14*M10 | N13: =SUM(B13:M13)
A14: Customer support | B14: =Inputs!$B$15 | C14: =Inputs!$B$15 | D14: =Inputs!$B$15 | E14: =Inputs!$B$15 | F14: =Inputs!$B$15 | G14: =Inputs!$B$15 | H14: =Inputs!$B$15 | I14: =Inputs!$B$15 | ... M14: =Inputs!$B$15 | N14: =SUM(B14:M14)
A15: Payment processing | B15: =Inputs!$B$16*B11 | C15: =Inputs!$B$16*C11 | D15: =Inputs!$B$16*D11 | E15: =Inputs!$B$16*E11 | F15: =Inputs!$B$16*F11 | G15: =Inputs!$B$16*G11 | H15: =Inputs!$B$16*H11 | I15: =Inputs!$B$16*I11 | ... M15: =Inputs!$B$16*M11 | N15: =SUM(B15:M15)
A16: Third-party software | B16: =Inputs!$B$17 | C16: =Inputs!$B$17 | D16: =Inputs!$B$17 | E16: =Inputs!$B$17 | F16: =Inputs!$B$17 | G16: =Inputs!$B$17 | H16: =Inputs!$B$17 | I16: =Inputs!$B$17 | ... M16: =Inputs!$B$17 | N16: =SUM(B16:M16)
A17: Services delivery | B17: =Inputs!$B$18*B9 | C17: =Inputs!$B$18*C9 | D17: =Inputs!$B$18*D9 | E17: =Inputs!$B$18*E9 | F17: =Inputs!$B$18*F9 | G17: =Inputs!$B$18*G9 | H17: =Inputs!$B$18*H9 | I17: =Inputs!$B$18*I9 | ... M17: =Inputs!$B$18*M9 | N17: =SUM(B17:M17)
A18: Total COGS | B18: =SUM(B13:B17) | C18: =SUM(C13:C17) | D18: =SUM(D13:D17) | E18: =SUM(E13:E17) | F18: =SUM(F13:F17) | G18: =SUM(G13:G17) | H18: =SUM(H13:H17) | I18: =SUM(I13:I17) | ... M18: =SUM(M13:M17) | N18: =SUM(B18:M18)
A19: Gross profit | B19: =B11-B18 | C19: =C11-C18 | D19: =D11-D18 | E19: =E11-E18 | F19: =F11-F18 | G19: =G11-G18 | H19: =H11-H18 | I19: =I11-I18 | ... M19: =M11-M18 | N19: =SUM(B19:M19)
A20: COGS serving subscription + usage | B20: =B13+B14+B16+Inputs!$B$16*B10 | C20: =C13+C14+C16+Inputs!$B$16*C10 | D20: =D13+D14+D16+Inputs!$B$16*D10 | E20: =E13+E14+E16+Inputs!$B$16*E10 | F20: =F13+F14+F16+Inputs!$B$16*F10 | G20: =G13+G14+G16+Inputs!$B$16*G10 | H20: =H13+H14+H16+Inputs!$B$16*H10 | I20: =I13+I14+I16+Inputs!$B$16*I10 | ... M20: =M13+M14+M16+Inputs!$B$16*M10 | N20: =SUM(B20:M20)
A21: Gross margin | B21: =IF(B11>0,B19/B11,"") | C21: =IF(C11>0,C19/C11,"") | D21: =IF(D11>0,D19/D11,"") | E21: =IF(E11>0,E19/E11,"") | F21: =IF(F11>0,F19/F11,"") | G21: =IF(G11>0,G19/G11,"") | H21: =IF(H11>0,H19/H11,"") | I21: =IF(I11>0,I19/I11,"") | ... N21: =IF(N11>0,N19/N11,"") | O21: 0.76
A22: Subscription gross margin | B22: =IF(B10>0,(B10-B20)/B10,"") | C22: =IF(C10>0,(C10-C20)/C10,"") | D22: =IF(D10>0,(D10-D20)/D10,"") | E22: =IF(E10>0,(E10-E20)/E10,"") | F22: =IF(F10>0,(F10-F20)/F10,"") | G22: =IF(G10>0,(G10-G20)/G10,"") | H22: =IF(H10>0,(H10-H20)/H10,"") | I22: =IF(I10>0,(I10-I20)/I10,"") | ... N22: =IF(N10>0,(N10-N20)/N10,"") | O22: 0.8
A23: Operating expenses
A24: Sales and marketing: people | B24: =(Inputs!$B$27+IF(B$3>=Inputs!$E$27,Inputs!$D$27,0))*Inputs!$C$27 | C24: =(Inputs!$B$27+IF(C$3>=Inputs!$E$27,Inputs!$D$27,0))*Inputs!$C$27 | D24: =(Inputs!$B$27+IF(D$3>=Inputs!$E$27,Inputs!$D$27,0))*Inputs!$C$27 | E24: =(Inputs!$B$27+IF(E$3>=Inputs!$E$27,Inputs!$D$27,0))*Inputs!$C$27 | F24: =(Inputs!$B$27+IF(F$3>=Inputs!$E$27,Inputs!$D$27,0))*Inputs!$C$27 | G24: =(Inputs!$B$27+IF(G$3>=Inputs!$E$27,Inputs!$D$27,0))*Inputs!$C$27 | H24: =(Inputs!$B$27+IF(H$3>=Inputs!$E$27,Inputs!$D$27,0))*Inputs!$C$27 | I24: =(Inputs!$B$27+IF(I$3>=Inputs!$E$27,Inputs!$D$27,0))*Inputs!$C$27 | ... M24: =(Inputs!$B$27+IF(M$3>=Inputs!$E$27,Inputs!$D$27,0))*Inputs!$C$27 | N24: =SUM(B24:M24)
A25: Sales and marketing: non-headcount | B25: =Inputs!$F$27 | C25: =Inputs!$F$27 | D25: =Inputs!$F$27 | E25: =Inputs!$F$27 | F25: =Inputs!$F$27 | G25: =Inputs!$F$27 | H25: =Inputs!$F$27 | I25: =Inputs!$F$27 | ... M25: =Inputs!$F$27 | N25: =SUM(B25:M25)
A26: Research and development: people | B26: =(Inputs!$B$28+IF(B$3>=Inputs!$E$28,Inputs!$D$28,0))*Inputs!$C$28 | C26: =(Inputs!$B$28+IF(C$3>=Inputs!$E$28,Inputs!$D$28,0))*Inputs!$C$28 | D26: =(Inputs!$B$28+IF(D$3>=Inputs!$E$28,Inputs!$D$28,0))*Inputs!$C$28 | E26: =(Inputs!$B$28+IF(E$3>=Inputs!$E$28,Inputs!$D$28,0))*Inputs!$C$28 | F26: =(Inputs!$B$28+IF(F$3>=Inputs!$E$28,Inputs!$D$28,0))*Inputs!$C$28 | G26: =(Inputs!$B$28+IF(G$3>=Inputs!$E$28,Inputs!$D$28,0))*Inputs!$C$28 | H26: =(Inputs!$B$28+IF(H$3>=Inputs!$E$28,Inputs!$D$28,0))*Inputs!$C$28 | I26: =(Inputs!$B$28+IF(I$3>=Inputs!$E$28,Inputs!$D$28,0))*Inputs!$C$28 | ... M26: =(Inputs!$B$28+IF(M$3>=Inputs!$E$28,Inputs!$D$28,0))*Inputs!$C$28 | N26: =SUM(B26:M26)
A27: Research and development: non-headcount | B27: =Inputs!$F$28 | C27: =Inputs!$F$28 | D27: =Inputs!$F$28 | E27: =Inputs!$F$28 | F27: =Inputs!$F$28 | G27: =Inputs!$F$28 | H27: =Inputs!$F$28 | I27: =Inputs!$F$28 | ... M27: =Inputs!$F$28 | N27: =SUM(B27:M27)
A28: General and administrative: people | B28: =(Inputs!$B$29+IF(B$3>=Inputs!$E$29,Inputs!$D$29,0))*Inputs!$C$29 | C28: =(Inputs!$B$29+IF(C$3>=Inputs!$E$29,Inputs!$D$29,0))*Inputs!$C$29 | D28: =(Inputs!$B$29+IF(D$3>=Inputs!$E$29,Inputs!$D$29,0))*Inputs!$C$29 | E28: =(Inputs!$B$29+IF(E$3>=Inputs!$E$29,Inputs!$D$29,0))*Inputs!$C$29 | F28: =(Inputs!$B$29+IF(F$3>=Inputs!$E$29,Inputs!$D$29,0))*Inputs!$C$29 | G28: =(Inputs!$B$29+IF(G$3>=Inputs!$E$29,Inputs!$D$29,0))*Inputs!$C$29 | H28: =(Inputs!$B$29+IF(H$3>=Inputs!$E$29,Inputs!$D$29,0))*Inputs!$C$29 | I28: =(Inputs!$B$29+IF(I$3>=Inputs!$E$29,Inputs!$D$29,0))*Inputs!$C$29 | ... M28: =(Inputs!$B$29+IF(M$3>=Inputs!$E$29,Inputs!$D$29,0))*Inputs!$C$29 | N28: =SUM(B28:M28)
A29: General and administrative: non-headcount | B29: =Inputs!$F$29 | C29: =Inputs!$F$29 | D29: =Inputs!$F$29 | E29: =Inputs!$F$29 | F29: =Inputs!$F$29 | G29: =Inputs!$F$29 | H29: =Inputs!$F$29 | I29: =Inputs!$F$29 | ... M29: =Inputs!$F$29 | N29: =SUM(B29:M29)
A30: Total operating expenses | B30: =SUM(B24:B29) | C30: =SUM(C24:C29) | D30: =SUM(D24:D29) | E30: =SUM(E24:E29) | F30: =SUM(F24:F29) | G30: =SUM(G24:G29) | H30: =SUM(H24:H29) | I30: =SUM(I24:I29) | ... M30: =SUM(M24:M29) | N30: =SUM(B30:M30)
A31: EBITDA | B31: =B19-B30 | C31: =C19-C30 | D31: =D19-D30 | E31: =E19-E30 | F31: =F19-F30 | G31: =G19-G30 | H31: =H19-H30 | I31: =I19-I30 | ... M31: =M19-M30 | N31: =SUM(B31:M31)
A32: Depreciation and amortization | B32: =Inputs!$B$21 | C32: =Inputs!$B$21 | D32: =Inputs!$B$21 | E32: =Inputs!$B$21 | F32: =Inputs!$B$21 | G32: =Inputs!$B$21 | H32: =Inputs!$B$21 | I32: =Inputs!$B$21 | ... M32: =Inputs!$B$21 | N32: =SUM(B32:M32)
A33: Operating income (EBIT) | B33: =B31-B32 | C33: =C31-C32 | D33: =D31-D32 | E33: =E31-E32 | F33: =F31-F32 | G33: =G31-G32 | H33: =H31-H32 | I33: =I31-I32 | ... M33: =M31-M32 | N33: =SUM(B33:M33)
A34: Net interest expense | B34: =Inputs!$B$22 | C34: =Inputs!$B$22 | D34: =Inputs!$B$22 | E34: =Inputs!$B$22 | F34: =Inputs!$B$22 | G34: =Inputs!$B$22 | H34: =Inputs!$B$22 | I34: =Inputs!$B$22 | ... M34: =Inputs!$B$22 | N34: =SUM(B34:M34)
A35: Pre-tax income | B35: =B33-B34 | C35: =C33-C34 | D35: =D33-D34 | E35: =E33-E34 | F35: =F33-F34 | G35: =G33-G34 | H35: =H33-H34 | I35: =I33-I34 | ... M35: =M33-M34 | N35: =SUM(B35:M35)
A36: Income tax (year-to-date method) | B36: =Inputs!$B$23*MAX(0,B35) | C36: =Inputs!$B$23*MAX(0,SUM($B35:C35))-Inputs!$B$23*MAX(0,SUM($B35:B35)) | D36: =Inputs!$B$23*MAX(0,SUM($B35:D35))-Inputs!$B$23*MAX(0,SUM($B35:C35)) | E36: =Inputs!$B$23*MAX(0,SUM($B35:E35))-Inputs!$B$23*MAX(0,SUM($B35:D35)) | F36: =Inputs!$B$23*MAX(0,SUM($B35:F35))-Inputs!$B$23*MAX(0,SUM($B35:E35)) | G36: =Inputs!$B$23*MAX(0,SUM($B35:G35))-Inputs!$B$23*MAX(0,SUM($B35:F35)) | H36: =Inputs!$B$23*MAX(0,SUM($B35:H35))-Inputs!$B$23*MAX(0,SUM($B35:G35)) | I36: =Inputs!$B$23*MAX(0,SUM($B35:I35))-Inputs!$B$23*MAX(0,SUM($B35:H35)) | J36: =Inputs!$B$23*MAX(0,SUM($B35:J35))-Inputs!$B$23*MAX(0,SUM($B35:I35)) | ... M36: =Inputs!$B$23*MAX(0,SUM($B35:M35))-Inputs!$B$23*MAX(0,SUM($B35:L35)) | N36: =SUM(B36:M36)
A37: Net income | B37: =B35-B36 | C37: =C35-C36 | D37: =D35-D36 | E37: =E35-E36 | F37: =F35-F36 | G37: =G35-G36 | H37: =H35-H36 | I37: =I35-I36 | ... M37: =M35-M36 | N37: =SUM(B37:M37)
A38: SaaS KPIs
A39: ARR (subscription MRR x 12) | B39: =B6*12 | C39: =C6*12 | D39: =D6*12 | E39: =E6*12 | F39: =F6*12 | G39: =G6*12 | H39: =H6*12 | I39: =I6*12 | ... M39: =M6*12 | N39: =M6*12
A40: Headcount | B40: =(Inputs!$B$27+IF(B$3>=Inputs!$E$27,Inputs!$D$27,0))+(Inputs!$B$28+IF(B$3>=Inputs!$E$28,Inputs!$D$28,0))+(Inputs!$B$29+IF(B$3>=Inputs!$E$29,Inputs!$D$29,0)) | C40: =(Inputs!$B$27+IF(C$3>=Inputs!$E$27,Inputs!$D$27,0))+(Inputs!$B$28+IF(C$3>=Inputs!$E$28,Inputs!$D$28,0))+(Inputs!$B$29+IF(C$3>=Inputs!$E$29,Inputs!$D$29,0)) | D40: =(Inputs!$B$27+IF(D$3>=Inputs!$E$27,Inputs!$D$27,0))+(Inputs!$B$28+IF(D$3>=Inputs!$E$28,Inputs!$D$28,0))+(Inputs!$B$29+IF(D$3>=Inputs!$E$29,Inputs!$D$29,0)) | E40: =(Inputs!$B$27+IF(E$3>=Inputs!$E$27,Inputs!$D$27,0))+(Inputs!$B$28+IF(E$3>=Inputs!$E$28,Inputs!$D$28,0))+(Inputs!$B$29+IF(E$3>=Inputs!$E$29,Inputs!$D$29,0)) | F40: =(Inputs!$B$27+IF(F$3>=Inputs!$E$27,Inputs!$D$27,0))+(Inputs!$B$28+IF(F$3>=Inputs!$E$28,Inputs!$D$28,0))+(Inputs!$B$29+IF(F$3>=Inputs!$E$29,Inputs!$D$29,0)) | G40: =(Inputs!$B$27+IF(G$3>=Inputs!$E$27,Inputs!$D$27,0))+(Inputs!$B$28+IF(G$3>=Inputs!$E$28,Inputs!$D$28,0))+(Inputs!$B$29+IF(G$3>=Inputs!$E$29,Inputs!$D$29,0)) | H40: =(Inputs!$B$27+IF(H$3>=Inputs!$E$27,Inputs!$D$27,0))+(Inputs!$B$28+IF(H$3>=Inputs!$E$28,Inputs!$D$28,0))+(Inputs!$B$29+IF(H$3>=Inputs!$E$29,Inputs!$D$29,0)) | I40: =(Inputs!$B$27+IF(I$3>=Inputs!$E$27,Inputs!$D$27,0))+(Inputs!$B$28+IF(I$3>=Inputs!$E$28,Inputs!$D$28,0))+(Inputs!$B$29+IF(I$3>=Inputs!$E$29,Inputs!$D$29,0)) | ... M40: =(Inputs!$B$27+IF(M$3>=Inputs!$E$27,Inputs!$D$27,0))+(Inputs!$B$28+IF(M$3>=Inputs!$E$28,Inputs!$D$28,0))+(Inputs!$B$29+IF(M$3>=Inputs!$E$29,Inputs!$D$29,0)) | N40: =M40
...

Sheet About
A1: Free template by Adlega
A2: Live SaaS P&L template: https://adlega.com/blog/tools/saas-pnl-template/
A3: Version: October 2026
A5: This template is a planning aid, not advice. It is not tax, legal, accounting or investment advice; check the numbers with your own advisers before you act on them.
A6: Blue cells on a light yellow background (Inputs sheet) are inputs. Every other number is a live formula that mirrors the web calculator.
A8: Subscription MRR each month = last month's MRR x (1 - churn + expansion) + new MRR; subscription revenue = that month's MRR.
A9: Subscription gross margin = (subscription + usage revenue - hosting - support - third-party software - processing on that revenue) / (subscription + usage revenue).
A10: Tax, year-to-date method: tax in a month = rate x max(0, YTD pre-tax) - rate x max(0, YTD pre-tax last month). The year's tax = rate x max(0, year pre-tax).
A11: ARR = subscription MRR x 12; usage revenue is left out because it is not contracted.
A13: Adlega is a financial forecasting and planning app for SaaS founders: https://adlega.com
