Workbook

Sheet Calculator
A1: Sales Capacity and Pipeline Calculator
A2: How to use: change the blue cells (light yellow). Every other number is a live formula.
A4: Team
A5: Annual quota per ramped AE (new ARR) | B5: 875000
A6: Average attainment | B6: 0.75
A7: Ramped AEs today | B7: 3
A8: Ramp time (months) | B8: 6 | C8: Linear ramp: month k of tenure = k / (ramp + 1) of a ramped AE.
A9: Annual AE attrition | B9: 0 | C9: Leavers are not backfilled.
A11: New AE hires (up to 6 rows)
B12: New AEs | C12: Start month (1-12) | D12: Counted AEs | E12: Month used
A13: Hire row 1 | B13: 2 | C13: 1 | D13: =IF(AND(N(B13)>0,ROUND(N(C13),0)>=1,ROUND(N(C13),0)<=12),MAX(0,N(B13)),0) | E13: =ROUND(N(C13),0)
A14: Hire row 2 | B14: 1 | C14: 4 | D14: =IF(AND(N(B14)>0,ROUND(N(C14),0)>=1,ROUND(N(C14),0)<=12),MAX(0,N(B14)),0) | E14: =ROUND(N(C14),0)
A15: Hire row 3 | D15: =IF(AND(N(B15)>0,ROUND(N(C15),0)>=1,ROUND(N(C15),0)<=12),MAX(0,N(B15)),0) | E15: =ROUND(N(C15),0)
A16: Hire row 4 | D16: =IF(AND(N(B16)>0,ROUND(N(C16),0)>=1,ROUND(N(C16),0)<=12),MAX(0,N(B16)),0) | E16: =ROUND(N(C16),0)
A17: Hire row 5 | D17: =IF(AND(N(B17)>0,ROUND(N(C17),0)>=1,ROUND(N(C17),0)<=12),MAX(0,N(B17)),0) | E17: =ROUND(N(C17),0)
A18: Hire row 6 | D18: =IF(AND(N(B18)>0,ROUND(N(C18),0)>=1,ROUND(N(C18),0)<=12),MAX(0,N(B18)),0) | E18: =ROUND(N(C18),0)
A20: Bookings target and pipeline
A21: New ARR bookings target (12 months) | B21: 3500000
A22: Average contract value (ACV) | B22: 30000
A23: Win rate (opportunity to closed-won) | B23: 0.25
A24: Sales cycle (months) | B24: 3
A25: Open pipeline today | B25: 2500000
A26: Size the pipeline for | B26: The bookings target
A28: Model parameters
A29: Ramp months used | B29: =ROUND(MAX(0,$B$8),0)
A30: Monthly AE survival | B30: =(1-MIN(MAX($B$9,0),0.999))^(1/12)
A31: Bookings per ramped AE per month | B31: =MAX(0,$B$5)*MAX(0,$B$6)/12
A32: Win rate used | B32: =MAX(0,$B$23)
A33: Sales cycle, whole months | B33: =ROUND(MAX(0,$B$24),0)
A35: Results
A36: Bookings capacity, next 12 months | B36: =Monthly!$E$14
A37: Gap to target (negative = cushion) | B37: =MAX(0,$B$21)-$B$36
A38: Productive AE-years | B38: =Monthly!$D$14/12
A39: Bookings per ramped AE per year | B39: =$B$31*12
A40: AEs on the team in month 12 | B40: =Monthly!$C$13
A41: Bookings the pipeline is sized for | B41: =IF($B$26="The team's bookings capacity",$B$36,MAX(0,$B$21))
A42: Pipeline coverage needed (1 / win rate) | B42: =IF($B$32>0,1/$B$32,"-")
A43: Bookings due within one sales cycle | B43: =SUMPRODUCT(Monthly!$F$2:$F$13,Monthly!$H$2:$H$13)+MAX(0,MAX(0,$B$24)-12)*Monthly!$F$13
A44: Open pipeline needed today | B44: =IF($B$32>0,$B$43/$B$32,"-")
A45: Your coverage of those bookings | B45: =IF($B$43>0,MAX(0,$B$25)/$B$43,"-")
A46: Pipeline shortfall | B46: =IF($B$32>0,MAX(0,$B$44-MAX(0,$B$25)),"-")
A47: Pipeline to create over the year | B47: =IF($B$32>0,$B$41/$B$32,"-")
A48: Deals to close | B48: =IF($B$22>0,$B$41/$B$22,"-")
A50: Extra AEs to close the gap
A51: Extra AEs start in | B51: Each adds this year | C51: AEs needed
A52: Month 1 | B52: ='Ramp grid'!$N$3 | C52: =IF($B$37>0.5,IF(B52<=0.000000001,"not possible",ROUNDUP($B$37/B52-0.000000001,0)),0)
A53: Month 2 | B53: ='Ramp grid'!$N$4 | C53: =IF($B$37>0.5,IF(B53<=0.000000001,"not possible",ROUNDUP($B$37/B53-0.000000001,0)),0)
A54: Month 3 | B54: ='Ramp grid'!$N$5 | C54: =IF($B$37>0.5,IF(B54<=0.000000001,"not possible",ROUNDUP($B$37/B54-0.000000001,0)),0)
A55: Month 4 | B55: ='Ramp grid'!$N$6 | C55: =IF($B$37>0.5,IF(B55<=0.000000001,"not possible",ROUNDUP($B$37/B55-0.000000001,0)),0)
A56: Month 6 | B56: ='Ramp grid'!$N$8 | C56: =IF($B$37>0.5,IF(B56<=0.000000001,"not possible",ROUNDUP($B$37/B56-0.000000001,0)),0)
A57: Month 9 | B57: ='Ramp grid'!$N$11 | C57: =IF($B$37>0.5,IF(B57<=0.000000001,"not possible",ROUNDUP($B$37/B57-0.000000001,0)),0)
A58: Latest start month for one extra AE to close the gap | B58: =IF($B$37<=0.5,"No gap",IF(COUNT('Ramp grid'!$O$3:$O$14)=0,"None this year",MAX('Ramp grid'!$O$3:$O$14)))

Sheet Ramp grid
A1: One AE starting in month m, effective output in month t (survival x ramp)
A2: Start month m | B2: t=1 | C2: t=2 | D2: t=3 | E2: t=4 | F2: t=5 | G2: t=6 | H2: t=7 | I2: t=8 | J2: t=9 | K2: t=10 | L2: t=11 | M2: t=12 | N2: Bookings this year | O2: Closes gap alone?
A3: 1 | B3: =Calculator!$B$30^(0)*MIN(1,1/(Calculator!$B$29+1)) | C3: =Calculator!$B$30^(1)*MIN(1,2/(Calculator!$B$29+1)) | D3: =Calculator!$B$30^(2)*MIN(1,3/(Calculator!$B$29+1)) | E3: =Calculator!$B$30^(3)*MIN(1,4/(Calculator!$B$29+1)) | F3: =Calculator!$B$30^(4)*MIN(1,5/(Calculator!$B$29+1)) | G3: =Calculator!$B$30^(5)*MIN(1,6/(Calculator!$B$29+1)) | H3: =Calculator!$B$30^(6)*MIN(1,7/(Calculator!$B$29+1)) | I3: =Calculator!$B$30^(7)*MIN(1,8/(Calculator!$B$29+1)) | J3: =Calculator!$B$30^(8)*MIN(1,9/(Calculator!$B$29+1)) | K3: =Calculator!$B$30^(9)*MIN(1,10/(Calculator!$B$29+1)) | L3: =Calculator!$B$30^(10)*MIN(1,11/(Calculator!$B$29+1)) | M3: =Calculator!$B$30^(11)*MIN(1,12/(Calculator!$B$29+1)) | N3: =Calculator!$B$31*SUM(B3:M3) | O3: =IF(N3>=Calculator!$B$37-0.000001,A3,"")
A4: 2 | B4: 0 | C4: =Calculator!$B$30^(0)*MIN(1,1/(Calculator!$B$29+1)) | D4: =Calculator!$B$30^(1)*MIN(1,2/(Calculator!$B$29+1)) | E4: =Calculator!$B$30^(2)*MIN(1,3/(Calculator!$B$29+1)) | F4: =Calculator!$B$30^(3)*MIN(1,4/(Calculator!$B$29+1)) | G4: =Calculator!$B$30^(4)*MIN(1,5/(Calculator!$B$29+1)) | H4: =Calculator!$B$30^(5)*MIN(1,6/(Calculator!$B$29+1)) | I4: =Calculator!$B$30^(6)*MIN(1,7/(Calculator!$B$29+1)) | J4: =Calculator!$B$30^(7)*MIN(1,8/(Calculator!$B$29+1)) | K4: =Calculator!$B$30^(8)*MIN(1,9/(Calculator!$B$29+1)) | L4: =Calculator!$B$30^(9)*MIN(1,10/(Calculator!$B$29+1)) | M4: =Calculator!$B$30^(10)*MIN(1,11/(Calculator!$B$29+1)) | N4: =Calculator!$B$31*SUM(B4:M4) | O4: =IF(N4>=Calculator!$B$37-0.000001,A4,"")
A5: 3 | B5: 0 | C5: 0 | D5: =Calculator!$B$30^(0)*MIN(1,1/(Calculator!$B$29+1)) | E5: =Calculator!$B$30^(1)*MIN(1,2/(Calculator!$B$29+1)) | F5: =Calculator!$B$30^(2)*MIN(1,3/(Calculator!$B$29+1)) | G5: =Calculator!$B$30^(3)*MIN(1,4/(Calculator!$B$29+1)) | H5: =Calculator!$B$30^(4)*MIN(1,5/(Calculator!$B$29+1)) | I5: =Calculator!$B$30^(5)*MIN(1,6/(Calculator!$B$29+1)) | J5: =Calculator!$B$30^(6)*MIN(1,7/(Calculator!$B$29+1)) | K5: =Calculator!$B$30^(7)*MIN(1,8/(Calculator!$B$29+1)) | L5: =Calculator!$B$30^(8)*MIN(1,9/(Calculator!$B$29+1)) | M5: =Calculator!$B$30^(9)*MIN(1,10/(Calculator!$B$29+1)) | N5: =Calculator!$B$31*SUM(B5:M5) | O5: =IF(N5>=Calculator!$B$37-0.000001,A5,"")
A6: 4 | B6: 0 | C6: 0 | D6: 0 | E6: =Calculator!$B$30^(0)*MIN(1,1/(Calculator!$B$29+1)) | F6: =Calculator!$B$30^(1)*MIN(1,2/(Calculator!$B$29+1)) | G6: =Calculator!$B$30^(2)*MIN(1,3/(Calculator!$B$29+1)) | H6: =Calculator!$B$30^(3)*MIN(1,4/(Calculator!$B$29+1)) | I6: =Calculator!$B$30^(4)*MIN(1,5/(Calculator!$B$29+1)) | J6: =Calculator!$B$30^(5)*MIN(1,6/(Calculator!$B$29+1)) | K6: =Calculator!$B$30^(6)*MIN(1,7/(Calculator!$B$29+1)) | L6: =Calculator!$B$30^(7)*MIN(1,8/(Calculator!$B$29+1)) | M6: =Calculator!$B$30^(8)*MIN(1,9/(Calculator!$B$29+1)) | N6: =Calculator!$B$31*SUM(B6:M6) | O6: =IF(N6>=Calculator!$B$37-0.000001,A6,"")
A7: 5 | B7: 0 | C7: 0 | D7: 0 | E7: 0 | F7: =Calculator!$B$30^(0)*MIN(1,1/(Calculator!$B$29+1)) | G7: =Calculator!$B$30^(1)*MIN(1,2/(Calculator!$B$29+1)) | H7: =Calculator!$B$30^(2)*MIN(1,3/(Calculator!$B$29+1)) | I7: =Calculator!$B$30^(3)*MIN(1,4/(Calculator!$B$29+1)) | J7: =Calculator!$B$30^(4)*MIN(1,5/(Calculator!$B$29+1)) | K7: =Calculator!$B$30^(5)*MIN(1,6/(Calculator!$B$29+1)) | L7: =Calculator!$B$30^(6)*MIN(1,7/(Calculator!$B$29+1)) | M7: =Calculator!$B$30^(7)*MIN(1,8/(Calculator!$B$29+1)) | N7: =Calculator!$B$31*SUM(B7:M7) | O7: =IF(N7>=Calculator!$B$37-0.000001,A7,"")
A8: 6 | B8: 0 | C8: 0 | D8: 0 | E8: 0 | F8: 0 | G8: =Calculator!$B$30^(0)*MIN(1,1/(Calculator!$B$29+1)) | H8: =Calculator!$B$30^(1)*MIN(1,2/(Calculator!$B$29+1)) | I8: =Calculator!$B$30^(2)*MIN(1,3/(Calculator!$B$29+1)) | J8: =Calculator!$B$30^(3)*MIN(1,4/(Calculator!$B$29+1)) | K8: =Calculator!$B$30^(4)*MIN(1,5/(Calculator!$B$29+1)) | L8: =Calculator!$B$30^(5)*MIN(1,6/(Calculator!$B$29+1)) | M8: =Calculator!$B$30^(6)*MIN(1,7/(Calculator!$B$29+1)) | N8: =Calculator!$B$31*SUM(B8:M8) | O8: =IF(N8>=Calculator!$B$37-0.000001,A8,"")
A9: 7 | B9: 0 | C9: 0 | D9: 0 | E9: 0 | F9: 0 | G9: 0 | H9: =Calculator!$B$30^(0)*MIN(1,1/(Calculator!$B$29+1)) | I9: =Calculator!$B$30^(1)*MIN(1,2/(Calculator!$B$29+1)) | J9: =Calculator!$B$30^(2)*MIN(1,3/(Calculator!$B$29+1)) | K9: =Calculator!$B$30^(3)*MIN(1,4/(Calculator!$B$29+1)) | L9: =Calculator!$B$30^(4)*MIN(1,5/(Calculator!$B$29+1)) | M9: =Calculator!$B$30^(5)*MIN(1,6/(Calculator!$B$29+1)) | N9: =Calculator!$B$31*SUM(B9:M9) | O9: =IF(N9>=Calculator!$B$37-0.000001,A9,"")
A10: 8 | B10: 0 | C10: 0 | D10: 0 | E10: 0 | F10: 0 | G10: 0 | H10: 0 | I10: =Calculator!$B$30^(0)*MIN(1,1/(Calculator!$B$29+1)) | J10: =Calculator!$B$30^(1)*MIN(1,2/(Calculator!$B$29+1)) | K10: =Calculator!$B$30^(2)*MIN(1,3/(Calculator!$B$29+1)) | L10: =Calculator!$B$30^(3)*MIN(1,4/(Calculator!$B$29+1)) | M10: =Calculator!$B$30^(4)*MIN(1,5/(Calculator!$B$29+1)) | N10: =Calculator!$B$31*SUM(B10:M10) | O10: =IF(N10>=Calculator!$B$37-0.000001,A10,"")
A11: 9 | B11: 0 | C11: 0 | D11: 0 | E11: 0 | F11: 0 | G11: 0 | H11: 0 | I11: 0 | J11: =Calculator!$B$30^(0)*MIN(1,1/(Calculator!$B$29+1)) | K11: =Calculator!$B$30^(1)*MIN(1,2/(Calculator!$B$29+1)) | L11: =Calculator!$B$30^(2)*MIN(1,3/(Calculator!$B$29+1)) | M11: =Calculator!$B$30^(3)*MIN(1,4/(Calculator!$B$29+1)) | N11: =Calculator!$B$31*SUM(B11:M11) | O11: =IF(N11>=Calculator!$B$37-0.000001,A11,"")
A12: 10 | B12: 0 | C12: 0 | D12: 0 | E12: 0 | F12: 0 | G12: 0 | H12: 0 | I12: 0 | J12: 0 | K12: =Calculator!$B$30^(0)*MIN(1,1/(Calculator!$B$29+1)) | L12: =Calculator!$B$30^(1)*MIN(1,2/(Calculator!$B$29+1)) | M12: =Calculator!$B$30^(2)*MIN(1,3/(Calculator!$B$29+1)) | N12: =Calculator!$B$31*SUM(B12:M12) | O12: =IF(N12>=Calculator!$B$37-0.000001,A12,"")
A13: 11 | B13: 0 | C13: 0 | D13: 0 | E13: 0 | F13: 0 | G13: 0 | H13: 0 | I13: 0 | J13: 0 | K13: 0 | L13: =Calculator!$B$30^(0)*MIN(1,1/(Calculator!$B$29+1)) | M13: =Calculator!$B$30^(1)*MIN(1,2/(Calculator!$B$29+1)) | N13: =Calculator!$B$31*SUM(B13:M13) | O13: =IF(N13>=Calculator!$B$37-0.000001,A13,"")
A14: 12 | B14: 0 | C14: 0 | D14: 0 | E14: 0 | F14: 0 | G14: 0 | H14: 0 | I14: 0 | J14: 0 | K14: 0 | L14: 0 | M14: =Calculator!$B$30^(0)*MIN(1,1/(Calculator!$B$29+1)) | N14: =Calculator!$B$31*SUM(B14:M14) | O14: =IF(N14>=Calculator!$B$37-0.000001,A14,"")

Sheet Monthly
A1: Month | B1: Hired | C1: AEs (heads) | D1: Effective AEs | E1: Bookings capacity | F1: Planned bookings | G1: Pipeline to create | H1: Cycle weight | I1: Eff. row 1 | J1: Eff. row 2 | K1: Eff. row 3 | L1: Eff. row 4 | M1: Eff. row 5 | N1: Eff. row 6 | O1: Heads row 1 | P1: Heads row 2 | Q1: Heads row 3 | R1: Heads row 4 | S1: Heads row 5 | T1: Heads row 6
A2: 1 | B2: =SUMPRODUCT((Calculator!$E$13:$E$18=A2)*Calculator!$D$13:$D$18) | C2: =MAX(0,Calculator!$B$7)*Calculator!$B$30^(A2-1)+SUM(O2:T2) | D2: =MAX(0,Calculator!$B$7)*Calculator!$B$30^(A2-1)+SUM(I2:N2) | E2: =D2*Calculator!$B$31 | F2: =IF(Calculator!$B$26="The team's bookings capacity",E2,MAX(0,Calculator!$B$21)/12) | G2: =IF(Calculator!$B$32>0,INDEX($F$2:$F$13,MIN(A2+Calculator!$B$33,12))/Calculator!$B$32,"-") | H2: =MAX(0,MIN(1,MAX(0,Calculator!$B$24)-(A2-1))) | I2: =IF(AND(Calculator!$D$13>0,A2>=Calculator!$E$13),Calculator!$D$13*INDEX('Ramp grid'!$A$3:$M$14,Calculator!$E$13,A2+1),0) | J2: =IF(AND(Calculator!$D$14>0,A2>=Calculator!$E$14),Calculator!$D$14*INDEX('Ramp grid'!$A$3:$M$14,Calculator!$E$14,A2+1),0) | K2: =IF(AND(Calculator!$D$15>0,A2>=Calculator!$E$15),Calculator!$D$15*INDEX('Ramp grid'!$A$3:$M$14,Calculator!$E$15,A2+1),0) | L2: =IF(AND(Calculator!$D$16>0,A2>=Calculator!$E$16),Calculator!$D$16*INDEX('Ramp grid'!$A$3:$M$14,Calculator!$E$16,A2+1),0) | M2: =IF(AND(Calculator!$D$17>0,A2>=Calculator!$E$17),Calculator!$D$17*INDEX('Ramp grid'!$A$3:$M$14,Calculator!$E$17,A2+1),0) | N2: =IF(AND(Calculator!$D$18>0,A2>=Calculator!$E$18),Calculator!$D$18*INDEX('Ramp grid'!$A$3:$M$14,Calculator!$E$18,A2+1),0) | O2: =IF(AND(Calculator!$D$13>0,A2>=Calculator!$E$13),Calculator!$D$13*Calculator!$B$30^(A2-Calculator!$E$13),0) | P2: =IF(AND(Calculator!$D$14>0,A2>=Calculator!$E$14),Calculator!$D$14*Calculator!$B$30^(A2-Calculator!$E$14),0) | Q2: =IF(AND(Calculator!$D$15>0,A2>=Calculator!$E$15),Calculator!$D$15*Calculator!$B$30^(A2-Calculator!$E$15),0) | R2: =IF(AND(Calculator!$D$16>0,A2>=Calculator!$E$16),Calculator!$D$16*Calculator!$B$30^(A2-Calculator!$E$16),0) | S2: =IF(AND(Calculator!$D$17>0,A2>=Calculator!$E$17),Calculator!$D$17*Calculator!$B$30^(A2-Calculator!$E$17),0) | T2: =IF(AND(Calculator!$D$18>0,A2>=Calculator!$E$18),Calculator!$D$18*Calculator!$B$30^(A2-Calculator!$E$18),0)
A3: 2 | B3: =SUMPRODUCT((Calculator!$E$13:$E$18=A3)*Calculator!$D$13:$D$18) | C3: =MAX(0,Calculator!$B$7)*Calculator!$B$30^(A3-1)+SUM(O3:T3) | D3: =MAX(0,Calculator!$B$7)*Calculator!$B$30^(A3-1)+SUM(I3:N3) | E3: =D3*Calculator!$B$31 | F3: =IF(Calculator!$B$26="The team's bookings capacity",E3,MAX(0,Calculator!$B$21)/12) | G3: =IF(Calculator!$B$32>0,INDEX($F$2:$F$13,MIN(A3+Calculator!$B$33,12))/Calculator!$B$32,"-") | H3: =MAX(0,MIN(1,MAX(0,Calculator!$B$24)-(A3-1))) | I3: =IF(AND(Calculator!$D$13>0,A3>=Calculator!$E$13),Calculator!$D$13*INDEX('Ramp grid'!$A$3:$M$14,Calculator!$E$13,A3+1),0) | J3: =IF(AND(Calculator!$D$14>0,A3>=Calculator!$E$14),Calculator!$D$14*INDEX('Ramp grid'!$A$3:$M$14,Calculator!$E$14,A3+1),0) | K3: =IF(AND(Calculator!$D$15>0,A3>=Calculator!$E$15),Calculator!$D$15*INDEX('Ramp grid'!$A$3:$M$14,Calculator!$E$15,A3+1),0) | L3: =IF(AND(Calculator!$D$16>0,A3>=Calculator!$E$16),Calculator!$D$16*INDEX('Ramp grid'!$A$3:$M$14,Calculator!$E$16,A3+1),0) | M3: =IF(AND(Calculator!$D$17>0,A3>=Calculator!$E$17),Calculator!$D$17*INDEX('Ramp grid'!$A$3:$M$14,Calculator!$E$17,A3+1),0) | N3: =IF(AND(Calculator!$D$18>0,A3>=Calculator!$E$18),Calculator!$D$18*INDEX('Ramp grid'!$A$3:$M$14,Calculator!$E$18,A3+1),0) | O3: =IF(AND(Calculator!$D$13>0,A3>=Calculator!$E$13),Calculator!$D$13*Calculator!$B$30^(A3-Calculator!$E$13),0) | P3: =IF(AND(Calculator!$D$14>0,A3>=Calculator!$E$14),Calculator!$D$14*Calculator!$B$30^(A3-Calculator!$E$14),0) | Q3: =IF(AND(Calculator!$D$15>0,A3>=Calculator!$E$15),Calculator!$D$15*Calculator!$B$30^(A3-Calculator!$E$15),0) | R3: =IF(AND(Calculator!$D$16>0,A3>=Calculator!$E$16),Calculator!$D$16*Calculator!$B$30^(A3-Calculator!$E$16),0) | S3: =IF(AND(Calculator!$D$17>0,A3>=Calculator!$E$17),Calculator!$D$17*Calculator!$B$30^(A3-Calculator!$E$17),0) | T3: =IF(AND(Calculator!$D$18>0,A3>=Calculator!$E$18),Calculator!$D$18*Calculator!$B$30^(A3-Calculator!$E$18),0)
A4: 3 | B4: =SUMPRODUCT((Calculator!$E$13:$E$18=A4)*Calculator!$D$13:$D$18) | C4: =MAX(0,Calculator!$B$7)*Calculator!$B$30^(A4-1)+SUM(O4:T4) | D4: =MAX(0,Calculator!$B$7)*Calculator!$B$30^(A4-1)+SUM(I4:N4) | E4: =D4*Calculator!$B$31 | F4: =IF(Calculator!$B$26="The team's bookings capacity",E4,MAX(0,Calculator!$B$21)/12) | G4: =IF(Calculator!$B$32>0,INDEX($F$2:$F$13,MIN(A4+Calculator!$B$33,12))/Calculator!$B$32,"-") | H4: =MAX(0,MIN(1,MAX(0,Calculator!$B$24)-(A4-1))) | I4: =IF(AND(Calculator!$D$13>0,A4>=Calculator!$E$13),Calculator!$D$13*INDEX('Ramp grid'!$A$3:$M$14,Calculator!$E$13,A4+1),0) | J4: =IF(AND(Calculator!$D$14>0,A4>=Calculator!$E$14),Calculator!$D$14*INDEX('Ramp grid'!$A$3:$M$14,Calculator!$E$14,A4+1),0) | K4: =IF(AND(Calculator!$D$15>0,A4>=Calculator!$E$15),Calculator!$D$15*INDEX('Ramp grid'!$A$3:$M$14,Calculator!$E$15,A4+1),0) | L4: =IF(AND(Calculator!$D$16>0,A4>=Calculator!$E$16),Calculator!$D$16*INDEX('Ramp grid'!$A$3:$M$14,Calculator!$E$16,A4+1),0) | M4: =IF(AND(Calculator!$D$17>0,A4>=Calculator!$E$17),Calculator!$D$17*INDEX('Ramp grid'!$A$3:$M$14,Calculator!$E$17,A4+1),0) | N4: =IF(AND(Calculator!$D$18>0,A4>=Calculator!$E$18),Calculator!$D$18*INDEX('Ramp grid'!$A$3:$M$14,Calculator!$E$18,A4+1),0) | O4: =IF(AND(Calculator!$D$13>0,A4>=Calculator!$E$13),Calculator!$D$13*Calculator!$B$30^(A4-Calculator!$E$13),0) | P4: =IF(AND(Calculator!$D$14>0,A4>=Calculator!$E$14),Calculator!$D$14*Calculator!$B$30^(A4-Calculator!$E$14),0) | Q4: =IF(AND(Calculator!$D$15>0,A4>=Calculator!$E$15),Calculator!$D$15*Calculator!$B$30^(A4-Calculator!$E$15),0) | R4: =IF(AND(Calculator!$D$16>0,A4>=Calculator!$E$16),Calculator!$D$16*Calculator!$B$30^(A4-Calculator!$E$16),0) | S4: =IF(AND(Calculator!$D$17>0,A4>=Calculator!$E$17),Calculator!$D$17*Calculator!$B$30^(A4-Calculator!$E$17),0) | T4: =IF(AND(Calculator!$D$18>0,A4>=Calculator!$E$18),Calculator!$D$18*Calculator!$B$30^(A4-Calculator!$E$18),0)
A5: 4 | B5: =SUMPRODUCT((Calculator!$E$13:$E$18=A5)*Calculator!$D$13:$D$18) | C5: =MAX(0,Calculator!$B$7)*Calculator!$B$30^(A5-1)+SUM(O5:T5) | D5: =MAX(0,Calculator!$B$7)*Calculator!$B$30^(A5-1)+SUM(I5:N5) | E5: =D5*Calculator!$B$31 | F5: =IF(Calculator!$B$26="The team's bookings capacity",E5,MAX(0,Calculator!$B$21)/12) | G5: =IF(Calculator!$B$32>0,INDEX($F$2:$F$13,MIN(A5+Calculator!$B$33,12))/Calculator!$B$32,"-") | H5: =MAX(0,MIN(1,MAX(0,Calculator!$B$24)-(A5-1))) | I5: =IF(AND(Calculator!$D$13>0,A5>=Calculator!$E$13),Calculator!$D$13*INDEX('Ramp grid'!$A$3:$M$14,Calculator!$E$13,A5+1),0) | J5: =IF(AND(Calculator!$D$14>0,A5>=Calculator!$E$14),Calculator!$D$14*INDEX('Ramp grid'!$A$3:$M$14,Calculator!$E$14,A5+1),0) | K5: =IF(AND(Calculator!$D$15>0,A5>=Calculator!$E$15),Calculator!$D$15*INDEX('Ramp grid'!$A$3:$M$14,Calculator!$E$15,A5+1),0) | L5: =IF(AND(Calculator!$D$16>0,A5>=Calculator!$E$16),Calculator!$D$16*INDEX('Ramp grid'!$A$3:$M$14,Calculator!$E$16,A5+1),0) | M5: =IF(AND(Calculator!$D$17>0,A5>=Calculator!$E$17),Calculator!$D$17*INDEX('Ramp grid'!$A$3:$M$14,Calculator!$E$17,A5+1),0) | N5: =IF(AND(Calculator!$D$18>0,A5>=Calculator!$E$18),Calculator!$D$18*INDEX('Ramp grid'!$A$3:$M$14,Calculator!$E$18,A5+1),0) | O5: =IF(AND(Calculator!$D$13>0,A5>=Calculator!$E$13),Calculator!$D$13*Calculator!$B$30^(A5-Calculator!$E$13),0) | P5: =IF(AND(Calculator!$D$14>0,A5>=Calculator!$E$14),Calculator!$D$14*Calculator!$B$30^(A5-Calculator!$E$14),0) | Q5: =IF(AND(Calculator!$D$15>0,A5>=Calculator!$E$15),Calculator!$D$15*Calculator!$B$30^(A5-Calculator!$E$15),0) | R5: =IF(AND(Calculator!$D$16>0,A5>=Calculator!$E$16),Calculator!$D$16*Calculator!$B$30^(A5-Calculator!$E$16),0) | S5: =IF(AND(Calculator!$D$17>0,A5>=Calculator!$E$17),Calculator!$D$17*Calculator!$B$30^(A5-Calculator!$E$17),0) | T5: =IF(AND(Calculator!$D$18>0,A5>=Calculator!$E$18),Calculator!$D$18*Calculator!$B$30^(A5-Calculator!$E$18),0)
A6: 5 | B6: =SUMPRODUCT((Calculator!$E$13:$E$18=A6)*Calculator!$D$13:$D$18) | C6: =MAX(0,Calculator!$B$7)*Calculator!$B$30^(A6-1)+SUM(O6:T6) | D6: =MAX(0,Calculator!$B$7)*Calculator!$B$30^(A6-1)+SUM(I6:N6) | E6: =D6*Calculator!$B$31 | F6: =IF(Calculator!$B$26="The team's bookings capacity",E6,MAX(0,Calculator!$B$21)/12) | G6: =IF(Calculator!$B$32>0,INDEX($F$2:$F$13,MIN(A6+Calculator!$B$33,12))/Calculator!$B$32,"-") | H6: =MAX(0,MIN(1,MAX(0,Calculator!$B$24)-(A6-1))) | I6: =IF(AND(Calculator!$D$13>0,A6>=Calculator!$E$13),Calculator!$D$13*INDEX('Ramp grid'!$A$3:$M$14,Calculator!$E$13,A6+1),0) | J6: =IF(AND(Calculator!$D$14>0,A6>=Calculator!$E$14),Calculator!$D$14*INDEX('Ramp grid'!$A$3:$M$14,Calculator!$E$14,A6+1),0) | K6: =IF(AND(Calculator!$D$15>0,A6>=Calculator!$E$15),Calculator!$D$15*INDEX('Ramp grid'!$A$3:$M$14,Calculator!$E$15,A6+1),0) | L6: =IF(AND(Calculator!$D$16>0,A6>=Calculator!$E$16),Calculator!$D$16*INDEX('Ramp grid'!$A$3:$M$14,Calculator!$E$16,A6+1),0) | M6: =IF(AND(Calculator!$D$17>0,A6>=Calculator!$E$17),Calculator!$D$17*INDEX('Ramp grid'!$A$3:$M$14,Calculator!$E$17,A6+1),0) | N6: =IF(AND(Calculator!$D$18>0,A6>=Calculator!$E$18),Calculator!$D$18*INDEX('Ramp grid'!$A$3:$M$14,Calculator!$E$18,A6+1),0) | O6: =IF(AND(Calculator!$D$13>0,A6>=Calculator!$E$13),Calculator!$D$13*Calculator!$B$30^(A6-Calculator!$E$13),0) | P6: =IF(AND(Calculator!$D$14>0,A6>=Calculator!$E$14),Calculator!$D$14*Calculator!$B$30^(A6-Calculator!$E$14),0) | Q6: =IF(AND(Calculator!$D$15>0,A6>=Calculator!$E$15),Calculator!$D$15*Calculator!$B$30^(A6-Calculator!$E$15),0) | R6: =IF(AND(Calculator!$D$16>0,A6>=Calculator!$E$16),Calculator!$D$16*Calculator!$B$30^(A6-Calculator!$E$16),0) | S6: =IF(AND(Calculator!$D$17>0,A6>=Calculator!$E$17),Calculator!$D$17*Calculator!$B$30^(A6-Calculator!$E$17),0) | T6: =IF(AND(Calculator!$D$18>0,A6>=Calculator!$E$18),Calculator!$D$18*Calculator!$B$30^(A6-Calculator!$E$18),0)
A7: 6 | B7: =SUMPRODUCT((Calculator!$E$13:$E$18=A7)*Calculator!$D$13:$D$18) | C7: =MAX(0,Calculator!$B$7)*Calculator!$B$30^(A7-1)+SUM(O7:T7) | D7: =MAX(0,Calculator!$B$7)*Calculator!$B$30^(A7-1)+SUM(I7:N7) | E7: =D7*Calculator!$B$31 | F7: =IF(Calculator!$B$26="The team's bookings capacity",E7,MAX(0,Calculator!$B$21)/12) | G7: =IF(Calculator!$B$32>0,INDEX($F$2:$F$13,MIN(A7+Calculator!$B$33,12))/Calculator!$B$32,"-") | H7: =MAX(0,MIN(1,MAX(0,Calculator!$B$24)-(A7-1))) | I7: =IF(AND(Calculator!$D$13>0,A7>=Calculator!$E$13),Calculator!$D$13*INDEX('Ramp grid'!$A$3:$M$14,Calculator!$E$13,A7+1),0) | J7: =IF(AND(Calculator!$D$14>0,A7>=Calculator!$E$14),Calculator!$D$14*INDEX('Ramp grid'!$A$3:$M$14,Calculator!$E$14,A7+1),0) | K7: =IF(AND(Calculator!$D$15>0,A7>=Calculator!$E$15),Calculator!$D$15*INDEX('Ramp grid'!$A$3:$M$14,Calculator!$E$15,A7+1),0) | L7: =IF(AND(Calculator!$D$16>0,A7>=Calculator!$E$16),Calculator!$D$16*INDEX('Ramp grid'!$A$3:$M$14,Calculator!$E$16,A7+1),0) | M7: =IF(AND(Calculator!$D$17>0,A7>=Calculator!$E$17),Calculator!$D$17*INDEX('Ramp grid'!$A$3:$M$14,Calculator!$E$17,A7+1),0) | N7: =IF(AND(Calculator!$D$18>0,A7>=Calculator!$E$18),Calculator!$D$18*INDEX('Ramp grid'!$A$3:$M$14,Calculator!$E$18,A7+1),0) | O7: =IF(AND(Calculator!$D$13>0,A7>=Calculator!$E$13),Calculator!$D$13*Calculator!$B$30^(A7-Calculator!$E$13),0) | P7: =IF(AND(Calculator!$D$14>0,A7>=Calculator!$E$14),Calculator!$D$14*Calculator!$B$30^(A7-Calculator!$E$14),0) | Q7: =IF(AND(Calculator!$D$15>0,A7>=Calculator!$E$15),Calculator!$D$15*Calculator!$B$30^(A7-Calculator!$E$15),0) | R7: =IF(AND(Calculator!$D$16>0,A7>=Calculator!$E$16),Calculator!$D$16*Calculator!$B$30^(A7-Calculator!$E$16),0) | S7: =IF(AND(Calculator!$D$17>0,A7>=Calculator!$E$17),Calculator!$D$17*Calculator!$B$30^(A7-Calculator!$E$17),0) | T7: =IF(AND(Calculator!$D$18>0,A7>=Calculator!$E$18),Calculator!$D$18*Calculator!$B$30^(A7-Calculator!$E$18),0)
A8: 7 | B8: =SUMPRODUCT((Calculator!$E$13:$E$18=A8)*Calculator!$D$13:$D$18) | C8: =MAX(0,Calculator!$B$7)*Calculator!$B$30^(A8-1)+SUM(O8:T8) | D8: =MAX(0,Calculator!$B$7)*Calculator!$B$30^(A8-1)+SUM(I8:N8) | E8: =D8*Calculator!$B$31 | F8: =IF(Calculator!$B$26="The team's bookings capacity",E8,MAX(0,Calculator!$B$21)/12) | G8: =IF(Calculator!$B$32>0,INDEX($F$2:$F$13,MIN(A8+Calculator!$B$33,12))/Calculator!$B$32,"-") | H8: =MAX(0,MIN(1,MAX(0,Calculator!$B$24)-(A8-1))) | I8: =IF(AND(Calculator!$D$13>0,A8>=Calculator!$E$13),Calculator!$D$13*INDEX('Ramp grid'!$A$3:$M$14,Calculator!$E$13,A8+1),0) | J8: =IF(AND(Calculator!$D$14>0,A8>=Calculator!$E$14),Calculator!$D$14*INDEX('Ramp grid'!$A$3:$M$14,Calculator!$E$14,A8+1),0) | K8: =IF(AND(Calculator!$D$15>0,A8>=Calculator!$E$15),Calculator!$D$15*INDEX('Ramp grid'!$A$3:$M$14,Calculator!$E$15,A8+1),0) | L8: =IF(AND(Calculator!$D$16>0,A8>=Calculator!$E$16),Calculator!$D$16*INDEX('Ramp grid'!$A$3:$M$14,Calculator!$E$16,A8+1),0) | M8: =IF(AND(Calculator!$D$17>0,A8>=Calculator!$E$17),Calculator!$D$17*INDEX('Ramp grid'!$A$3:$M$14,Calculator!$E$17,A8+1),0) | N8: =IF(AND(Calculator!$D$18>0,A8>=Calculator!$E$18),Calculator!$D$18*INDEX('Ramp grid'!$A$3:$M$14,Calculator!$E$18,A8+1),0) | O8: =IF(AND(Calculator!$D$13>0,A8>=Calculator!$E$13),Calculator!$D$13*Calculator!$B$30^(A8-Calculator!$E$13),0) | P8: =IF(AND(Calculator!$D$14>0,A8>=Calculator!$E$14),Calculator!$D$14*Calculator!$B$30^(A8-Calculator!$E$14),0) | Q8: =IF(AND(Calculator!$D$15>0,A8>=Calculator!$E$15),Calculator!$D$15*Calculator!$B$30^(A8-Calculator!$E$15),0) | R8: =IF(AND(Calculator!$D$16>0,A8>=Calculator!$E$16),Calculator!$D$16*Calculator!$B$30^(A8-Calculator!$E$16),0) | S8: =IF(AND(Calculator!$D$17>0,A8>=Calculator!$E$17),Calculator!$D$17*Calculator!$B$30^(A8-Calculator!$E$17),0) | T8: =IF(AND(Calculator!$D$18>0,A8>=Calculator!$E$18),Calculator!$D$18*Calculator!$B$30^(A8-Calculator!$E$18),0)
A9: 8 | B9: =SUMPRODUCT((Calculator!$E$13:$E$18=A9)*Calculator!$D$13:$D$18) | C9: =MAX(0,Calculator!$B$7)*Calculator!$B$30^(A9-1)+SUM(O9:T9) | D9: =MAX(0,Calculator!$B$7)*Calculator!$B$30^(A9-1)+SUM(I9:N9) | E9: =D9*Calculator!$B$31 | F9: =IF(Calculator!$B$26="The team's bookings capacity",E9,MAX(0,Calculator!$B$21)/12) | G9: =IF(Calculator!$B$32>0,INDEX($F$2:$F$13,MIN(A9+Calculator!$B$33,12))/Calculator!$B$32,"-") | H9: =MAX(0,MIN(1,MAX(0,Calculator!$B$24)-(A9-1))) | I9: =IF(AND(Calculator!$D$13>0,A9>=Calculator!$E$13),Calculator!$D$13*INDEX('Ramp grid'!$A$3:$M$14,Calculator!$E$13,A9+1),0) | J9: =IF(AND(Calculator!$D$14>0,A9>=Calculator!$E$14),Calculator!$D$14*INDEX('Ramp grid'!$A$3:$M$14,Calculator!$E$14,A9+1),0) | K9: =IF(AND(Calculator!$D$15>0,A9>=Calculator!$E$15),Calculator!$D$15*INDEX('Ramp grid'!$A$3:$M$14,Calculator!$E$15,A9+1),0) | L9: =IF(AND(Calculator!$D$16>0,A9>=Calculator!$E$16),Calculator!$D$16*INDEX('Ramp grid'!$A$3:$M$14,Calculator!$E$16,A9+1),0) | M9: =IF(AND(Calculator!$D$17>0,A9>=Calculator!$E$17),Calculator!$D$17*INDEX('Ramp grid'!$A$3:$M$14,Calculator!$E$17,A9+1),0) | N9: =IF(AND(Calculator!$D$18>0,A9>=Calculator!$E$18),Calculator!$D$18*INDEX('Ramp grid'!$A$3:$M$14,Calculator!$E$18,A9+1),0) | O9: =IF(AND(Calculator!$D$13>0,A9>=Calculator!$E$13),Calculator!$D$13*Calculator!$B$30^(A9-Calculator!$E$13),0) | P9: =IF(AND(Calculator!$D$14>0,A9>=Calculator!$E$14),Calculator!$D$14*Calculator!$B$30^(A9-Calculator!$E$14),0) | Q9: =IF(AND(Calculator!$D$15>0,A9>=Calculator!$E$15),Calculator!$D$15*Calculator!$B$30^(A9-Calculator!$E$15),0) | R9: =IF(AND(Calculator!$D$16>0,A9>=Calculator!$E$16),Calculator!$D$16*Calculator!$B$30^(A9-Calculator!$E$16),0) | S9: =IF(AND(Calculator!$D$17>0,A9>=Calculator!$E$17),Calculator!$D$17*Calculator!$B$30^(A9-Calculator!$E$17),0) | T9: =IF(AND(Calculator!$D$18>0,A9>=Calculator!$E$18),Calculator!$D$18*Calculator!$B$30^(A9-Calculator!$E$18),0)
A10: 9 | B10: =SUMPRODUCT((Calculator!$E$13:$E$18=A10)*Calculator!$D$13:$D$18) | C10: =MAX(0,Calculator!$B$7)*Calculator!$B$30^(A10-1)+SUM(O10:T10) | D10: =MAX(0,Calculator!$B$7)*Calculator!$B$30^(A10-1)+SUM(I10:N10) | E10: =D10*Calculator!$B$31 | F10: =IF(Calculator!$B$26="The team's bookings capacity",E10,MAX(0,Calculator!$B$21)/12) | G10: =IF(Calculator!$B$32>0,INDEX($F$2:$F$13,MIN(A10+Calculator!$B$33,12))/Calculator!$B$32,"-") | H10: =MAX(0,MIN(1,MAX(0,Calculator!$B$24)-(A10-1))) | I10: =IF(AND(Calculator!$D$13>0,A10>=Calculator!$E$13),Calculator!$D$13*INDEX('Ramp grid'!$A$3:$M$14,Calculator!$E$13,A10+1),0) | J10: =IF(AND(Calculator!$D$14>0,A10>=Calculator!$E$14),Calculator!$D$14*INDEX('Ramp grid'!$A$3:$M$14,Calculator!$E$14,A10+1),0) | K10: =IF(AND(Calculator!$D$15>0,A10>=Calculator!$E$15),Calculator!$D$15*INDEX('Ramp grid'!$A$3:$M$14,Calculator!$E$15,A10+1),0) | L10: =IF(AND(Calculator!$D$16>0,A10>=Calculator!$E$16),Calculator!$D$16*INDEX('Ramp grid'!$A$3:$M$14,Calculator!$E$16,A10+1),0) | M10: =IF(AND(Calculator!$D$17>0,A10>=Calculator!$E$17),Calculator!$D$17*INDEX('Ramp grid'!$A$3:$M$14,Calculator!$E$17,A10+1),0) | N10: =IF(AND(Calculator!$D$18>0,A10>=Calculator!$E$18),Calculator!$D$18*INDEX('Ramp grid'!$A$3:$M$14,Calculator!$E$18,A10+1),0) | O10: =IF(AND(Calculator!$D$13>0,A10>=Calculator!$E$13),Calculator!$D$13*Calculator!$B$30^(A10-Calculator!$E$13),0) | P10: =IF(AND(Calculator!$D$14>0,A10>=Calculator!$E$14),Calculator!$D$14*Calculator!$B$30^(A10-Calculator!$E$14),0) | Q10: =IF(AND(Calculator!$D$15>0,A10>=Calculator!$E$15),Calculator!$D$15*Calculator!$B$30^(A10-Calculator!$E$15),0) | R10: =IF(AND(Calculator!$D$16>0,A10>=Calculator!$E$16),Calculator!$D$16*Calculator!$B$30^(A10-Calculator!$E$16),0) | S10: =IF(AND(Calculator!$D$17>0,A10>=Calculator!$E$17),Calculator!$D$17*Calculator!$B$30^(A10-Calculator!$E$17),0) | T10: =IF(AND(Calculator!$D$18>0,A10>=Calculator!$E$18),Calculator!$D$18*Calculator!$B$30^(A10-Calculator!$E$18),0)
A11: 10 | B11: =SUMPRODUCT((Calculator!$E$13:$E$18=A11)*Calculator!$D$13:$D$18) | C11: =MAX(0,Calculator!$B$7)*Calculator!$B$30^(A11-1)+SUM(O11:T11) | D11: =MAX(0,Calculator!$B$7)*Calculator!$B$30^(A11-1)+SUM(I11:N11) | E11: =D11*Calculator!$B$31 | F11: =IF(Calculator!$B$26="The team's bookings capacity",E11,MAX(0,Calculator!$B$21)/12) | G11: =IF(Calculator!$B$32>0,INDEX($F$2:$F$13,MIN(A11+Calculator!$B$33,12))/Calculator!$B$32,"-") | H11: =MAX(0,MIN(1,MAX(0,Calculator!$B$24)-(A11-1))) | I11: =IF(AND(Calculator!$D$13>0,A11>=Calculator!$E$13),Calculator!$D$13*INDEX('Ramp grid'!$A$3:$M$14,Calculator!$E$13,A11+1),0) | J11: =IF(AND(Calculator!$D$14>0,A11>=Calculator!$E$14),Calculator!$D$14*INDEX('Ramp grid'!$A$3:$M$14,Calculator!$E$14,A11+1),0) | K11: =IF(AND(Calculator!$D$15>0,A11>=Calculator!$E$15),Calculator!$D$15*INDEX('Ramp grid'!$A$3:$M$14,Calculator!$E$15,A11+1),0) | L11: =IF(AND(Calculator!$D$16>0,A11>=Calculator!$E$16),Calculator!$D$16*INDEX('Ramp grid'!$A$3:$M$14,Calculator!$E$16,A11+1),0) | M11: =IF(AND(Calculator!$D$17>0,A11>=Calculator!$E$17),Calculator!$D$17*INDEX('Ramp grid'!$A$3:$M$14,Calculator!$E$17,A11+1),0) | N11: =IF(AND(Calculator!$D$18>0,A11>=Calculator!$E$18),Calculator!$D$18*INDEX('Ramp grid'!$A$3:$M$14,Calculator!$E$18,A11+1),0) | O11: =IF(AND(Calculator!$D$13>0,A11>=Calculator!$E$13),Calculator!$D$13*Calculator!$B$30^(A11-Calculator!$E$13),0) | P11: =IF(AND(Calculator!$D$14>0,A11>=Calculator!$E$14),Calculator!$D$14*Calculator!$B$30^(A11-Calculator!$E$14),0) | Q11: =IF(AND(Calculator!$D$15>0,A11>=Calculator!$E$15),Calculator!$D$15*Calculator!$B$30^(A11-Calculator!$E$15),0) | R11: =IF(AND(Calculator!$D$16>0,A11>=Calculator!$E$16),Calculator!$D$16*Calculator!$B$30^(A11-Calculator!$E$16),0) | S11: =IF(AND(Calculator!$D$17>0,A11>=Calculator!$E$17),Calculator!$D$17*Calculator!$B$30^(A11-Calculator!$E$17),0) | T11: =IF(AND(Calculator!$D$18>0,A11>=Calculator!$E$18),Calculator!$D$18*Calculator!$B$30^(A11-Calculator!$E$18),0)
A12: 11 | B12: =SUMPRODUCT((Calculator!$E$13:$E$18=A12)*Calculator!$D$13:$D$18) | C12: =MAX(0,Calculator!$B$7)*Calculator!$B$30^(A12-1)+SUM(O12:T12) | D12: =MAX(0,Calculator!$B$7)*Calculator!$B$30^(A12-1)+SUM(I12:N12) | E12: =D12*Calculator!$B$31 | F12: =IF(Calculator!$B$26="The team's bookings capacity",E12,MAX(0,Calculator!$B$21)/12) | G12: =IF(Calculator!$B$32>0,INDEX($F$2:$F$13,MIN(A12+Calculator!$B$33,12))/Calculator!$B$32,"-") | H12: =MAX(0,MIN(1,MAX(0,Calculator!$B$24)-(A12-1))) | I12: =IF(AND(Calculator!$D$13>0,A12>=Calculator!$E$13),Calculator!$D$13*INDEX('Ramp grid'!$A$3:$M$14,Calculator!$E$13,A12+1),0) | J12: =IF(AND(Calculator!$D$14>0,A12>=Calculator!$E$14),Calculator!$D$14*INDEX('Ramp grid'!$A$3:$M$14,Calculator!$E$14,A12+1),0) | K12: =IF(AND(Calculator!$D$15>0,A12>=Calculator!$E$15),Calculator!$D$15*INDEX('Ramp grid'!$A$3:$M$14,Calculator!$E$15,A12+1),0) | L12: =IF(AND(Calculator!$D$16>0,A12>=Calculator!$E$16),Calculator!$D$16*INDEX('Ramp grid'!$A$3:$M$14,Calculator!$E$16,A12+1),0) | M12: =IF(AND(Calculator!$D$17>0,A12>=Calculator!$E$17),Calculator!$D$17*INDEX('Ramp grid'!$A$3:$M$14,Calculator!$E$17,A12+1),0) | N12: =IF(AND(Calculator!$D$18>0,A12>=Calculator!$E$18),Calculator!$D$18*INDEX('Ramp grid'!$A$3:$M$14,Calculator!$E$18,A12+1),0) | O12: =IF(AND(Calculator!$D$13>0,A12>=Calculator!$E$13),Calculator!$D$13*Calculator!$B$30^(A12-Calculator!$E$13),0) | P12: =IF(AND(Calculator!$D$14>0,A12>=Calculator!$E$14),Calculator!$D$14*Calculator!$B$30^(A12-Calculator!$E$14),0) | Q12: =IF(AND(Calculator!$D$15>0,A12>=Calculator!$E$15),Calculator!$D$15*Calculator!$B$30^(A12-Calculator!$E$15),0) | R12: =IF(AND(Calculator!$D$16>0,A12>=Calculator!$E$16),Calculator!$D$16*Calculator!$B$30^(A12-Calculator!$E$16),0) | S12: =IF(AND(Calculator!$D$17>0,A12>=Calculator!$E$17),Calculator!$D$17*Calculator!$B$30^(A12-Calculator!$E$17),0) | T12: =IF(AND(Calculator!$D$18>0,A12>=Calculator!$E$18),Calculator!$D$18*Calculator!$B$30^(A12-Calculator!$E$18),0)
A13: 12 | B13: =SUMPRODUCT((Calculator!$E$13:$E$18=A13)*Calculator!$D$13:$D$18) | C13: =MAX(0,Calculator!$B$7)*Calculator!$B$30^(A13-1)+SUM(O13:T13) | D13: =MAX(0,Calculator!$B$7)*Calculator!$B$30^(A13-1)+SUM(I13:N13) | E13: =D13*Calculator!$B$31 | F13: =IF(Calculator!$B$26="The team's bookings capacity",E13,MAX(0,Calculator!$B$21)/12) | G13: =IF(Calculator!$B$32>0,INDEX($F$2:$F$13,MIN(A13+Calculator!$B$33,12))/Calculator!$B$32,"-") | H13: =MAX(0,MIN(1,MAX(0,Calculator!$B$24)-(A13-1))) | I13: =IF(AND(Calculator!$D$13>0,A13>=Calculator!$E$13),Calculator!$D$13*INDEX('Ramp grid'!$A$3:$M$14,Calculator!$E$13,A13+1),0) | J13: =IF(AND(Calculator!$D$14>0,A13>=Calculator!$E$14),Calculator!$D$14*INDEX('Ramp grid'!$A$3:$M$14,Calculator!$E$14,A13+1),0) | K13: =IF(AND(Calculator!$D$15>0,A13>=Calculator!$E$15),Calculator!$D$15*INDEX('Ramp grid'!$A$3:$M$14,Calculator!$E$15,A13+1),0) | L13: =IF(AND(Calculator!$D$16>0,A13>=Calculator!$E$16),Calculator!$D$16*INDEX('Ramp grid'!$A$3:$M$14,Calculator!$E$16,A13+1),0) | M13: =IF(AND(Calculator!$D$17>0,A13>=Calculator!$E$17),Calculator!$D$17*INDEX('Ramp grid'!$A$3:$M$14,Calculator!$E$17,A13+1),0) | N13: =IF(AND(Calculator!$D$18>0,A13>=Calculator!$E$18),Calculator!$D$18*INDEX('Ramp grid'!$A$3:$M$14,Calculator!$E$18,A13+1),0) | O13: =IF(AND(Calculator!$D$13>0,A13>=Calculator!$E$13),Calculator!$D$13*Calculator!$B$30^(A13-Calculator!$E$13),0) | P13: =IF(AND(Calculator!$D$14>0,A13>=Calculator!$E$14),Calculator!$D$14*Calculator!$B$30^(A13-Calculator!$E$14),0) | Q13: =IF(AND(Calculator!$D$15>0,A13>=Calculator!$E$15),Calculator!$D$15*Calculator!$B$30^(A13-Calculator!$E$15),0) | R13: =IF(AND(Calculator!$D$16>0,A13>=Calculator!$E$16),Calculator!$D$16*Calculator!$B$30^(A13-Calculator!$E$16),0) | S13: =IF(AND(Calculator!$D$17>0,A13>=Calculator!$E$17),Calculator!$D$17*Calculator!$B$30^(A13-Calculator!$E$17),0) | T13: =IF(AND(Calculator!$D$18>0,A13>=Calculator!$E$18),Calculator!$D$18*Calculator!$B$30^(A13-Calculator!$E$18),0)
A14: Total | B14: =SUM(B2:B13) | D14: =SUM(D2:D13) | E14: =SUM(E2:E13) | G14: =IF(Calculator!$B$32>0,SUM(G2:G13),"-")

Sheet About
A1: Free template by Adlega
A2: Live calculator: https://adlega.com/blog/tools/sales-capacity/
A3: Version: October 2026
A5: This template is a planning aid, not tax, legal or investment advice. Check the numbers with your own advisers before you act on them.
A6: Blue cells on a light yellow background are inputs. Every other number is a live Excel formula that mirrors the web calculator.
A8: Model as in the web calculator: AE output = quota x attainment / 12 per month, linear ramp, attrition as monthly survival, pipeline = bookings / win rate, and bookings due inside one sales cycle must come from pipeline already open today.
A10: Adlega is a financial forecasting and planning app for SaaS founders: https://adlega.com
